BEGIN:VCALENDAR
VERSION:2.0
PRODID:-//Sandals Church - ECPv6.13.0//NONSGML v1.0//EN
CALSCALE:GREGORIAN
METHOD:PUBLISH
X-WR-CALNAME:Sandals Church
X-ORIGINAL-URL:https://sandalschurch.com
X-WR-CALDESC:Events for Sandals Church
REFRESH-INTERVAL;VALUE=DURATION:PT1H
X-Robots-Tag:noindex
X-PUBLISHED-TTL:PT1H
BEGIN:VTIMEZONE
TZID:America/Los_Angeles
BEGIN:DAYLIGHT
TZOFFSETFROM:-0800
TZOFFSETTO:-0700
TZNAME:PDT
DTSTART:20300310T100000
END:DAYLIGHT
BEGIN:STANDARD
TZOFFSETFROM:-0700
TZOFFSETTO:-0800
TZNAME:PST
DTSTART:20301103T090000
END:STANDARD
END:VTIMEZONE
BEGIN:VEVENT
DTSTART;TZID=America/Los_Angeles:20300202T160000
DTEND;TZID=America/Los_Angeles:20300202T160000
DTSTAMP:20260423T023233
CREATED:20260114T203601Z
LAST-MODIFIED:20260114T203619Z
UID:10045542-1896278400-1896278400@sandalschurch.com
SUMMARY:Service
DESCRIPTION:Experience the richness of gathering as a community. It’s a time of depth\, growth\, learning\, and true connection. Through meaningful teachings\, singing\, and shared stories\, we find understanding and inspiration that can reach something deeper within us.
URL:https://sandalschurch.com/event/mnfe-sat-4pm-service/2030-02-02/
LOCATION:Menifee\, 27755 Bradley Rd.\, Menifee\, CA\, 92586\, United States
CATEGORIES:Service
ATTACH;FMTTYPE=image/jpeg:https://sandalschurch.com/wp-content/uploads/2024/10/20230305-WC-SERVICE-JRH-22-scaled.jpg
END:VEVENT
BEGIN:VEVENT
DTSTART;TZID=America/Los_Angeles:20300202T170000
DTEND;TZID=America/Los_Angeles:20300202T181500
DTSTAMP:20260423T023233
CREATED:20260309T232900Z
LAST-MODIFIED:20260309T232915Z
UID:10035603-1896282000-1896286500@sandalschurch.com
SUMMARY:Service
DESCRIPTION:Join us for church! Each service is about 75 minutes with worship and a live sermon from one of our pastors.
URL:https://sandalschurch.com/event/hp-sat-4pm-service-2-3/2030-02-02/
LOCATION:Hunter Park\, 150 Palmyrita Ave\, Riverside\, CA\, 92507\, United States
CATEGORIES:Service
ATTACH;FMTTYPE=image/jpeg:https://sandalschurch.com/wp-content/uploads/2024/02/20230423_HP_SundayMorning_Service_BW-33-scaled.jpg
END:VEVENT
BEGIN:VEVENT
DTSTART;TZID=America/Los_Angeles:20300202T174500
DTEND;TZID=America/Los_Angeles:20300202T174500
DTSTAMP:20260423T023233
CREATED:20260114T204935Z
LAST-MODIFIED:20260114T205027Z
UID:10046328-1896284700-1896284700@sandalschurch.com
SUMMARY:Service
DESCRIPTION:Experience the richness of gathering as a community. It’s a time of depth\, growth\, learning\, and true connection. Through meaningful teachings\, singing\, and shared stories\, we find understanding and inspiration that can reach something deeper within us.
URL:https://sandalschurch.com/event/mnfe-sat-545pm-service/2030-02-02/
LOCATION:Menifee\, 27755 Bradley Rd.\, Menifee\, CA\, 92586\, United States
CATEGORIES:Service
ATTACH;FMTTYPE=image/jpeg:https://sandalschurch.com/wp-content/uploads/2024/10/20230305-WC-SERVICE-JRH-22-scaled.jpg
END:VEVENT
BEGIN:VEVENT
DTSTART;TZID=America/Los_Angeles:20300203T080000
DTEND;TZID=America/Los_Angeles:20300203T080000
DTSTAMP:20260423T023233
CREATED:20241008T161047Z
LAST-MODIFIED:20250407T154219Z
UID:10034988-1896336000-1896336000@sandalschurch.com
SUMMARY:Service
DESCRIPTION:Experience the richness of gathering as a community. It’s a time of depth\, growth\, learning\, and true connection. Through meaningful teachings\, singing\, and shared stories\, we find understanding and inspiration that can reach something deeper within us.
URL:https://sandalschurch.com/event/wc-sun-8am-service/2030-02-03/
LOCATION:Woodcrest\, 17421 Van Buren Blvd\, Riverside\, CA\, 92504\, United States
CATEGORIES:Service
ATTACH;FMTTYPE=image/jpeg:https://sandalschurch.com/wp-content/uploads/2024/10/20230305-WC-SERVICE-JRH-22-scaled.jpg
END:VEVENT
BEGIN:VEVENT
DTSTART;TZID=America/Los_Angeles:20300203T080000
DTEND;TZID=America/Los_Angeles:20300203T080000
DTSTAMP:20260423T023233
CREATED:20241022T040720Z
LAST-MODIFIED:20260325T004606Z
UID:10041191-1896336000-1896336000@sandalschurch.com
SUMMARY:Service
DESCRIPTION:Experience the richness of gathering as a community. It’s a time of depth\, growth\, learning\, and true connection. Through meaningful teachings\, singing\, and shared stories\, we find understanding and inspiration that can reach something deeper within us.
URL:https://sandalschurch.com/event/ev-sun-8am-service/2030-02-03/
LOCATION:East Valley\, 1325 Amethyst St\, Mentone\, 92359\, United States
CATEGORIES:Service
ATTACH;FMTTYPE=image/jpeg:https://sandalschurch.com/wp-content/uploads/2024/10/20230305-WC-SERVICE-JRH-22-scaled.jpg
END:VEVENT
BEGIN:VEVENT
DTSTART;TZID=America/Los_Angeles:20300203T081500
DTEND;TZID=America/Los_Angeles:20300203T081500
DTSTAMP:20260423T023233
CREATED:20260309T232757Z
LAST-MODIFIED:20260309T232813Z
UID:10049116-1896336900-1896336900@sandalschurch.com
SUMMARY:Service
DESCRIPTION:Join us for church! Each service is about 75 minutes with worship and a live sermon from one of our pastors.
URL:https://sandalschurch.com/event/hp-sun-815am-service-3/2030-02-03/
LOCATION:Hunter Park\, 150 Palmyrita Ave\, Riverside\, CA\, 92507\, United States
CATEGORIES:Service
ATTACH;FMTTYPE=image/jpeg:https://sandalschurch.com/wp-content/uploads/2024/02/20230423_HP_SundayMorning_Service_BW-33-scaled.jpg
END:VEVENT
BEGIN:VEVENT
DTSTART;TZID=America/Los_Angeles:20300203T083000
DTEND;TZID=America/Los_Angeles:20300203T083000
DTSTAMP:20260423T023233
CREATED:20250902T224149Z
LAST-MODIFIED:20250902T224204Z
UID:10040425-1896337800-1896337800@sandalschurch.com
SUMMARY:Service
DESCRIPTION:Experience the richness of gathering as a community. It’s a time of depth\, growth\, learning\, and true connection. Through meaningful teachings\, singing\, and shared stories\, we find understanding and inspiration that can reach something deeper within us.
URL:https://sandalschurch.com/event/anah-sun-830am-service/2030-02-03/
LOCATION:Anaheim\, 622 N Gilbert St\, Anaheim\, CA\, 92801\, United States
CATEGORIES:Service
ATTACH;FMTTYPE=image/jpeg:https://sandalschurch.com/wp-content/uploads/2024/10/20230305-WC-SERVICE-JRH-22-scaled.jpg
END:VEVENT
BEGIN:VEVENT
DTSTART;TZID=America/Los_Angeles:20300203T083000
DTEND;TZID=America/Los_Angeles:20300203T083000
DTSTAMP:20260423T023233
CREATED:20260331T201617Z
LAST-MODIFIED:20260331T201636Z
UID:10050377-1896337800-1896337800@sandalschurch.com
SUMMARY:Service
DESCRIPTION:Experience the richness of gathering as a community. It’s a time of depth\, growth\, learning\, and true connection. Through meaningful teachings\, singing\, and shared stories\, we find understanding and inspiration that can reach something deeper within us.
URL:https://sandalschurch.com/event/fsno-sun-830am-service/2030-02-03/
LOCATION:Fresno\, 405 W Lincoln Ave\, Fresno\, CA\, 93706\, United States
CATEGORIES:Service
ATTACH;FMTTYPE=image/jpeg:https://sandalschurch.com/wp-content/uploads/2024/10/20230305-WC-SERVICE-JRH-22-scaled.jpg
END:VEVENT
BEGIN:VEVENT
DTSTART;TZID=America/Los_Angeles:20300203T090000
DTEND;TZID=America/Los_Angeles:20300203T090000
DTSTAMP:20260423T023233
CREATED:20250326T201013Z
LAST-MODIFIED:20260324T215536Z
UID:10032912-1896339600-1896339600@sandalschurch.com
SUMMARY:Service
DESCRIPTION:Experience the richness of gathering as a community. It’s a time of depth\, growth\, learning\, and true connection. Through meaningful teachings\, singing\, and shared stories\, we find understanding and inspiration that can reach something deeper within us.
URL:https://sandalschurch.com/event/serive/2030-02-03/
LOCATION:Lake Arrowhead\, 1103 N. State Hwy 173\, Lake Arrowhead\, CA\, 92352\, United States
CATEGORIES:Service
ATTACH;FMTTYPE=image/jpeg:https://sandalschurch.com/wp-content/uploads/2025/03/20230305-WC-SERVICE-JRH-22-370x247-1.jpg
END:VEVENT
BEGIN:VEVENT
DTSTART;TZID=America/Los_Angeles:20300203T090000
DTEND;TZID=America/Los_Angeles:20300203T090000
DTSTAMP:20260423T023233
CREATED:20260210T043055Z
LAST-MODIFIED:20260210T043209Z
UID:10047087-1896339600-1896339600@sandalschurch.com
SUMMARY:Service
DESCRIPTION:Experience the richness of gathering as a community. It’s a time of depth\, growth\, learning\, and true connection. Through meaningful teachings\, singing\, and shared stories\, we find understanding and inspiration that can reach something deeper within us.
URL:https://sandalschurch.com/event/crna-sun-9am-service/2030-02-03/
LOCATION:Corona\, 268 N Lincoln Ave Ste 18\, Corona\, 92882\, United States
CATEGORIES:Service
ATTACH;FMTTYPE=image/jpeg:https://sandalschurch.com/wp-content/uploads/2024/10/20230305-WC-SERVICE-JRH-22-scaled.jpg
END:VEVENT
BEGIN:VEVENT
DTSTART;TZID=America/Los_Angeles:20300203T093000
DTEND;TZID=America/Los_Angeles:20300203T093000
DTSTAMP:20260423T023233
CREATED:20260317T164519Z
LAST-MODIFIED:20260317T164536Z
UID:10049674-1896341400-1896341400@sandalschurch.com
SUMMARY:Service (Eng. & Esp.)
DESCRIPTION:Experience the richness of gathering as a community. It’s a time of depth\, growth\, learning\, and true connection. Through meaningful teachings\, singing\, and shared stories\, we find understanding and inspiration that can reach something deeper within us.
URL:https://sandalschurch.com/event/mv-sun-930am-service-2-2/2030-02-03/
LOCATION:Moreno Valley\, 14093 Business Center Dr\, Moreno Valley\, CA\, 92553\, United States
CATEGORIES:Service
ATTACH;FMTTYPE=image/jpeg:https://sandalschurch.com/wp-content/uploads/2024/10/20230305-WC-SERVICE-JRH-22-scaled.jpg
END:VEVENT
BEGIN:VEVENT
DTSTART;TZID=America/Los_Angeles:20300203T094500
DTEND;TZID=America/Los_Angeles:20300203T094500
DTSTAMP:20260423T023233
CREATED:20241008T161324Z
LAST-MODIFIED:20250410T170348Z
UID:10034124-1896342300-1896342300@sandalschurch.com
SUMMARY:Service
DESCRIPTION:Experience the richness of gathering as a community. It’s a time of depth\, growth\, learning\, and true connection. Through meaningful teachings\, singing\, and shared stories\, we find understanding and inspiration that can reach something deeper within us.
URL:https://sandalschurch.com/event/wc-sun-945am-service/2030-02-03/
LOCATION:Woodcrest\, 17421 Van Buren Blvd\, Riverside\, CA\, 92504\, United States
CATEGORIES:Service
ATTACH;FMTTYPE=image/jpeg:https://sandalschurch.com/wp-content/uploads/2024/10/20230305-WC-SERVICE-JRH-22-scaled.jpg
END:VEVENT
BEGIN:VEVENT
DTSTART;TZID=America/Los_Angeles:20300203T094500
DTEND;TZID=America/Los_Angeles:20300203T094500
DTSTAMP:20260423T023233
CREATED:20241022T040903Z
LAST-MODIFIED:20260325T004718Z
UID:10049964-1896342300-1896342300@sandalschurch.com
SUMMARY:Service
DESCRIPTION:Experience the richness of gathering as a community. It’s a time of depth\, growth\, learning\, and true connection. Through meaningful teachings\, singing\, and shared stories\, we find understanding and inspiration that can reach something deeper within us.
URL:https://sandalschurch.com/event/ev-sun-945am-service/2030-02-03/
LOCATION:East Valley\, 1325 Amethyst St\, Mentone\, 92359\, United States
CATEGORIES:Service
ATTACH;FMTTYPE=image/jpeg:https://sandalschurch.com/wp-content/uploads/2024/10/20230305-WC-SERVICE-JRH-22-scaled.jpg
END:VEVENT
BEGIN:VEVENT
DTSTART;TZID=America/Los_Angeles:20300203T094500
DTEND;TZID=America/Los_Angeles:20300203T094500
DTSTAMP:20260423T023233
CREATED:20250902T224652Z
LAST-MODIFIED:20250902T224707Z
UID:10040685-1896342300-1896342300@sandalschurch.com
SUMMARY:Service
DESCRIPTION:Experience the richness of gathering as a community. It’s a time of depth\, growth\, learning\, and true connection. Through meaningful teachings\, singing\, and shared stories\, we find understanding and inspiration that can reach something deeper within us.
URL:https://sandalschurch.com/event/anah-sun-945am-service/2030-02-03/
LOCATION:Anaheim\, 622 N Gilbert St\, Anaheim\, CA\, 92801\, United States
CATEGORIES:Service
ATTACH;FMTTYPE=image/jpeg:https://sandalschurch.com/wp-content/uploads/2024/10/20230305-WC-SERVICE-JRH-22-scaled.jpg
END:VEVENT
BEGIN:VEVENT
DTSTART;TZID=America/Los_Angeles:20300203T100000
DTEND;TZID=America/Los_Angeles:20300203T100000
DTSTAMP:20260423T023233
CREATED:20260309T232914Z
LAST-MODIFIED:20260309T232925Z
UID:10049188-1896343200-1896343200@sandalschurch.com
SUMMARY:Service
DESCRIPTION:Join us for church! Each service is about 75 minutes with worship and a live sermon from one of our pastors.
URL:https://sandalschurch.com/event/hp-sun-10am-service-3/2030-02-03/
LOCATION:Hunter Park\, 150 Palmyrita Ave\, Riverside\, CA\, 92507\, United States
CATEGORIES:Service
ATTACH;FMTTYPE=image/jpeg:https://sandalschurch.com/wp-content/uploads/2024/02/20230423_HP_SundayMorning_Service_BW-33-scaled.jpg
END:VEVENT
BEGIN:VEVENT
DTSTART;TZID=America/Los_Angeles:20300203T100000
DTEND;TZID=America/Los_Angeles:20300203T100000
DTSTAMP:20260423T023233
CREATED:20260331T201848Z
LAST-MODIFIED:20260331T201908Z
UID:10050637-1896343200-1896343200@sandalschurch.com
SUMMARY:Service
DESCRIPTION:Experience the richness of gathering as a community. It’s a time of depth\, growth\, learning\, and true connection. Through meaningful teachings\, singing\, and shared stories\, we find understanding and inspiration that can reach something deeper within us.
URL:https://sandalschurch.com/event/fsno-sun-10am-service/2030-02-03/
LOCATION:Fresno\, 405 W Lincoln Ave\, Fresno\, CA\, 93706\, United States
CATEGORIES:Service
ATTACH;FMTTYPE=image/jpeg:https://sandalschurch.com/wp-content/uploads/2024/10/20230305-WC-SERVICE-JRH-22-scaled.jpg
END:VEVENT
BEGIN:VEVENT
DTSTART;TZID=America/Los_Angeles:20300203T104500
DTEND;TZID=America/Los_Angeles:20300203T104500
DTSTAMP:20260423T023233
CREATED:20260210T043434Z
LAST-MODIFIED:20260219T191516Z
UID:10047347-1896345900-1896345900@sandalschurch.com
SUMMARY:Service
DESCRIPTION:Experience the richness of gathering as a community. It’s a time of depth\, growth\, learning\, and true connection. Through meaningful teachings\, singing\, and shared stories\, we find understanding and inspiration that can reach something deeper within us.
URL:https://sandalschurch.com/event/crna-sun-1045am-service/2030-02-03/
LOCATION:Corona\, 268 N Lincoln Ave Ste 18\, Corona\, 92882\, United States
CATEGORIES:Service
ATTACH;FMTTYPE=image/jpeg:https://sandalschurch.com/wp-content/uploads/2024/10/20230305-WC-SERVICE-JRH-22-scaled.jpg
END:VEVENT
BEGIN:VEVENT
DTSTART;TZID=America/Los_Angeles:20300203T110000
DTEND;TZID=America/Los_Angeles:20300203T110000
DTSTAMP:20260423T023233
CREATED:20241023T195528Z
LAST-MODIFIED:20260324T215727Z
UID:10033204-1896346800-1896346800@sandalschurch.com
SUMMARY:Service
DESCRIPTION:Experience the richness of gathering as a community. It’s a time of depth\, growth\, learning\, and true connection. Through meaningful teachings\, singing\, and shared stories\, we find understanding and inspiration that can reach something deeper within us.
URL:https://sandalschurch.com/event/lkah-sun-11am-service/2030-02-03/
LOCATION:Lake Arrowhead\, 1103 N. State Hwy 173\, Lake Arrowhead\, CA\, 92352\, United States
CATEGORIES:Service
ATTACH;FMTTYPE=image/jpeg:https://sandalschurch.com/wp-content/uploads/2024/10/20230305-WC-SERVICE-JRH-22-scaled.jpg
END:VEVENT
BEGIN:VEVENT
DTSTART;TZID=America/Los_Angeles:20300203T110000
DTEND;TZID=America/Los_Angeles:20300203T110000
DTSTAMP:20260423T023233
CREATED:20260114T204221Z
LAST-MODIFIED:20260114T204727Z
UID:10045282-1896346800-1896346800@sandalschurch.com
SUMMARY:Service
DESCRIPTION:Experience the richness of gathering as a community. It’s a time of depth\, growth\, learning\, and true connection. Through meaningful teachings\, singing\, and shared stories\, we find understanding and inspiration that can reach something deeper within us.
URL:https://sandalschurch.com/event/mnfe-sun-11am-service/2030-02-03/
LOCATION:Menifee\, 27755 Bradley Rd.\, Menifee\, CA\, 92586\, United States
CATEGORIES:Service
ATTACH;FMTTYPE=image/jpeg:https://sandalschurch.com/wp-content/uploads/2024/10/20230305-WC-SERVICE-JRH-22-scaled.jpg
END:VEVENT
BEGIN:VEVENT
DTSTART;TZID=America/Los_Angeles:20300203T111500
DTEND;TZID=America/Los_Angeles:20300203T111500
DTSTAMP:20260423T023233
CREATED:20260317T163602Z
LAST-MODIFIED:20260317T164605Z
UID:10049595-1896347700-1896347700@sandalschurch.com
SUMMARY:Service (Eng. & Esp.)
DESCRIPTION:Experience the richness of gathering as a community. It’s a time of depth\, growth\, learning\, and true connection. Through meaningful teachings\, singing\, and shared stories\, we find understanding and inspiration that can reach something deeper within us.
URL:https://sandalschurch.com/event/mv-sun-11am-service-2/2030-02-03/
LOCATION:Moreno Valley\, 14093 Business Center Dr\, Moreno Valley\, CA\, 92553\, United States
CATEGORIES:Service
ATTACH;FMTTYPE=image/jpeg:https://sandalschurch.com/wp-content/uploads/2024/10/20230305-WC-SERVICE-JRH-22-scaled.jpg
END:VEVENT
BEGIN:VEVENT
DTSTART;TZID=America/Los_Angeles:20300203T113000
DTEND;TZID=America/Los_Angeles:20300203T113000
DTSTAMP:20260423T023233
CREATED:20241022T041036Z
LAST-MODIFIED:20260325T004739Z
UID:10050038-1896348600-1896348600@sandalschurch.com
SUMMARY:Service
DESCRIPTION:Experience the richness of gathering as a community. It’s a time of depth\, growth\, learning\, and true connection. Through meaningful teachings\, singing\, and shared stories\, we find understanding and inspiration that can reach something deeper within us.
URL:https://sandalschurch.com/event/ev-sun-1130am-service/2030-02-03/
LOCATION:East Valley\, 1325 Amethyst St\, Mentone\, 92359\, United States
CATEGORIES:Service
ATTACH;FMTTYPE=image/jpeg:https://sandalschurch.com/wp-content/uploads/2024/10/20230305-WC-SERVICE-JRH-22-scaled.jpg
END:VEVENT
BEGIN:VEVENT
DTSTART;TZID=America/Los_Angeles:20300203T113000
DTEND;TZID=America/Los_Angeles:20300203T113000
DTSTAMP:20260423T023233
CREATED:20250916T225507Z
LAST-MODIFIED:20250916T225520Z
UID:10034697-1896348600-1896348600@sandalschurch.com
SUMMARY:Service (ASL Available)
DESCRIPTION:Experience the richness of gathering as a community. It’s a time of depth\, growth\, learning\, and true connection. Through meaningful teachings\, singing\, and shared stories\, we find understanding and inspiration that can reach something deeper within us. \n(ASL Available)
URL:https://sandalschurch.com/event/wc-sun-1130am-service-2-2/2030-02-03/
LOCATION:Woodcrest\, 17421 Van Buren Blvd\, Riverside\, CA\, 92504\, United States
CATEGORIES:Service
ATTACH;FMTTYPE=image/jpeg:https://sandalschurch.com/wp-content/uploads/2024/10/20230305-WC-SERVICE-JRH-22-scaled.jpg
END:VEVENT
BEGIN:VEVENT
DTSTART;TZID=America/Los_Angeles:20300203T113000
DTEND;TZID=America/Los_Angeles:20300203T113000
DTSTAMP:20260423T023233
CREATED:20260331T202023Z
LAST-MODIFIED:20260331T202043Z
UID:10050897-1896348600-1896348600@sandalschurch.com
SUMMARY:Service (bilingual)
DESCRIPTION:Experience the richness of gathering as a community. It’s a time of depth\, growth\, learning\, and true connection. Through meaningful teachings\, singing\, and shared stories\, we find understanding and inspiration that can reach something deeper within us.
URL:https://sandalschurch.com/event/fsno-sun-1130am-service/2030-02-03/
LOCATION:Fresno\, 405 W Lincoln Ave\, Fresno\, CA\, 93706\, United States
CATEGORIES:Service
ATTACH;FMTTYPE=image/jpeg:https://sandalschurch.com/wp-content/uploads/2024/10/20230305-WC-SERVICE-JRH-22-scaled.jpg
END:VEVENT
BEGIN:VEVENT
DTSTART;TZID=America/Los_Angeles:20300203T114500
DTEND;TZID=America/Los_Angeles:20300203T114500
DTSTAMP:20260423T023233
CREATED:20260309T233139Z
LAST-MODIFIED:20260309T233154Z
UID:10049260-1896349500-1896349500@sandalschurch.com
SUMMARY:Service
DESCRIPTION:Join us for church! Each service is about 75 minutes with worship and a live sermon from one of our pastors.
URL:https://sandalschurch.com/event/hp-sun-1145am-service-3/2030-02-03/
LOCATION:Hunter Park\, 150 Palmyrita Ave\, Riverside\, CA\, 92507\, United States
CATEGORIES:Service
ATTACH;FMTTYPE=image/jpeg:https://sandalschurch.com/wp-content/uploads/2024/02/20230423_HP_SundayMorning_Service_BW-33-scaled.jpg
END:VEVENT
BEGIN:VEVENT
DTSTART;TZID=America/Los_Angeles:20300203T180000
DTEND;TZID=America/Los_Angeles:20300203T180000
DTSTAMP:20260423T023233
CREATED:20241023T180809Z
LAST-MODIFIED:20241023T180829Z
UID:10035031-1896372000-1896372000@sandalschurch.com
SUMMARY:Service
DESCRIPTION:Experience the richness of gathering as a community. It’s a time of depth\, growth\, learning\, and true connection. Through meaningful teachings\, singing\, and shared stories\, we find understanding and inspiration that can reach something deeper within us.
URL:https://sandalschurch.com/event/sb-sun-6pm-service/2030-02-03/
LOCATION:San Bernardino\, 3701 N Sierra Way\, San Bernardino\, CA\, 92405\, United States
CATEGORIES:Service
ATTACH;FMTTYPE=image/jpeg:https://sandalschurch.com/wp-content/uploads/2024/10/20230305-WC-SERVICE-JRH-22-scaled.jpg
END:VEVENT
BEGIN:VEVENT
DTSTART;TZID=America/Los_Angeles:20300203T190000
DTEND;TZID=America/Los_Angeles:20300203T190000
DTSTAMP:20260423T023233
CREATED:20241023T185929Z
LAST-MODIFIED:20250322T234254Z
UID:10032621-1896375600-1896375600@sandalschurch.com
SUMMARY:Service
DESCRIPTION:Experience the richness of gathering as a community. It’s a time of depth\, growth\, learning\, and true connection. Through meaningful teachings\, singing\, and shared stories\, we find understanding and inspiration that can reach something deeper within us.
URL:https://sandalschurch.com/event/pa-sun-7pm-service/2030-02-03/
LOCATION:Palm Avenue\, 6807 Palm Ave\, Riverside\, CA\, 92506\, United States
CATEGORIES:Service
ATTACH;FMTTYPE=image/jpeg:https://sandalschurch.com/wp-content/uploads/2024/10/20230305-WC-SERVICE-JRH-22-scaled.jpg
END:VEVENT
BEGIN:VEVENT
DTSTART;TZID=America/Los_Angeles:20300209T160000
DTEND;TZID=America/Los_Angeles:20300209T160000
DTSTAMP:20260423T023233
CREATED:20260114T203601Z
LAST-MODIFIED:20260114T203619Z
UID:10045543-1896883200-1896883200@sandalschurch.com
SUMMARY:Service
DESCRIPTION:Experience the richness of gathering as a community. It’s a time of depth\, growth\, learning\, and true connection. Through meaningful teachings\, singing\, and shared stories\, we find understanding and inspiration that can reach something deeper within us.
URL:https://sandalschurch.com/event/mnfe-sat-4pm-service/2030-02-09/
LOCATION:Menifee\, 27755 Bradley Rd.\, Menifee\, CA\, 92586\, United States
CATEGORIES:Service
ATTACH;FMTTYPE=image/jpeg:https://sandalschurch.com/wp-content/uploads/2024/10/20230305-WC-SERVICE-JRH-22-scaled.jpg
END:VEVENT
BEGIN:VEVENT
DTSTART;TZID=America/Los_Angeles:20300209T170000
DTEND;TZID=America/Los_Angeles:20300209T181500
DTSTAMP:20260423T023234
CREATED:20260309T232900Z
LAST-MODIFIED:20260309T232915Z
UID:10035604-1896886800-1896891300@sandalschurch.com
SUMMARY:Service
DESCRIPTION:Join us for church! Each service is about 75 minutes with worship and a live sermon from one of our pastors.
URL:https://sandalschurch.com/event/hp-sat-4pm-service-2-3/2030-02-09/
LOCATION:Hunter Park\, 150 Palmyrita Ave\, Riverside\, CA\, 92507\, United States
CATEGORIES:Service
ATTACH;FMTTYPE=image/jpeg:https://sandalschurch.com/wp-content/uploads/2024/02/20230423_HP_SundayMorning_Service_BW-33-scaled.jpg
END:VEVENT
BEGIN:VEVENT
DTSTART;TZID=America/Los_Angeles:20300209T174500
DTEND;TZID=America/Los_Angeles:20300209T174500
DTSTAMP:20260423T023234
CREATED:20260114T204935Z
LAST-MODIFIED:20260114T205027Z
UID:10046329-1896889500-1896889500@sandalschurch.com
SUMMARY:Service
DESCRIPTION:Experience the richness of gathering as a community. It’s a time of depth\, growth\, learning\, and true connection. Through meaningful teachings\, singing\, and shared stories\, we find understanding and inspiration that can reach something deeper within us.
URL:https://sandalschurch.com/event/mnfe-sat-545pm-service/2030-02-09/
LOCATION:Menifee\, 27755 Bradley Rd.\, Menifee\, CA\, 92586\, United States
CATEGORIES:Service
ATTACH;FMTTYPE=image/jpeg:https://sandalschurch.com/wp-content/uploads/2024/10/20230305-WC-SERVICE-JRH-22-scaled.jpg
END:VEVENT
BEGIN:VEVENT
DTSTART;TZID=America/Los_Angeles:20300210T080000
DTEND;TZID=America/Los_Angeles:20300210T080000
DTSTAMP:20260423T023234
CREATED:20241008T161047Z
LAST-MODIFIED:20250407T154219Z
UID:10034989-1896940800-1896940800@sandalschurch.com
SUMMARY:Service
DESCRIPTION:Experience the richness of gathering as a community. It’s a time of depth\, growth\, learning\, and true connection. Through meaningful teachings\, singing\, and shared stories\, we find understanding and inspiration that can reach something deeper within us.
URL:https://sandalschurch.com/event/wc-sun-8am-service/2030-02-10/
LOCATION:Woodcrest\, 17421 Van Buren Blvd\, Riverside\, CA\, 92504\, United States
CATEGORIES:Service
ATTACH;FMTTYPE=image/jpeg:https://sandalschurch.com/wp-content/uploads/2024/10/20230305-WC-SERVICE-JRH-22-scaled.jpg
END:VEVENT
END:VCALENDAR