BEGIN:VCALENDAR
VERSION:2.0
PRODID:-//Sandals Church - ECPv6.13.0//NONSGML v1.0//EN
CALSCALE:GREGORIAN
METHOD:PUBLISH
X-WR-CALNAME:Sandals Church
X-ORIGINAL-URL:https://sandalschurch.com
X-WR-CALDESC:Events for Sandals Church
REFRESH-INTERVAL;VALUE=DURATION:PT1H
X-Robots-Tag:noindex
X-PUBLISHED-TTL:PT1H
BEGIN:VTIMEZONE
TZID:America/Los_Angeles
BEGIN:DAYLIGHT
TZOFFSETFROM:-0800
TZOFFSETTO:-0700
TZNAME:PDT
DTSTART:20290311T100000
END:DAYLIGHT
BEGIN:STANDARD
TZOFFSETFROM:-0700
TZOFFSETTO:-0800
TZNAME:PST
DTSTART:20291104T090000
END:STANDARD
BEGIN:DAYLIGHT
TZOFFSETFROM:-0800
TZOFFSETTO:-0700
TZNAME:PDT
DTSTART:20300310T100000
END:DAYLIGHT
BEGIN:STANDARD
TZOFFSETFROM:-0700
TZOFFSETTO:-0800
TZNAME:PST
DTSTART:20301103T090000
END:STANDARD
END:VTIMEZONE
BEGIN:VEVENT
DTSTART;TZID=America/Los_Angeles:20291230T094500
DTEND;TZID=America/Los_Angeles:20291230T094500
DTSTAMP:20260423T004916
CREATED:20241008T161324Z
LAST-MODIFIED:20250410T170348Z
UID:10034119-1893318300-1893318300@sandalschurch.com
SUMMARY:Service
DESCRIPTION:Experience the richness of gathering as a community. It’s a time of depth\, growth\, learning\, and true connection. Through meaningful teachings\, singing\, and shared stories\, we find understanding and inspiration that can reach something deeper within us.
URL:https://sandalschurch.com/event/wc-sun-945am-service/2029-12-30/
LOCATION:Woodcrest\, 17421 Van Buren Blvd\, Riverside\, CA\, 92504\, United States
CATEGORIES:Service
ATTACH;FMTTYPE=image/jpeg:https://sandalschurch.com/wp-content/uploads/2024/10/20230305-WC-SERVICE-JRH-22-scaled.jpg
END:VEVENT
BEGIN:VEVENT
DTSTART;TZID=America/Los_Angeles:20291230T094500
DTEND;TZID=America/Los_Angeles:20291230T094500
DTSTAMP:20260423T004916
CREATED:20241022T040903Z
LAST-MODIFIED:20260325T004718Z
UID:10049959-1893318300-1893318300@sandalschurch.com
SUMMARY:Service
DESCRIPTION:Experience the richness of gathering as a community. It’s a time of depth\, growth\, learning\, and true connection. Through meaningful teachings\, singing\, and shared stories\, we find understanding and inspiration that can reach something deeper within us.
URL:https://sandalschurch.com/event/ev-sun-945am-service/2029-12-30/
LOCATION:East Valley\, 1325 Amethyst St\, Mentone\, 92359\, United States
CATEGORIES:Service
ATTACH;FMTTYPE=image/jpeg:https://sandalschurch.com/wp-content/uploads/2024/10/20230305-WC-SERVICE-JRH-22-scaled.jpg
END:VEVENT
BEGIN:VEVENT
DTSTART;TZID=America/Los_Angeles:20291230T094500
DTEND;TZID=America/Los_Angeles:20291230T094500
DTSTAMP:20260423T004916
CREATED:20250902T224652Z
LAST-MODIFIED:20250902T224707Z
UID:10040680-1893318300-1893318300@sandalschurch.com
SUMMARY:Service
DESCRIPTION:Experience the richness of gathering as a community. It’s a time of depth\, growth\, learning\, and true connection. Through meaningful teachings\, singing\, and shared stories\, we find understanding and inspiration that can reach something deeper within us.
URL:https://sandalschurch.com/event/anah-sun-945am-service/2029-12-30/
LOCATION:Anaheim\, 622 N Gilbert St\, Anaheim\, CA\, 92801\, United States
CATEGORIES:Service
ATTACH;FMTTYPE=image/jpeg:https://sandalschurch.com/wp-content/uploads/2024/10/20230305-WC-SERVICE-JRH-22-scaled.jpg
END:VEVENT
BEGIN:VEVENT
DTSTART;TZID=America/Los_Angeles:20291230T100000
DTEND;TZID=America/Los_Angeles:20291230T100000
DTSTAMP:20260423T004916
CREATED:20260309T232914Z
LAST-MODIFIED:20260309T232925Z
UID:10049183-1893319200-1893319200@sandalschurch.com
SUMMARY:Service
DESCRIPTION:Join us for church! Each service is about 75 minutes with worship and a live sermon from one of our pastors.
URL:https://sandalschurch.com/event/hp-sun-10am-service-3/2029-12-30/
LOCATION:Hunter Park\, 150 Palmyrita Ave\, Riverside\, CA\, 92507\, United States
CATEGORIES:Service
ATTACH;FMTTYPE=image/jpeg:https://sandalschurch.com/wp-content/uploads/2024/02/20230423_HP_SundayMorning_Service_BW-33-scaled.jpg
END:VEVENT
BEGIN:VEVENT
DTSTART;TZID=America/Los_Angeles:20291230T100000
DTEND;TZID=America/Los_Angeles:20291230T100000
DTSTAMP:20260423T004916
CREATED:20260331T201848Z
LAST-MODIFIED:20260331T201908Z
UID:10050632-1893319200-1893319200@sandalschurch.com
SUMMARY:Service
DESCRIPTION:Experience the richness of gathering as a community. It’s a time of depth\, growth\, learning\, and true connection. Through meaningful teachings\, singing\, and shared stories\, we find understanding and inspiration that can reach something deeper within us.
URL:https://sandalschurch.com/event/fsno-sun-10am-service/2029-12-30/
LOCATION:Fresno\, 405 W Lincoln Ave\, Fresno\, CA\, 93706\, United States
CATEGORIES:Service
ATTACH;FMTTYPE=image/jpeg:https://sandalschurch.com/wp-content/uploads/2024/10/20230305-WC-SERVICE-JRH-22-scaled.jpg
END:VEVENT
BEGIN:VEVENT
DTSTART;TZID=America/Los_Angeles:20291230T104500
DTEND;TZID=America/Los_Angeles:20291230T104500
DTSTAMP:20260423T004916
CREATED:20260210T043434Z
LAST-MODIFIED:20260219T191516Z
UID:10047342-1893321900-1893321900@sandalschurch.com
SUMMARY:Service
DESCRIPTION:Experience the richness of gathering as a community. It’s a time of depth\, growth\, learning\, and true connection. Through meaningful teachings\, singing\, and shared stories\, we find understanding and inspiration that can reach something deeper within us.
URL:https://sandalschurch.com/event/crna-sun-1045am-service/2029-12-30/
LOCATION:Corona\, 268 N Lincoln Ave Ste 18\, Corona\, 92882\, United States
CATEGORIES:Service
ATTACH;FMTTYPE=image/jpeg:https://sandalschurch.com/wp-content/uploads/2024/10/20230305-WC-SERVICE-JRH-22-scaled.jpg
END:VEVENT
BEGIN:VEVENT
DTSTART;TZID=America/Los_Angeles:20291230T110000
DTEND;TZID=America/Los_Angeles:20291230T110000
DTSTAMP:20260423T004916
CREATED:20241023T195528Z
LAST-MODIFIED:20260324T215727Z
UID:10033199-1893322800-1893322800@sandalschurch.com
SUMMARY:Service
DESCRIPTION:Experience the richness of gathering as a community. It’s a time of depth\, growth\, learning\, and true connection. Through meaningful teachings\, singing\, and shared stories\, we find understanding and inspiration that can reach something deeper within us.
URL:https://sandalschurch.com/event/lkah-sun-11am-service/2029-12-30/
LOCATION:Lake Arrowhead\, 1103 N. State Hwy 173\, Lake Arrowhead\, CA\, 92352\, United States
CATEGORIES:Service
ATTACH;FMTTYPE=image/jpeg:https://sandalschurch.com/wp-content/uploads/2024/10/20230305-WC-SERVICE-JRH-22-scaled.jpg
END:VEVENT
BEGIN:VEVENT
DTSTART;TZID=America/Los_Angeles:20291230T110000
DTEND;TZID=America/Los_Angeles:20291230T110000
DTSTAMP:20260423T004916
CREATED:20260114T204221Z
LAST-MODIFIED:20260114T204727Z
UID:10045277-1893322800-1893322800@sandalschurch.com
SUMMARY:Service
DESCRIPTION:Experience the richness of gathering as a community. It’s a time of depth\, growth\, learning\, and true connection. Through meaningful teachings\, singing\, and shared stories\, we find understanding and inspiration that can reach something deeper within us.
URL:https://sandalschurch.com/event/mnfe-sun-11am-service/2029-12-30/
LOCATION:Menifee\, 27755 Bradley Rd.\, Menifee\, CA\, 92586\, United States
CATEGORIES:Service
ATTACH;FMTTYPE=image/jpeg:https://sandalschurch.com/wp-content/uploads/2024/10/20230305-WC-SERVICE-JRH-22-scaled.jpg
END:VEVENT
BEGIN:VEVENT
DTSTART;TZID=America/Los_Angeles:20291230T111500
DTEND;TZID=America/Los_Angeles:20291230T111500
DTSTAMP:20260423T004916
CREATED:20241017T185701Z
LAST-MODIFIED:20250109T172417Z
UID:10025090-1893323700-1893323700@sandalschurch.com
SUMMARY:Service
DESCRIPTION:Experience the richness of gathering as a community. It’s a time of depth\, growth\, learning\, and true connection. Through meaningful teachings\, singing\, and shared stories\, we find understanding and inspiration that can reach something deeper within us.
URL:https://sandalschurch.com/event/anah-sun-1115am-service/2029-12-30/
LOCATION:Anaheim\, 622 N Gilbert St\, Anaheim\, CA\, 92801\, United States
CATEGORIES:Service
ATTACH;FMTTYPE=image/jpeg:https://sandalschurch.com/wp-content/uploads/2024/10/20230305-WC-SERVICE-JRH-22-scaled.jpg
END:VEVENT
BEGIN:VEVENT
DTSTART;TZID=America/Los_Angeles:20291230T111500
DTEND;TZID=America/Los_Angeles:20291230T111500
DTSTAMP:20260423T004916
CREATED:20260317T163602Z
LAST-MODIFIED:20260317T164605Z
UID:10049590-1893323700-1893323700@sandalschurch.com
SUMMARY:Service (Eng. & Esp.)
DESCRIPTION:Experience the richness of gathering as a community. It’s a time of depth\, growth\, learning\, and true connection. Through meaningful teachings\, singing\, and shared stories\, we find understanding and inspiration that can reach something deeper within us.
URL:https://sandalschurch.com/event/mv-sun-11am-service-2/2029-12-30/
LOCATION:Moreno Valley\, 14093 Business Center Dr\, Moreno Valley\, CA\, 92553\, United States
CATEGORIES:Service
ATTACH;FMTTYPE=image/jpeg:https://sandalschurch.com/wp-content/uploads/2024/10/20230305-WC-SERVICE-JRH-22-scaled.jpg
END:VEVENT
BEGIN:VEVENT
DTSTART;TZID=America/Los_Angeles:20291230T113000
DTEND;TZID=America/Los_Angeles:20291230T113000
DTSTAMP:20260423T004916
CREATED:20241022T041036Z
LAST-MODIFIED:20260325T004739Z
UID:10050033-1893324600-1893324600@sandalschurch.com
SUMMARY:Service
DESCRIPTION:Experience the richness of gathering as a community. It’s a time of depth\, growth\, learning\, and true connection. Through meaningful teachings\, singing\, and shared stories\, we find understanding and inspiration that can reach something deeper within us.
URL:https://sandalschurch.com/event/ev-sun-1130am-service/2029-12-30/
LOCATION:East Valley\, 1325 Amethyst St\, Mentone\, 92359\, United States
CATEGORIES:Service
ATTACH;FMTTYPE=image/jpeg:https://sandalschurch.com/wp-content/uploads/2024/10/20230305-WC-SERVICE-JRH-22-scaled.jpg
END:VEVENT
BEGIN:VEVENT
DTSTART;TZID=America/Los_Angeles:20291230T113000
DTEND;TZID=America/Los_Angeles:20291230T113000
DTSTAMP:20260423T004916
CREATED:20250916T225507Z
LAST-MODIFIED:20250916T225520Z
UID:10034692-1893324600-1893324600@sandalschurch.com
SUMMARY:Service (ASL Available)
DESCRIPTION:Experience the richness of gathering as a community. It’s a time of depth\, growth\, learning\, and true connection. Through meaningful teachings\, singing\, and shared stories\, we find understanding and inspiration that can reach something deeper within us. \n(ASL Available)
URL:https://sandalschurch.com/event/wc-sun-1130am-service-2-2/2029-12-30/
LOCATION:Woodcrest\, 17421 Van Buren Blvd\, Riverside\, CA\, 92504\, United States
CATEGORIES:Service
ATTACH;FMTTYPE=image/jpeg:https://sandalschurch.com/wp-content/uploads/2024/10/20230305-WC-SERVICE-JRH-22-scaled.jpg
END:VEVENT
BEGIN:VEVENT
DTSTART;TZID=America/Los_Angeles:20291230T113000
DTEND;TZID=America/Los_Angeles:20291230T113000
DTSTAMP:20260423T004916
CREATED:20260331T202023Z
LAST-MODIFIED:20260331T202043Z
UID:10050892-1893324600-1893324600@sandalschurch.com
SUMMARY:Service (bilingual)
DESCRIPTION:Experience the richness of gathering as a community. It’s a time of depth\, growth\, learning\, and true connection. Through meaningful teachings\, singing\, and shared stories\, we find understanding and inspiration that can reach something deeper within us.
URL:https://sandalschurch.com/event/fsno-sun-1130am-service/2029-12-30/
LOCATION:Fresno\, 405 W Lincoln Ave\, Fresno\, CA\, 93706\, United States
CATEGORIES:Service
ATTACH;FMTTYPE=image/jpeg:https://sandalschurch.com/wp-content/uploads/2024/10/20230305-WC-SERVICE-JRH-22-scaled.jpg
END:VEVENT
BEGIN:VEVENT
DTSTART;TZID=America/Los_Angeles:20291230T114500
DTEND;TZID=America/Los_Angeles:20291230T114500
DTSTAMP:20260423T004916
CREATED:20260309T233139Z
LAST-MODIFIED:20260309T233154Z
UID:10049255-1893325500-1893325500@sandalschurch.com
SUMMARY:Service
DESCRIPTION:Join us for church! Each service is about 75 minutes with worship and a live sermon from one of our pastors.
URL:https://sandalschurch.com/event/hp-sun-1145am-service-3/2029-12-30/
LOCATION:Hunter Park\, 150 Palmyrita Ave\, Riverside\, CA\, 92507\, United States
CATEGORIES:Service
ATTACH;FMTTYPE=image/jpeg:https://sandalschurch.com/wp-content/uploads/2024/02/20230423_HP_SundayMorning_Service_BW-33-scaled.jpg
END:VEVENT
BEGIN:VEVENT
DTSTART;TZID=America/Los_Angeles:20291230T180000
DTEND;TZID=America/Los_Angeles:20291230T180000
DTSTAMP:20260423T004916
CREATED:20241023T180809Z
LAST-MODIFIED:20241023T180829Z
UID:10035026-1893348000-1893348000@sandalschurch.com
SUMMARY:Service
DESCRIPTION:Experience the richness of gathering as a community. It’s a time of depth\, growth\, learning\, and true connection. Through meaningful teachings\, singing\, and shared stories\, we find understanding and inspiration that can reach something deeper within us.
URL:https://sandalschurch.com/event/sb-sun-6pm-service/2029-12-30/
LOCATION:San Bernardino\, 3701 N Sierra Way\, San Bernardino\, CA\, 92405\, United States
CATEGORIES:Service
ATTACH;FMTTYPE=image/jpeg:https://sandalschurch.com/wp-content/uploads/2024/10/20230305-WC-SERVICE-JRH-22-scaled.jpg
END:VEVENT
BEGIN:VEVENT
DTSTART;TZID=America/Los_Angeles:20291230T190000
DTEND;TZID=America/Los_Angeles:20291230T190000
DTSTAMP:20260423T004916
CREATED:20241023T185929Z
LAST-MODIFIED:20250322T234254Z
UID:10032616-1893351600-1893351600@sandalschurch.com
SUMMARY:Service
DESCRIPTION:Experience the richness of gathering as a community. It’s a time of depth\, growth\, learning\, and true connection. Through meaningful teachings\, singing\, and shared stories\, we find understanding and inspiration that can reach something deeper within us.
URL:https://sandalschurch.com/event/pa-sun-7pm-service/2029-12-30/
LOCATION:Palm Avenue\, 6807 Palm Ave\, Riverside\, CA\, 92506\, United States
CATEGORIES:Service
ATTACH;FMTTYPE=image/jpeg:https://sandalschurch.com/wp-content/uploads/2024/10/20230305-WC-SERVICE-JRH-22-scaled.jpg
END:VEVENT
BEGIN:VEVENT
DTSTART;TZID=America/Los_Angeles:20300105T160000
DTEND;TZID=America/Los_Angeles:20300105T160000
DTSTAMP:20260423T004916
CREATED:20260114T203601Z
LAST-MODIFIED:20260114T203619Z
UID:10045538-1893859200-1893859200@sandalschurch.com
SUMMARY:Service
DESCRIPTION:Experience the richness of gathering as a community. It’s a time of depth\, growth\, learning\, and true connection. Through meaningful teachings\, singing\, and shared stories\, we find understanding and inspiration that can reach something deeper within us.
URL:https://sandalschurch.com/event/mnfe-sat-4pm-service/2030-01-05/
LOCATION:Menifee\, 27755 Bradley Rd.\, Menifee\, CA\, 92586\, United States
CATEGORIES:Service
ATTACH;FMTTYPE=image/jpeg:https://sandalschurch.com/wp-content/uploads/2024/10/20230305-WC-SERVICE-JRH-22-scaled.jpg
END:VEVENT
BEGIN:VEVENT
DTSTART;TZID=America/Los_Angeles:20300105T170000
DTEND;TZID=America/Los_Angeles:20300105T181500
DTSTAMP:20260423T004916
CREATED:20260309T232900Z
LAST-MODIFIED:20260309T232915Z
UID:10035599-1893862800-1893867300@sandalschurch.com
SUMMARY:Service
DESCRIPTION:Join us for church! Each service is about 75 minutes with worship and a live sermon from one of our pastors.
URL:https://sandalschurch.com/event/hp-sat-4pm-service-2-3/2030-01-05/
LOCATION:Hunter Park\, 150 Palmyrita Ave\, Riverside\, CA\, 92507\, United States
CATEGORIES:Service
ATTACH;FMTTYPE=image/jpeg:https://sandalschurch.com/wp-content/uploads/2024/02/20230423_HP_SundayMorning_Service_BW-33-scaled.jpg
END:VEVENT
BEGIN:VEVENT
DTSTART;TZID=America/Los_Angeles:20300105T174500
DTEND;TZID=America/Los_Angeles:20300105T174500
DTSTAMP:20260423T004916
CREATED:20260114T204935Z
LAST-MODIFIED:20260114T205027Z
UID:10046324-1893865500-1893865500@sandalschurch.com
SUMMARY:Service
DESCRIPTION:Experience the richness of gathering as a community. It’s a time of depth\, growth\, learning\, and true connection. Through meaningful teachings\, singing\, and shared stories\, we find understanding and inspiration that can reach something deeper within us.
URL:https://sandalschurch.com/event/mnfe-sat-545pm-service/2030-01-05/
LOCATION:Menifee\, 27755 Bradley Rd.\, Menifee\, CA\, 92586\, United States
CATEGORIES:Service
ATTACH;FMTTYPE=image/jpeg:https://sandalschurch.com/wp-content/uploads/2024/10/20230305-WC-SERVICE-JRH-22-scaled.jpg
END:VEVENT
BEGIN:VEVENT
DTSTART;TZID=America/Los_Angeles:20300106T080000
DTEND;TZID=America/Los_Angeles:20300106T080000
DTSTAMP:20260423T004916
CREATED:20241008T161047Z
LAST-MODIFIED:20250407T154219Z
UID:10034984-1893916800-1893916800@sandalschurch.com
SUMMARY:Service
DESCRIPTION:Experience the richness of gathering as a community. It’s a time of depth\, growth\, learning\, and true connection. Through meaningful teachings\, singing\, and shared stories\, we find understanding and inspiration that can reach something deeper within us.
URL:https://sandalschurch.com/event/wc-sun-8am-service/2030-01-06/
LOCATION:Woodcrest\, 17421 Van Buren Blvd\, Riverside\, CA\, 92504\, United States
CATEGORIES:Service
ATTACH;FMTTYPE=image/jpeg:https://sandalschurch.com/wp-content/uploads/2024/10/20230305-WC-SERVICE-JRH-22-scaled.jpg
END:VEVENT
BEGIN:VEVENT
DTSTART;TZID=America/Los_Angeles:20300106T080000
DTEND;TZID=America/Los_Angeles:20300106T080000
DTSTAMP:20260423T004916
CREATED:20241022T040720Z
LAST-MODIFIED:20260325T004606Z
UID:10041187-1893916800-1893916800@sandalschurch.com
SUMMARY:Service
DESCRIPTION:Experience the richness of gathering as a community. It’s a time of depth\, growth\, learning\, and true connection. Through meaningful teachings\, singing\, and shared stories\, we find understanding and inspiration that can reach something deeper within us.
URL:https://sandalschurch.com/event/ev-sun-8am-service/2030-01-06/
LOCATION:East Valley\, 1325 Amethyst St\, Mentone\, 92359\, United States
CATEGORIES:Service
ATTACH;FMTTYPE=image/jpeg:https://sandalschurch.com/wp-content/uploads/2024/10/20230305-WC-SERVICE-JRH-22-scaled.jpg
END:VEVENT
BEGIN:VEVENT
DTSTART;TZID=America/Los_Angeles:20300106T081500
DTEND;TZID=America/Los_Angeles:20300106T081500
DTSTAMP:20260423T004916
CREATED:20260309T232757Z
LAST-MODIFIED:20260309T232813Z
UID:10049112-1893917700-1893917700@sandalschurch.com
SUMMARY:Service
DESCRIPTION:Join us for church! Each service is about 75 minutes with worship and a live sermon from one of our pastors.
URL:https://sandalschurch.com/event/hp-sun-815am-service-3/2030-01-06/
LOCATION:Hunter Park\, 150 Palmyrita Ave\, Riverside\, CA\, 92507\, United States
CATEGORIES:Service
ATTACH;FMTTYPE=image/jpeg:https://sandalschurch.com/wp-content/uploads/2024/02/20230423_HP_SundayMorning_Service_BW-33-scaled.jpg
END:VEVENT
BEGIN:VEVENT
DTSTART;TZID=America/Los_Angeles:20300106T083000
DTEND;TZID=America/Los_Angeles:20300106T083000
DTSTAMP:20260423T004916
CREATED:20250902T224149Z
LAST-MODIFIED:20250902T224204Z
UID:10040421-1893918600-1893918600@sandalschurch.com
SUMMARY:Service
DESCRIPTION:Experience the richness of gathering as a community. It’s a time of depth\, growth\, learning\, and true connection. Through meaningful teachings\, singing\, and shared stories\, we find understanding and inspiration that can reach something deeper within us.
URL:https://sandalschurch.com/event/anah-sun-830am-service/2030-01-06/
LOCATION:Anaheim\, 622 N Gilbert St\, Anaheim\, CA\, 92801\, United States
CATEGORIES:Service
ATTACH;FMTTYPE=image/jpeg:https://sandalschurch.com/wp-content/uploads/2024/10/20230305-WC-SERVICE-JRH-22-scaled.jpg
END:VEVENT
BEGIN:VEVENT
DTSTART;TZID=America/Los_Angeles:20300106T083000
DTEND;TZID=America/Los_Angeles:20300106T083000
DTSTAMP:20260423T004916
CREATED:20260331T201617Z
LAST-MODIFIED:20260331T201636Z
UID:10050373-1893918600-1893918600@sandalschurch.com
SUMMARY:Service
DESCRIPTION:Experience the richness of gathering as a community. It’s a time of depth\, growth\, learning\, and true connection. Through meaningful teachings\, singing\, and shared stories\, we find understanding and inspiration that can reach something deeper within us.
URL:https://sandalschurch.com/event/fsno-sun-830am-service/2030-01-06/
LOCATION:Fresno\, 405 W Lincoln Ave\, Fresno\, CA\, 93706\, United States
CATEGORIES:Service
ATTACH;FMTTYPE=image/jpeg:https://sandalschurch.com/wp-content/uploads/2024/10/20230305-WC-SERVICE-JRH-22-scaled.jpg
END:VEVENT
BEGIN:VEVENT
DTSTART;TZID=America/Los_Angeles:20300106T090000
DTEND;TZID=America/Los_Angeles:20300106T090000
DTSTAMP:20260423T004916
CREATED:20250326T201013Z
LAST-MODIFIED:20260324T215536Z
UID:10032908-1893920400-1893920400@sandalschurch.com
SUMMARY:Service
DESCRIPTION:Experience the richness of gathering as a community. It’s a time of depth\, growth\, learning\, and true connection. Through meaningful teachings\, singing\, and shared stories\, we find understanding and inspiration that can reach something deeper within us.
URL:https://sandalschurch.com/event/serive/2030-01-06/
LOCATION:Lake Arrowhead\, 1103 N. State Hwy 173\, Lake Arrowhead\, CA\, 92352\, United States
CATEGORIES:Service
ATTACH;FMTTYPE=image/jpeg:https://sandalschurch.com/wp-content/uploads/2025/03/20230305-WC-SERVICE-JRH-22-370x247-1.jpg
END:VEVENT
BEGIN:VEVENT
DTSTART;TZID=America/Los_Angeles:20300106T090000
DTEND;TZID=America/Los_Angeles:20300106T090000
DTSTAMP:20260423T004916
CREATED:20260210T043055Z
LAST-MODIFIED:20260210T043209Z
UID:10047083-1893920400-1893920400@sandalschurch.com
SUMMARY:Service
DESCRIPTION:Experience the richness of gathering as a community. It’s a time of depth\, growth\, learning\, and true connection. Through meaningful teachings\, singing\, and shared stories\, we find understanding and inspiration that can reach something deeper within us.
URL:https://sandalschurch.com/event/crna-sun-9am-service/2030-01-06/
LOCATION:Corona\, 268 N Lincoln Ave Ste 18\, Corona\, 92882\, United States
CATEGORIES:Service
ATTACH;FMTTYPE=image/jpeg:https://sandalschurch.com/wp-content/uploads/2024/10/20230305-WC-SERVICE-JRH-22-scaled.jpg
END:VEVENT
BEGIN:VEVENT
DTSTART;TZID=America/Los_Angeles:20300106T093000
DTEND;TZID=America/Los_Angeles:20300106T093000
DTSTAMP:20260423T004916
CREATED:20241017T190437Z
LAST-MODIFIED:20250123T230423Z
UID:10026156-1893922200-1893922200@sandalschurch.com
SUMMARY:Service
DESCRIPTION:Experience the richness of gathering as a community. It’s a time of depth\, growth\, learning\, and true connection. Through meaningful teachings\, singing\, and shared stories\, we find understanding and inspiration that can reach something deeper within us.
URL:https://sandalschurch.com/event/azsa-sun-9am-service/2030-01-06/
LOCATION:Azusa\, 630 E 5th St\, Azusa\, CA\, 91702\, United States
CATEGORIES:Service
ATTACH;FMTTYPE=image/jpeg:https://sandalschurch.com/wp-content/uploads/2024/10/20230305-WC-SERVICE-JRH-22-scaled.jpg
END:VEVENT
BEGIN:VEVENT
DTSTART;TZID=America/Los_Angeles:20300106T093000
DTEND;TZID=America/Los_Angeles:20300106T093000
DTSTAMP:20260423T004916
CREATED:20260317T164519Z
LAST-MODIFIED:20260317T164536Z
UID:10049670-1893922200-1893922200@sandalschurch.com
SUMMARY:Service (Eng. & Esp.)
DESCRIPTION:Experience the richness of gathering as a community. It’s a time of depth\, growth\, learning\, and true connection. Through meaningful teachings\, singing\, and shared stories\, we find understanding and inspiration that can reach something deeper within us.
URL:https://sandalschurch.com/event/mv-sun-930am-service-2-2/2030-01-06/
LOCATION:Moreno Valley\, 14093 Business Center Dr\, Moreno Valley\, CA\, 92553\, United States
CATEGORIES:Service
ATTACH;FMTTYPE=image/jpeg:https://sandalschurch.com/wp-content/uploads/2024/10/20230305-WC-SERVICE-JRH-22-scaled.jpg
END:VEVENT
BEGIN:VEVENT
DTSTART;TZID=America/Los_Angeles:20300106T094500
DTEND;TZID=America/Los_Angeles:20300106T094500
DTSTAMP:20260423T004916
CREATED:20241008T161324Z
LAST-MODIFIED:20250410T170348Z
UID:10034120-1893923100-1893923100@sandalschurch.com
SUMMARY:Service
DESCRIPTION:Experience the richness of gathering as a community. It’s a time of depth\, growth\, learning\, and true connection. Through meaningful teachings\, singing\, and shared stories\, we find understanding and inspiration that can reach something deeper within us.
URL:https://sandalschurch.com/event/wc-sun-945am-service/2030-01-06/
LOCATION:Woodcrest\, 17421 Van Buren Blvd\, Riverside\, CA\, 92504\, United States
CATEGORIES:Service
ATTACH;FMTTYPE=image/jpeg:https://sandalschurch.com/wp-content/uploads/2024/10/20230305-WC-SERVICE-JRH-22-scaled.jpg
END:VEVENT
BEGIN:VEVENT
DTSTART;TZID=America/Los_Angeles:20300106T094500
DTEND;TZID=America/Los_Angeles:20300106T094500
DTSTAMP:20260423T004916
CREATED:20241022T040903Z
LAST-MODIFIED:20260325T004718Z
UID:10049960-1893923100-1893923100@sandalschurch.com
SUMMARY:Service
DESCRIPTION:Experience the richness of gathering as a community. It’s a time of depth\, growth\, learning\, and true connection. Through meaningful teachings\, singing\, and shared stories\, we find understanding and inspiration that can reach something deeper within us.
URL:https://sandalschurch.com/event/ev-sun-945am-service/2030-01-06/
LOCATION:East Valley\, 1325 Amethyst St\, Mentone\, 92359\, United States
CATEGORIES:Service
ATTACH;FMTTYPE=image/jpeg:https://sandalschurch.com/wp-content/uploads/2024/10/20230305-WC-SERVICE-JRH-22-scaled.jpg
END:VEVENT
END:VCALENDAR