BEGIN:VCALENDAR
VERSION:2.0
PRODID:-//Sandals Church - ECPv6.13.0//NONSGML v1.0//EN
CALSCALE:GREGORIAN
METHOD:PUBLISH
X-WR-CALNAME:Sandals Church
X-ORIGINAL-URL:https://sandalschurch.com
X-WR-CALDESC:Events for Sandals Church
REFRESH-INTERVAL;VALUE=DURATION:PT1H
X-Robots-Tag:noindex
X-PUBLISHED-TTL:PT1H
BEGIN:VTIMEZONE
TZID:America/Los_Angeles
BEGIN:DAYLIGHT
TZOFFSETFROM:-0800
TZOFFSETTO:-0700
TZNAME:PDT
DTSTART:20300310T100000
END:DAYLIGHT
BEGIN:STANDARD
TZOFFSETFROM:-0700
TZOFFSETTO:-0800
TZNAME:PST
DTSTART:20301103T090000
END:STANDARD
END:VTIMEZONE
BEGIN:VEVENT
DTSTART;TZID=America/Los_Angeles:20301201T110000
DTEND;TZID=America/Los_Angeles:20301201T110000
DTSTAMP:20260424T000915
CREATED:20260114T204221Z
LAST-MODIFIED:20260114T204727Z
UID:10045325-1922353200-1922353200@sandalschurch.com
SUMMARY:Service
DESCRIPTION:Experience the richness of gathering as a community. It’s a time of depth\, growth\, learning\, and true connection. Through meaningful teachings\, singing\, and shared stories\, we find understanding and inspiration that can reach something deeper within us.
URL:https://sandalschurch.com/event/mnfe-sun-11am-service/2030-12-01/
LOCATION:Menifee\, 27755 Bradley Rd.\, Menifee\, CA\, 92586\, United States
CATEGORIES:Service
ATTACH;FMTTYPE=image/jpeg:https://sandalschurch.com/wp-content/uploads/2024/10/20230305-WC-SERVICE-JRH-22-scaled.jpg
END:VEVENT
BEGIN:VEVENT
DTSTART;TZID=America/Los_Angeles:20301201T111500
DTEND;TZID=America/Los_Angeles:20301201T111500
DTSTAMP:20260424T000915
CREATED:20260317T163602Z
LAST-MODIFIED:20260317T164605Z
UID:10049638-1922354100-1922354100@sandalschurch.com
SUMMARY:Service (Eng. & Esp.)
DESCRIPTION:Experience the richness of gathering as a community. It’s a time of depth\, growth\, learning\, and true connection. Through meaningful teachings\, singing\, and shared stories\, we find understanding and inspiration that can reach something deeper within us.
URL:https://sandalschurch.com/event/mv-sun-11am-service-2/2030-12-01/
LOCATION:Moreno Valley\, 14093 Business Center Dr\, Moreno Valley\, CA\, 92553\, United States
CATEGORIES:Service
ATTACH;FMTTYPE=image/jpeg:https://sandalschurch.com/wp-content/uploads/2024/10/20230305-WC-SERVICE-JRH-22-scaled.jpg
END:VEVENT
BEGIN:VEVENT
DTSTART;TZID=America/Los_Angeles:20301201T113000
DTEND;TZID=America/Los_Angeles:20301201T113000
DTSTAMP:20260424T000915
CREATED:20241022T041036Z
LAST-MODIFIED:20260325T004739Z
UID:10050081-1922355000-1922355000@sandalschurch.com
SUMMARY:Service
DESCRIPTION:Experience the richness of gathering as a community. It’s a time of depth\, growth\, learning\, and true connection. Through meaningful teachings\, singing\, and shared stories\, we find understanding and inspiration that can reach something deeper within us.
URL:https://sandalschurch.com/event/ev-sun-1130am-service/2030-12-01/
LOCATION:East Valley\, 1325 Amethyst St\, Mentone\, 92359\, United States
CATEGORIES:Service
ATTACH;FMTTYPE=image/jpeg:https://sandalschurch.com/wp-content/uploads/2024/10/20230305-WC-SERVICE-JRH-22-scaled.jpg
END:VEVENT
BEGIN:VEVENT
DTSTART;TZID=America/Los_Angeles:20301201T113000
DTEND;TZID=America/Los_Angeles:20301201T113000
DTSTAMP:20260424T000915
CREATED:20260331T202023Z
LAST-MODIFIED:20260331T202043Z
UID:10050940-1922355000-1922355000@sandalschurch.com
SUMMARY:Service (bilingual)
DESCRIPTION:Experience the richness of gathering as a community. It’s a time of depth\, growth\, learning\, and true connection. Through meaningful teachings\, singing\, and shared stories\, we find understanding and inspiration that can reach something deeper within us.
URL:https://sandalschurch.com/event/fsno-sun-1130am-service/2030-12-01/
LOCATION:Fresno\, 405 W Lincoln Ave\, Fresno\, CA\, 93706\, United States
CATEGORIES:Service
ATTACH;FMTTYPE=image/jpeg:https://sandalschurch.com/wp-content/uploads/2024/10/20230305-WC-SERVICE-JRH-22-scaled.jpg
END:VEVENT
BEGIN:VEVENT
DTSTART;TZID=America/Los_Angeles:20301201T114500
DTEND;TZID=America/Los_Angeles:20301201T114500
DTSTAMP:20260424T000915
CREATED:20260309T233139Z
LAST-MODIFIED:20260309T233154Z
UID:10049303-1922355900-1922355900@sandalschurch.com
SUMMARY:Service
DESCRIPTION:Join us for church! Each service is about 75 minutes with worship and a live sermon from one of our pastors.
URL:https://sandalschurch.com/event/hp-sun-1145am-service-3/2030-12-01/
LOCATION:Hunter Park\, 150 Palmyrita Ave\, Riverside\, CA\, 92507\, United States
CATEGORIES:Service
ATTACH;FMTTYPE=image/jpeg:https://sandalschurch.com/wp-content/uploads/2024/02/20230423_HP_SundayMorning_Service_BW-33-scaled.jpg
END:VEVENT
BEGIN:VEVENT
DTSTART;TZID=America/Los_Angeles:20301201T180000
DTEND;TZID=America/Los_Angeles:20301201T180000
DTSTAMP:20260424T000915
CREATED:20241023T180809Z
LAST-MODIFIED:20241023T180829Z
UID:10043137-1922378400-1922378400@sandalschurch.com
SUMMARY:Service
DESCRIPTION:Experience the richness of gathering as a community. It’s a time of depth\, growth\, learning\, and true connection. Through meaningful teachings\, singing\, and shared stories\, we find understanding and inspiration that can reach something deeper within us.
URL:https://sandalschurch.com/event/sb-sun-6pm-service/2030-12-01/
LOCATION:San Bernardino\, 3701 N Sierra Way\, San Bernardino\, CA\, 92405\, United States
CATEGORIES:Service
ATTACH;FMTTYPE=image/jpeg:https://sandalschurch.com/wp-content/uploads/2024/10/20230305-WC-SERVICE-JRH-22-scaled.jpg
END:VEVENT
BEGIN:VEVENT
DTSTART;TZID=America/Los_Angeles:20301201T190000
DTEND;TZID=America/Los_Angeles:20301201T190000
DTSTAMP:20260424T000915
CREATED:20241023T185929Z
LAST-MODIFIED:20250322T234254Z
UID:10043455-1922382000-1922382000@sandalschurch.com
SUMMARY:Service
DESCRIPTION:Experience the richness of gathering as a community. It’s a time of depth\, growth\, learning\, and true connection. Through meaningful teachings\, singing\, and shared stories\, we find understanding and inspiration that can reach something deeper within us.
URL:https://sandalschurch.com/event/pa-sun-7pm-service/2030-12-01/
LOCATION:Palm Avenue\, 6807 Palm Ave\, Riverside\, CA\, 92506\, United States
CATEGORIES:Service
ATTACH;FMTTYPE=image/jpeg:https://sandalschurch.com/wp-content/uploads/2024/10/20230305-WC-SERVICE-JRH-22-scaled.jpg
END:VEVENT
BEGIN:VEVENT
DTSTART;TZID=America/Los_Angeles:20301207T170000
DTEND;TZID=America/Los_Angeles:20301207T181500
DTSTAMP:20260424T000915
CREATED:20260309T232900Z
LAST-MODIFIED:20260309T232915Z
UID:10045020-1922893200-1922897700@sandalschurch.com
SUMMARY:Service
DESCRIPTION:Join us for church! Each service is about 75 minutes with worship and a live sermon from one of our pastors.
URL:https://sandalschurch.com/event/hp-sat-4pm-service-2-3/2030-12-07/
LOCATION:Hunter Park\, 150 Palmyrita Ave\, Riverside\, CA\, 92507\, United States
CATEGORIES:Service
ATTACH;FMTTYPE=image/jpeg:https://sandalschurch.com/wp-content/uploads/2024/02/20230423_HP_SundayMorning_Service_BW-33-scaled.jpg
END:VEVENT
BEGIN:VEVENT
DTSTART;TZID=America/Los_Angeles:20301208T080000
DTEND;TZID=America/Los_Angeles:20301208T080000
DTSTAMP:20260424T000915
CREATED:20241022T040720Z
LAST-MODIFIED:20260325T004606Z
UID:10049934-1922947200-1922947200@sandalschurch.com
SUMMARY:Service
DESCRIPTION:Experience the richness of gathering as a community. It’s a time of depth\, growth\, learning\, and true connection. Through meaningful teachings\, singing\, and shared stories\, we find understanding and inspiration that can reach something deeper within us.
URL:https://sandalschurch.com/event/ev-sun-8am-service/2030-12-08/
LOCATION:East Valley\, 1325 Amethyst St\, Mentone\, 92359\, United States
CATEGORIES:Service
ATTACH;FMTTYPE=image/jpeg:https://sandalschurch.com/wp-content/uploads/2024/10/20230305-WC-SERVICE-JRH-22-scaled.jpg
END:VEVENT
BEGIN:VEVENT
DTSTART;TZID=America/Los_Angeles:20301208T081500
DTEND;TZID=America/Los_Angeles:20301208T081500
DTSTAMP:20260424T000915
CREATED:20260309T232757Z
LAST-MODIFIED:20260309T232813Z
UID:10049160-1922948100-1922948100@sandalschurch.com
SUMMARY:Service
DESCRIPTION:Join us for church! Each service is about 75 minutes with worship and a live sermon from one of our pastors.
URL:https://sandalschurch.com/event/hp-sun-815am-service-3/2030-12-08/
LOCATION:Hunter Park\, 150 Palmyrita Ave\, Riverside\, CA\, 92507\, United States
CATEGORIES:Service
ATTACH;FMTTYPE=image/jpeg:https://sandalschurch.com/wp-content/uploads/2024/02/20230423_HP_SundayMorning_Service_BW-33-scaled.jpg
END:VEVENT
BEGIN:VEVENT
DTSTART;TZID=America/Los_Angeles:20301208T083000
DTEND;TZID=America/Los_Angeles:20301208T083000
DTSTAMP:20260424T000915
CREATED:20260331T201617Z
LAST-MODIFIED:20260331T201636Z
UID:10050421-1922949000-1922949000@sandalschurch.com
SUMMARY:Service
DESCRIPTION:Experience the richness of gathering as a community. It’s a time of depth\, growth\, learning\, and true connection. Through meaningful teachings\, singing\, and shared stories\, we find understanding and inspiration that can reach something deeper within us.
URL:https://sandalschurch.com/event/fsno-sun-830am-service/2030-12-08/
LOCATION:Fresno\, 405 W Lincoln Ave\, Fresno\, CA\, 93706\, United States
CATEGORIES:Service
ATTACH;FMTTYPE=image/jpeg:https://sandalschurch.com/wp-content/uploads/2024/10/20230305-WC-SERVICE-JRH-22-scaled.jpg
END:VEVENT
BEGIN:VEVENT
DTSTART;TZID=America/Los_Angeles:20301208T090000
DTEND;TZID=America/Los_Angeles:20301208T090000
DTSTAMP:20260424T000915
CREATED:20250326T201013Z
LAST-MODIFIED:20260324T215536Z
UID:10049850-1922950800-1922950800@sandalschurch.com
SUMMARY:Service
DESCRIPTION:Experience the richness of gathering as a community. It’s a time of depth\, growth\, learning\, and true connection. Through meaningful teachings\, singing\, and shared stories\, we find understanding and inspiration that can reach something deeper within us.
URL:https://sandalschurch.com/event/serive/2030-12-08/
LOCATION:Lake Arrowhead\, 1103 N. State Hwy 173\, Lake Arrowhead\, CA\, 92352\, United States
CATEGORIES:Service
ATTACH;FMTTYPE=image/jpeg:https://sandalschurch.com/wp-content/uploads/2025/03/20230305-WC-SERVICE-JRH-22-370x247-1.jpg
END:VEVENT
BEGIN:VEVENT
DTSTART;TZID=America/Los_Angeles:20301208T090000
DTEND;TZID=America/Los_Angeles:20301208T090000
DTSTAMP:20260424T000915
CREATED:20260210T043055Z
LAST-MODIFIED:20260210T043209Z
UID:10047131-1922950800-1922950800@sandalschurch.com
SUMMARY:Service
DESCRIPTION:Experience the richness of gathering as a community. It’s a time of depth\, growth\, learning\, and true connection. Through meaningful teachings\, singing\, and shared stories\, we find understanding and inspiration that can reach something deeper within us.
URL:https://sandalschurch.com/event/crna-sun-9am-service/2030-12-08/
LOCATION:Corona\, 268 N Lincoln Ave Ste 18\, Corona\, 92882\, United States
CATEGORIES:Service
ATTACH;FMTTYPE=image/jpeg:https://sandalschurch.com/wp-content/uploads/2024/10/20230305-WC-SERVICE-JRH-22-scaled.jpg
END:VEVENT
BEGIN:VEVENT
DTSTART;TZID=America/Los_Angeles:20301208T093000
DTEND;TZID=America/Los_Angeles:20301208T093000
DTSTAMP:20260424T000915
CREATED:20260317T164519Z
LAST-MODIFIED:20260317T164536Z
UID:10049718-1922952600-1922952600@sandalschurch.com
SUMMARY:Service (Eng. & Esp.)
DESCRIPTION:Experience the richness of gathering as a community. It’s a time of depth\, growth\, learning\, and true connection. Through meaningful teachings\, singing\, and shared stories\, we find understanding and inspiration that can reach something deeper within us.
URL:https://sandalschurch.com/event/mv-sun-930am-service-2-2/2030-12-08/
LOCATION:Moreno Valley\, 14093 Business Center Dr\, Moreno Valley\, CA\, 92553\, United States
CATEGORIES:Service
ATTACH;FMTTYPE=image/jpeg:https://sandalschurch.com/wp-content/uploads/2024/10/20230305-WC-SERVICE-JRH-22-scaled.jpg
END:VEVENT
BEGIN:VEVENT
DTSTART;TZID=America/Los_Angeles:20301208T094500
DTEND;TZID=America/Los_Angeles:20301208T094500
DTSTAMP:20260424T000915
CREATED:20241022T040903Z
LAST-MODIFIED:20260325T004718Z
UID:10050008-1922953500-1922953500@sandalschurch.com
SUMMARY:Service
DESCRIPTION:Experience the richness of gathering as a community. It’s a time of depth\, growth\, learning\, and true connection. Through meaningful teachings\, singing\, and shared stories\, we find understanding and inspiration that can reach something deeper within us.
URL:https://sandalschurch.com/event/ev-sun-945am-service/2030-12-08/
LOCATION:East Valley\, 1325 Amethyst St\, Mentone\, 92359\, United States
CATEGORIES:Service
ATTACH;FMTTYPE=image/jpeg:https://sandalschurch.com/wp-content/uploads/2024/10/20230305-WC-SERVICE-JRH-22-scaled.jpg
END:VEVENT
BEGIN:VEVENT
DTSTART;TZID=America/Los_Angeles:20301208T100000
DTEND;TZID=America/Los_Angeles:20301208T100000
DTSTAMP:20260424T000915
CREATED:20260309T232914Z
LAST-MODIFIED:20260309T232925Z
UID:10049232-1922954400-1922954400@sandalschurch.com
SUMMARY:Service
DESCRIPTION:Join us for church! Each service is about 75 minutes with worship and a live sermon from one of our pastors.
URL:https://sandalschurch.com/event/hp-sun-10am-service-3/2030-12-08/
LOCATION:Hunter Park\, 150 Palmyrita Ave\, Riverside\, CA\, 92507\, United States
CATEGORIES:Service
ATTACH;FMTTYPE=image/jpeg:https://sandalschurch.com/wp-content/uploads/2024/02/20230423_HP_SundayMorning_Service_BW-33-scaled.jpg
END:VEVENT
BEGIN:VEVENT
DTSTART;TZID=America/Los_Angeles:20301208T100000
DTEND;TZID=America/Los_Angeles:20301208T100000
DTSTAMP:20260424T000915
CREATED:20260331T201848Z
LAST-MODIFIED:20260331T201908Z
UID:10050681-1922954400-1922954400@sandalschurch.com
SUMMARY:Service
DESCRIPTION:Experience the richness of gathering as a community. It’s a time of depth\, growth\, learning\, and true connection. Through meaningful teachings\, singing\, and shared stories\, we find understanding and inspiration that can reach something deeper within us.
URL:https://sandalschurch.com/event/fsno-sun-10am-service/2030-12-08/
LOCATION:Fresno\, 405 W Lincoln Ave\, Fresno\, CA\, 93706\, United States
CATEGORIES:Service
ATTACH;FMTTYPE=image/jpeg:https://sandalschurch.com/wp-content/uploads/2024/10/20230305-WC-SERVICE-JRH-22-scaled.jpg
END:VEVENT
BEGIN:VEVENT
DTSTART;TZID=America/Los_Angeles:20301208T104500
DTEND;TZID=America/Los_Angeles:20301208T104500
DTSTAMP:20260424T000915
CREATED:20260210T043434Z
LAST-MODIFIED:20260219T191516Z
UID:10047391-1922957100-1922957100@sandalschurch.com
SUMMARY:Service
DESCRIPTION:Experience the richness of gathering as a community. It’s a time of depth\, growth\, learning\, and true connection. Through meaningful teachings\, singing\, and shared stories\, we find understanding and inspiration that can reach something deeper within us.
URL:https://sandalschurch.com/event/crna-sun-1045am-service/2030-12-08/
LOCATION:Corona\, 268 N Lincoln Ave Ste 18\, Corona\, 92882\, United States
CATEGORIES:Service
ATTACH;FMTTYPE=image/jpeg:https://sandalschurch.com/wp-content/uploads/2024/10/20230305-WC-SERVICE-JRH-22-scaled.jpg
END:VEVENT
BEGIN:VEVENT
DTSTART;TZID=America/Los_Angeles:20301208T110000
DTEND;TZID=America/Los_Angeles:20301208T110000
DTSTAMP:20260424T000915
CREATED:20241023T195528Z
LAST-MODIFIED:20260324T215727Z
UID:10049902-1922958000-1922958000@sandalschurch.com
SUMMARY:Service
DESCRIPTION:Experience the richness of gathering as a community. It’s a time of depth\, growth\, learning\, and true connection. Through meaningful teachings\, singing\, and shared stories\, we find understanding and inspiration that can reach something deeper within us.
URL:https://sandalschurch.com/event/lkah-sun-11am-service/2030-12-08/
LOCATION:Lake Arrowhead\, 1103 N. State Hwy 173\, Lake Arrowhead\, CA\, 92352\, United States
CATEGORIES:Service
ATTACH;FMTTYPE=image/jpeg:https://sandalschurch.com/wp-content/uploads/2024/10/20230305-WC-SERVICE-JRH-22-scaled.jpg
END:VEVENT
BEGIN:VEVENT
DTSTART;TZID=America/Los_Angeles:20301208T110000
DTEND;TZID=America/Los_Angeles:20301208T110000
DTSTAMP:20260424T000915
CREATED:20260114T204221Z
LAST-MODIFIED:20260114T204727Z
UID:10045326-1922958000-1922958000@sandalschurch.com
SUMMARY:Service
DESCRIPTION:Experience the richness of gathering as a community. It’s a time of depth\, growth\, learning\, and true connection. Through meaningful teachings\, singing\, and shared stories\, we find understanding and inspiration that can reach something deeper within us.
URL:https://sandalschurch.com/event/mnfe-sun-11am-service/2030-12-08/
LOCATION:Menifee\, 27755 Bradley Rd.\, Menifee\, CA\, 92586\, United States
CATEGORIES:Service
ATTACH;FMTTYPE=image/jpeg:https://sandalschurch.com/wp-content/uploads/2024/10/20230305-WC-SERVICE-JRH-22-scaled.jpg
END:VEVENT
BEGIN:VEVENT
DTSTART;TZID=America/Los_Angeles:20301208T111500
DTEND;TZID=America/Los_Angeles:20301208T111500
DTSTAMP:20260424T000915
CREATED:20260317T163602Z
LAST-MODIFIED:20260317T164605Z
UID:10049639-1922958900-1922958900@sandalschurch.com
SUMMARY:Service (Eng. & Esp.)
DESCRIPTION:Experience the richness of gathering as a community. It’s a time of depth\, growth\, learning\, and true connection. Through meaningful teachings\, singing\, and shared stories\, we find understanding and inspiration that can reach something deeper within us.
URL:https://sandalschurch.com/event/mv-sun-11am-service-2/2030-12-08/
LOCATION:Moreno Valley\, 14093 Business Center Dr\, Moreno Valley\, CA\, 92553\, United States
CATEGORIES:Service
ATTACH;FMTTYPE=image/jpeg:https://sandalschurch.com/wp-content/uploads/2024/10/20230305-WC-SERVICE-JRH-22-scaled.jpg
END:VEVENT
BEGIN:VEVENT
DTSTART;TZID=America/Los_Angeles:20301208T113000
DTEND;TZID=America/Los_Angeles:20301208T113000
DTSTAMP:20260424T000915
CREATED:20241022T041036Z
LAST-MODIFIED:20260325T004739Z
UID:10050082-1922959800-1922959800@sandalschurch.com
SUMMARY:Service
DESCRIPTION:Experience the richness of gathering as a community. It’s a time of depth\, growth\, learning\, and true connection. Through meaningful teachings\, singing\, and shared stories\, we find understanding and inspiration that can reach something deeper within us.
URL:https://sandalschurch.com/event/ev-sun-1130am-service/2030-12-08/
LOCATION:East Valley\, 1325 Amethyst St\, Mentone\, 92359\, United States
CATEGORIES:Service
ATTACH;FMTTYPE=image/jpeg:https://sandalschurch.com/wp-content/uploads/2024/10/20230305-WC-SERVICE-JRH-22-scaled.jpg
END:VEVENT
BEGIN:VEVENT
DTSTART;TZID=America/Los_Angeles:20301208T113000
DTEND;TZID=America/Los_Angeles:20301208T113000
DTSTAMP:20260424T000915
CREATED:20260331T202023Z
LAST-MODIFIED:20260331T202043Z
UID:10050941-1922959800-1922959800@sandalschurch.com
SUMMARY:Service (bilingual)
DESCRIPTION:Experience the richness of gathering as a community. It’s a time of depth\, growth\, learning\, and true connection. Through meaningful teachings\, singing\, and shared stories\, we find understanding and inspiration that can reach something deeper within us.
URL:https://sandalschurch.com/event/fsno-sun-1130am-service/2030-12-08/
LOCATION:Fresno\, 405 W Lincoln Ave\, Fresno\, CA\, 93706\, United States
CATEGORIES:Service
ATTACH;FMTTYPE=image/jpeg:https://sandalschurch.com/wp-content/uploads/2024/10/20230305-WC-SERVICE-JRH-22-scaled.jpg
END:VEVENT
BEGIN:VEVENT
DTSTART;TZID=America/Los_Angeles:20301208T114500
DTEND;TZID=America/Los_Angeles:20301208T114500
DTSTAMP:20260424T000915
CREATED:20260309T233139Z
LAST-MODIFIED:20260309T233154Z
UID:10049304-1922960700-1922960700@sandalschurch.com
SUMMARY:Service
DESCRIPTION:Join us for church! Each service is about 75 minutes with worship and a live sermon from one of our pastors.
URL:https://sandalschurch.com/event/hp-sun-1145am-service-3/2030-12-08/
LOCATION:Hunter Park\, 150 Palmyrita Ave\, Riverside\, CA\, 92507\, United States
CATEGORIES:Service
ATTACH;FMTTYPE=image/jpeg:https://sandalschurch.com/wp-content/uploads/2024/02/20230423_HP_SundayMorning_Service_BW-33-scaled.jpg
END:VEVENT
BEGIN:VEVENT
DTSTART;TZID=America/Los_Angeles:20301208T190000
DTEND;TZID=America/Los_Angeles:20301208T190000
DTSTAMP:20260424T000915
CREATED:20241023T185929Z
LAST-MODIFIED:20250322T234254Z
UID:10043456-1922986800-1922986800@sandalschurch.com
SUMMARY:Service
DESCRIPTION:Experience the richness of gathering as a community. It’s a time of depth\, growth\, learning\, and true connection. Through meaningful teachings\, singing\, and shared stories\, we find understanding and inspiration that can reach something deeper within us.
URL:https://sandalschurch.com/event/pa-sun-7pm-service/2030-12-08/
LOCATION:Palm Avenue\, 6807 Palm Ave\, Riverside\, CA\, 92506\, United States
CATEGORIES:Service
ATTACH;FMTTYPE=image/jpeg:https://sandalschurch.com/wp-content/uploads/2024/10/20230305-WC-SERVICE-JRH-22-scaled.jpg
END:VEVENT
BEGIN:VEVENT
DTSTART;TZID=America/Los_Angeles:20301214T170000
DTEND;TZID=America/Los_Angeles:20301214T181500
DTSTAMP:20260424T000915
CREATED:20260309T232900Z
LAST-MODIFIED:20260309T232915Z
UID:10045021-1923498000-1923502500@sandalschurch.com
SUMMARY:Service
DESCRIPTION:Join us for church! Each service is about 75 minutes with worship and a live sermon from one of our pastors.
URL:https://sandalschurch.com/event/hp-sat-4pm-service-2-3/2030-12-14/
LOCATION:Hunter Park\, 150 Palmyrita Ave\, Riverside\, CA\, 92507\, United States
CATEGORIES:Service
ATTACH;FMTTYPE=image/jpeg:https://sandalschurch.com/wp-content/uploads/2024/02/20230423_HP_SundayMorning_Service_BW-33-scaled.jpg
END:VEVENT
BEGIN:VEVENT
DTSTART;TZID=America/Los_Angeles:20301215T080000
DTEND;TZID=America/Los_Angeles:20301215T080000
DTSTAMP:20260424T000915
CREATED:20241022T040720Z
LAST-MODIFIED:20260325T004606Z
UID:10049935-1923552000-1923552000@sandalschurch.com
SUMMARY:Service
DESCRIPTION:Experience the richness of gathering as a community. It’s a time of depth\, growth\, learning\, and true connection. Through meaningful teachings\, singing\, and shared stories\, we find understanding and inspiration that can reach something deeper within us.
URL:https://sandalschurch.com/event/ev-sun-8am-service/2030-12-15/
LOCATION:East Valley\, 1325 Amethyst St\, Mentone\, 92359\, United States
CATEGORIES:Service
ATTACH;FMTTYPE=image/jpeg:https://sandalschurch.com/wp-content/uploads/2024/10/20230305-WC-SERVICE-JRH-22-scaled.jpg
END:VEVENT
BEGIN:VEVENT
DTSTART;TZID=America/Los_Angeles:20301215T081500
DTEND;TZID=America/Los_Angeles:20301215T081500
DTSTAMP:20260424T000915
CREATED:20260309T232757Z
LAST-MODIFIED:20260309T232813Z
UID:10049161-1923552900-1923552900@sandalschurch.com
SUMMARY:Service
DESCRIPTION:Join us for church! Each service is about 75 minutes with worship and a live sermon from one of our pastors.
URL:https://sandalschurch.com/event/hp-sun-815am-service-3/2030-12-15/
LOCATION:Hunter Park\, 150 Palmyrita Ave\, Riverside\, CA\, 92507\, United States
CATEGORIES:Service
ATTACH;FMTTYPE=image/jpeg:https://sandalschurch.com/wp-content/uploads/2024/02/20230423_HP_SundayMorning_Service_BW-33-scaled.jpg
END:VEVENT
BEGIN:VEVENT
DTSTART;TZID=America/Los_Angeles:20301215T083000
DTEND;TZID=America/Los_Angeles:20301215T083000
DTSTAMP:20260424T000915
CREATED:20260331T201617Z
LAST-MODIFIED:20260331T201636Z
UID:10050422-1923553800-1923553800@sandalschurch.com
SUMMARY:Service
DESCRIPTION:Experience the richness of gathering as a community. It’s a time of depth\, growth\, learning\, and true connection. Through meaningful teachings\, singing\, and shared stories\, we find understanding and inspiration that can reach something deeper within us.
URL:https://sandalschurch.com/event/fsno-sun-830am-service/2030-12-15/
LOCATION:Fresno\, 405 W Lincoln Ave\, Fresno\, CA\, 93706\, United States
CATEGORIES:Service
ATTACH;FMTTYPE=image/jpeg:https://sandalschurch.com/wp-content/uploads/2024/10/20230305-WC-SERVICE-JRH-22-scaled.jpg
END:VEVENT
BEGIN:VEVENT
DTSTART;TZID=America/Los_Angeles:20301215T090000
DTEND;TZID=America/Los_Angeles:20301215T090000
DTSTAMP:20260424T000915
CREATED:20250326T201013Z
LAST-MODIFIED:20260324T215536Z
UID:10049851-1923555600-1923555600@sandalschurch.com
SUMMARY:Service
DESCRIPTION:Experience the richness of gathering as a community. It’s a time of depth\, growth\, learning\, and true connection. Through meaningful teachings\, singing\, and shared stories\, we find understanding and inspiration that can reach something deeper within us.
URL:https://sandalschurch.com/event/serive/2030-12-15/
LOCATION:Lake Arrowhead\, 1103 N. State Hwy 173\, Lake Arrowhead\, CA\, 92352\, United States
CATEGORIES:Service
ATTACH;FMTTYPE=image/jpeg:https://sandalschurch.com/wp-content/uploads/2025/03/20230305-WC-SERVICE-JRH-22-370x247-1.jpg
END:VEVENT
END:VCALENDAR