BEGIN:VCALENDAR
VERSION:2.0
PRODID:-//Sandals Church - ECPv6.13.0//NONSGML v1.0//EN
CALSCALE:GREGORIAN
METHOD:PUBLISH
X-WR-CALNAME:Sandals Church
X-ORIGINAL-URL:https://sandalschurch.com
X-WR-CALDESC:Events for Sandals Church
REFRESH-INTERVAL;VALUE=DURATION:PT1H
X-Robots-Tag:noindex
X-PUBLISHED-TTL:PT1H
BEGIN:VTIMEZONE
TZID:America/Los_Angeles
BEGIN:DAYLIGHT
TZOFFSETFROM:-0800
TZOFFSETTO:-0700
TZNAME:PDT
DTSTART:20300310T100000
END:DAYLIGHT
BEGIN:STANDARD
TZOFFSETFROM:-0700
TZOFFSETTO:-0800
TZNAME:PST
DTSTART:20301103T090000
END:STANDARD
END:VTIMEZONE
BEGIN:VEVENT
DTSTART;TZID=America/Los_Angeles:20301013T104500
DTEND;TZID=America/Los_Angeles:20301013T104500
DTSTAMP:20260424T001015
CREATED:20260210T043434Z
LAST-MODIFIED:20260219T191516Z
UID:10047383-1918118700-1918118700@sandalschurch.com
SUMMARY:Service
DESCRIPTION:Experience the richness of gathering as a community. It’s a time of depth\, growth\, learning\, and true connection. Through meaningful teachings\, singing\, and shared stories\, we find understanding and inspiration that can reach something deeper within us.
URL:https://sandalschurch.com/event/crna-sun-1045am-service/2030-10-13/
LOCATION:Corona\, 268 N Lincoln Ave Ste 18\, Corona\, 92882\, United States
CATEGORIES:Service
ATTACH;FMTTYPE=image/jpeg:https://sandalschurch.com/wp-content/uploads/2024/10/20230305-WC-SERVICE-JRH-22-scaled.jpg
END:VEVENT
BEGIN:VEVENT
DTSTART;TZID=America/Los_Angeles:20301013T110000
DTEND;TZID=America/Los_Angeles:20301013T110000
DTSTAMP:20260424T001015
CREATED:20241023T195528Z
LAST-MODIFIED:20260324T215727Z
UID:10049894-1918119600-1918119600@sandalschurch.com
SUMMARY:Service
DESCRIPTION:Experience the richness of gathering as a community. It’s a time of depth\, growth\, learning\, and true connection. Through meaningful teachings\, singing\, and shared stories\, we find understanding and inspiration that can reach something deeper within us.
URL:https://sandalschurch.com/event/lkah-sun-11am-service/2030-10-13/
LOCATION:Lake Arrowhead\, 1103 N. State Hwy 173\, Lake Arrowhead\, CA\, 92352\, United States
CATEGORIES:Service
ATTACH;FMTTYPE=image/jpeg:https://sandalschurch.com/wp-content/uploads/2024/10/20230305-WC-SERVICE-JRH-22-scaled.jpg
END:VEVENT
BEGIN:VEVENT
DTSTART;TZID=America/Los_Angeles:20301013T110000
DTEND;TZID=America/Los_Angeles:20301013T110000
DTSTAMP:20260424T001015
CREATED:20260114T204221Z
LAST-MODIFIED:20260114T204727Z
UID:10045318-1918119600-1918119600@sandalschurch.com
SUMMARY:Service
DESCRIPTION:Experience the richness of gathering as a community. It’s a time of depth\, growth\, learning\, and true connection. Through meaningful teachings\, singing\, and shared stories\, we find understanding and inspiration that can reach something deeper within us.
URL:https://sandalschurch.com/event/mnfe-sun-11am-service/2030-10-13/
LOCATION:Menifee\, 27755 Bradley Rd.\, Menifee\, CA\, 92586\, United States
CATEGORIES:Service
ATTACH;FMTTYPE=image/jpeg:https://sandalschurch.com/wp-content/uploads/2024/10/20230305-WC-SERVICE-JRH-22-scaled.jpg
END:VEVENT
BEGIN:VEVENT
DTSTART;TZID=America/Los_Angeles:20301013T111500
DTEND;TZID=America/Los_Angeles:20301013T111500
DTSTAMP:20260424T001015
CREATED:20260317T163602Z
LAST-MODIFIED:20260317T164605Z
UID:10049631-1918120500-1918120500@sandalschurch.com
SUMMARY:Service (Eng. & Esp.)
DESCRIPTION:Experience the richness of gathering as a community. It’s a time of depth\, growth\, learning\, and true connection. Through meaningful teachings\, singing\, and shared stories\, we find understanding and inspiration that can reach something deeper within us.
URL:https://sandalschurch.com/event/mv-sun-11am-service-2/2030-10-13/
LOCATION:Moreno Valley\, 14093 Business Center Dr\, Moreno Valley\, CA\, 92553\, United States
CATEGORIES:Service
ATTACH;FMTTYPE=image/jpeg:https://sandalschurch.com/wp-content/uploads/2024/10/20230305-WC-SERVICE-JRH-22-scaled.jpg
END:VEVENT
BEGIN:VEVENT
DTSTART;TZID=America/Los_Angeles:20301013T113000
DTEND;TZID=America/Los_Angeles:20301013T113000
DTSTAMP:20260424T001015
CREATED:20241022T041036Z
LAST-MODIFIED:20260325T004739Z
UID:10050074-1918121400-1918121400@sandalschurch.com
SUMMARY:Service
DESCRIPTION:Experience the richness of gathering as a community. It’s a time of depth\, growth\, learning\, and true connection. Through meaningful teachings\, singing\, and shared stories\, we find understanding and inspiration that can reach something deeper within us.
URL:https://sandalschurch.com/event/ev-sun-1130am-service/2030-10-13/
LOCATION:East Valley\, 1325 Amethyst St\, Mentone\, 92359\, United States
CATEGORIES:Service
ATTACH;FMTTYPE=image/jpeg:https://sandalschurch.com/wp-content/uploads/2024/10/20230305-WC-SERVICE-JRH-22-scaled.jpg
END:VEVENT
BEGIN:VEVENT
DTSTART;TZID=America/Los_Angeles:20301013T113000
DTEND;TZID=America/Los_Angeles:20301013T113000
DTSTAMP:20260424T001015
CREATED:20260331T202023Z
LAST-MODIFIED:20260331T202043Z
UID:10050933-1918121400-1918121400@sandalschurch.com
SUMMARY:Service (bilingual)
DESCRIPTION:Experience the richness of gathering as a community. It’s a time of depth\, growth\, learning\, and true connection. Through meaningful teachings\, singing\, and shared stories\, we find understanding and inspiration that can reach something deeper within us.
URL:https://sandalschurch.com/event/fsno-sun-1130am-service/2030-10-13/
LOCATION:Fresno\, 405 W Lincoln Ave\, Fresno\, CA\, 93706\, United States
CATEGORIES:Service
ATTACH;FMTTYPE=image/jpeg:https://sandalschurch.com/wp-content/uploads/2024/10/20230305-WC-SERVICE-JRH-22-scaled.jpg
END:VEVENT
BEGIN:VEVENT
DTSTART;TZID=America/Los_Angeles:20301013T114500
DTEND;TZID=America/Los_Angeles:20301013T114500
DTSTAMP:20260424T001015
CREATED:20260309T233139Z
LAST-MODIFIED:20260309T233154Z
UID:10049296-1918122300-1918122300@sandalschurch.com
SUMMARY:Service
DESCRIPTION:Join us for church! Each service is about 75 minutes with worship and a live sermon from one of our pastors.
URL:https://sandalschurch.com/event/hp-sun-1145am-service-3/2030-10-13/
LOCATION:Hunter Park\, 150 Palmyrita Ave\, Riverside\, CA\, 92507\, United States
CATEGORIES:Service
ATTACH;FMTTYPE=image/jpeg:https://sandalschurch.com/wp-content/uploads/2024/02/20230423_HP_SundayMorning_Service_BW-33-scaled.jpg
END:VEVENT
BEGIN:VEVENT
DTSTART;TZID=America/Los_Angeles:20301013T180000
DTEND;TZID=America/Los_Angeles:20301013T180000
DTSTAMP:20260424T001015
CREATED:20241023T180809Z
LAST-MODIFIED:20241023T180829Z
UID:10042776-1918144800-1918144800@sandalschurch.com
SUMMARY:Service
DESCRIPTION:Experience the richness of gathering as a community. It’s a time of depth\, growth\, learning\, and true connection. Through meaningful teachings\, singing\, and shared stories\, we find understanding and inspiration that can reach something deeper within us.
URL:https://sandalschurch.com/event/sb-sun-6pm-service/2030-10-13/
LOCATION:San Bernardino\, 3701 N Sierra Way\, San Bernardino\, CA\, 92405\, United States
CATEGORIES:Service
ATTACH;FMTTYPE=image/jpeg:https://sandalschurch.com/wp-content/uploads/2024/10/20230305-WC-SERVICE-JRH-22-scaled.jpg
END:VEVENT
BEGIN:VEVENT
DTSTART;TZID=America/Los_Angeles:20301013T190000
DTEND;TZID=America/Los_Angeles:20301013T190000
DTSTAMP:20260424T001015
CREATED:20241023T185929Z
LAST-MODIFIED:20250322T234254Z
UID:10043448-1918148400-1918148400@sandalschurch.com
SUMMARY:Service
DESCRIPTION:Experience the richness of gathering as a community. It’s a time of depth\, growth\, learning\, and true connection. Through meaningful teachings\, singing\, and shared stories\, we find understanding and inspiration that can reach something deeper within us.
URL:https://sandalschurch.com/event/pa-sun-7pm-service/2030-10-13/
LOCATION:Palm Avenue\, 6807 Palm Ave\, Riverside\, CA\, 92506\, United States
CATEGORIES:Service
ATTACH;FMTTYPE=image/jpeg:https://sandalschurch.com/wp-content/uploads/2024/10/20230305-WC-SERVICE-JRH-22-scaled.jpg
END:VEVENT
BEGIN:VEVENT
DTSTART;TZID=America/Los_Angeles:20301019T170000
DTEND;TZID=America/Los_Angeles:20301019T181500
DTSTAMP:20260424T001015
CREATED:20260309T232900Z
LAST-MODIFIED:20260309T232915Z
UID:10042911-1918659600-1918664100@sandalschurch.com
SUMMARY:Service
DESCRIPTION:Join us for church! Each service is about 75 minutes with worship and a live sermon from one of our pastors.
URL:https://sandalschurch.com/event/hp-sat-4pm-service-2-3/2030-10-19/
LOCATION:Hunter Park\, 150 Palmyrita Ave\, Riverside\, CA\, 92507\, United States
CATEGORIES:Service
ATTACH;FMTTYPE=image/jpeg:https://sandalschurch.com/wp-content/uploads/2024/02/20230423_HP_SundayMorning_Service_BW-33-scaled.jpg
END:VEVENT
BEGIN:VEVENT
DTSTART;TZID=America/Los_Angeles:20301020T080000
DTEND;TZID=America/Los_Angeles:20301020T080000
DTSTAMP:20260424T001015
CREATED:20241022T040720Z
LAST-MODIFIED:20260325T004606Z
UID:10049927-1918713600-1918713600@sandalschurch.com
SUMMARY:Service
DESCRIPTION:Experience the richness of gathering as a community. It’s a time of depth\, growth\, learning\, and true connection. Through meaningful teachings\, singing\, and shared stories\, we find understanding and inspiration that can reach something deeper within us.
URL:https://sandalschurch.com/event/ev-sun-8am-service/2030-10-20/
LOCATION:East Valley\, 1325 Amethyst St\, Mentone\, 92359\, United States
CATEGORIES:Service
ATTACH;FMTTYPE=image/jpeg:https://sandalschurch.com/wp-content/uploads/2024/10/20230305-WC-SERVICE-JRH-22-scaled.jpg
END:VEVENT
BEGIN:VEVENT
DTSTART;TZID=America/Los_Angeles:20301020T081500
DTEND;TZID=America/Los_Angeles:20301020T081500
DTSTAMP:20260424T001015
CREATED:20260309T232757Z
LAST-MODIFIED:20260309T232813Z
UID:10049153-1918714500-1918714500@sandalschurch.com
SUMMARY:Service
DESCRIPTION:Join us for church! Each service is about 75 minutes with worship and a live sermon from one of our pastors.
URL:https://sandalschurch.com/event/hp-sun-815am-service-3/2030-10-20/
LOCATION:Hunter Park\, 150 Palmyrita Ave\, Riverside\, CA\, 92507\, United States
CATEGORIES:Service
ATTACH;FMTTYPE=image/jpeg:https://sandalschurch.com/wp-content/uploads/2024/02/20230423_HP_SundayMorning_Service_BW-33-scaled.jpg
END:VEVENT
BEGIN:VEVENT
DTSTART;TZID=America/Los_Angeles:20301020T083000
DTEND;TZID=America/Los_Angeles:20301020T083000
DTSTAMP:20260424T001015
CREATED:20260331T201617Z
LAST-MODIFIED:20260331T201636Z
UID:10050414-1918715400-1918715400@sandalschurch.com
SUMMARY:Service
DESCRIPTION:Experience the richness of gathering as a community. It’s a time of depth\, growth\, learning\, and true connection. Through meaningful teachings\, singing\, and shared stories\, we find understanding and inspiration that can reach something deeper within us.
URL:https://sandalschurch.com/event/fsno-sun-830am-service/2030-10-20/
LOCATION:Fresno\, 405 W Lincoln Ave\, Fresno\, CA\, 93706\, United States
CATEGORIES:Service
ATTACH;FMTTYPE=image/jpeg:https://sandalschurch.com/wp-content/uploads/2024/10/20230305-WC-SERVICE-JRH-22-scaled.jpg
END:VEVENT
BEGIN:VEVENT
DTSTART;TZID=America/Los_Angeles:20301020T090000
DTEND;TZID=America/Los_Angeles:20301020T090000
DTSTAMP:20260424T001015
CREATED:20250326T201013Z
LAST-MODIFIED:20260324T215536Z
UID:10049843-1918717200-1918717200@sandalschurch.com
SUMMARY:Service
DESCRIPTION:Experience the richness of gathering as a community. It’s a time of depth\, growth\, learning\, and true connection. Through meaningful teachings\, singing\, and shared stories\, we find understanding and inspiration that can reach something deeper within us.
URL:https://sandalschurch.com/event/serive/2030-10-20/
LOCATION:Lake Arrowhead\, 1103 N. State Hwy 173\, Lake Arrowhead\, CA\, 92352\, United States
CATEGORIES:Service
ATTACH;FMTTYPE=image/jpeg:https://sandalschurch.com/wp-content/uploads/2025/03/20230305-WC-SERVICE-JRH-22-370x247-1.jpg
END:VEVENT
BEGIN:VEVENT
DTSTART;TZID=America/Los_Angeles:20301020T090000
DTEND;TZID=America/Los_Angeles:20301020T090000
DTSTAMP:20260424T001015
CREATED:20260210T043055Z
LAST-MODIFIED:20260210T043209Z
UID:10047124-1918717200-1918717200@sandalschurch.com
SUMMARY:Service
DESCRIPTION:Experience the richness of gathering as a community. It’s a time of depth\, growth\, learning\, and true connection. Through meaningful teachings\, singing\, and shared stories\, we find understanding and inspiration that can reach something deeper within us.
URL:https://sandalschurch.com/event/crna-sun-9am-service/2030-10-20/
LOCATION:Corona\, 268 N Lincoln Ave Ste 18\, Corona\, 92882\, United States
CATEGORIES:Service
ATTACH;FMTTYPE=image/jpeg:https://sandalschurch.com/wp-content/uploads/2024/10/20230305-WC-SERVICE-JRH-22-scaled.jpg
END:VEVENT
BEGIN:VEVENT
DTSTART;TZID=America/Los_Angeles:20301020T093000
DTEND;TZID=America/Los_Angeles:20301020T093000
DTSTAMP:20260424T001015
CREATED:20260317T164519Z
LAST-MODIFIED:20260317T164536Z
UID:10049711-1918719000-1918719000@sandalschurch.com
SUMMARY:Service (Eng. & Esp.)
DESCRIPTION:Experience the richness of gathering as a community. It’s a time of depth\, growth\, learning\, and true connection. Through meaningful teachings\, singing\, and shared stories\, we find understanding and inspiration that can reach something deeper within us.
URL:https://sandalschurch.com/event/mv-sun-930am-service-2-2/2030-10-20/
LOCATION:Moreno Valley\, 14093 Business Center Dr\, Moreno Valley\, CA\, 92553\, United States
CATEGORIES:Service
ATTACH;FMTTYPE=image/jpeg:https://sandalschurch.com/wp-content/uploads/2024/10/20230305-WC-SERVICE-JRH-22-scaled.jpg
END:VEVENT
BEGIN:VEVENT
DTSTART;TZID=America/Los_Angeles:20301020T094500
DTEND;TZID=America/Los_Angeles:20301020T094500
DTSTAMP:20260424T001015
CREATED:20241022T040903Z
LAST-MODIFIED:20260325T004718Z
UID:10050001-1918719900-1918719900@sandalschurch.com
SUMMARY:Service
DESCRIPTION:Experience the richness of gathering as a community. It’s a time of depth\, growth\, learning\, and true connection. Through meaningful teachings\, singing\, and shared stories\, we find understanding and inspiration that can reach something deeper within us.
URL:https://sandalschurch.com/event/ev-sun-945am-service/2030-10-20/
LOCATION:East Valley\, 1325 Amethyst St\, Mentone\, 92359\, United States
CATEGORIES:Service
ATTACH;FMTTYPE=image/jpeg:https://sandalschurch.com/wp-content/uploads/2024/10/20230305-WC-SERVICE-JRH-22-scaled.jpg
END:VEVENT
BEGIN:VEVENT
DTSTART;TZID=America/Los_Angeles:20301020T100000
DTEND;TZID=America/Los_Angeles:20301020T100000
DTSTAMP:20260424T001015
CREATED:20260309T232914Z
LAST-MODIFIED:20260309T232925Z
UID:10049225-1918720800-1918720800@sandalschurch.com
SUMMARY:Service
DESCRIPTION:Join us for church! Each service is about 75 minutes with worship and a live sermon from one of our pastors.
URL:https://sandalschurch.com/event/hp-sun-10am-service-3/2030-10-20/
LOCATION:Hunter Park\, 150 Palmyrita Ave\, Riverside\, CA\, 92507\, United States
CATEGORIES:Service
ATTACH;FMTTYPE=image/jpeg:https://sandalschurch.com/wp-content/uploads/2024/02/20230423_HP_SundayMorning_Service_BW-33-scaled.jpg
END:VEVENT
BEGIN:VEVENT
DTSTART;TZID=America/Los_Angeles:20301020T100000
DTEND;TZID=America/Los_Angeles:20301020T100000
DTSTAMP:20260424T001015
CREATED:20260331T201848Z
LAST-MODIFIED:20260331T201908Z
UID:10050674-1918720800-1918720800@sandalschurch.com
SUMMARY:Service
DESCRIPTION:Experience the richness of gathering as a community. It’s a time of depth\, growth\, learning\, and true connection. Through meaningful teachings\, singing\, and shared stories\, we find understanding and inspiration that can reach something deeper within us.
URL:https://sandalschurch.com/event/fsno-sun-10am-service/2030-10-20/
LOCATION:Fresno\, 405 W Lincoln Ave\, Fresno\, CA\, 93706\, United States
CATEGORIES:Service
ATTACH;FMTTYPE=image/jpeg:https://sandalschurch.com/wp-content/uploads/2024/10/20230305-WC-SERVICE-JRH-22-scaled.jpg
END:VEVENT
BEGIN:VEVENT
DTSTART;TZID=America/Los_Angeles:20301020T104500
DTEND;TZID=America/Los_Angeles:20301020T104500
DTSTAMP:20260424T001015
CREATED:20260210T043434Z
LAST-MODIFIED:20260219T191516Z
UID:10047384-1918723500-1918723500@sandalschurch.com
SUMMARY:Service
DESCRIPTION:Experience the richness of gathering as a community. It’s a time of depth\, growth\, learning\, and true connection. Through meaningful teachings\, singing\, and shared stories\, we find understanding and inspiration that can reach something deeper within us.
URL:https://sandalschurch.com/event/crna-sun-1045am-service/2030-10-20/
LOCATION:Corona\, 268 N Lincoln Ave Ste 18\, Corona\, 92882\, United States
CATEGORIES:Service
ATTACH;FMTTYPE=image/jpeg:https://sandalschurch.com/wp-content/uploads/2024/10/20230305-WC-SERVICE-JRH-22-scaled.jpg
END:VEVENT
BEGIN:VEVENT
DTSTART;TZID=America/Los_Angeles:20301020T110000
DTEND;TZID=America/Los_Angeles:20301020T110000
DTSTAMP:20260424T001015
CREATED:20241023T195528Z
LAST-MODIFIED:20260324T215727Z
UID:10049895-1918724400-1918724400@sandalschurch.com
SUMMARY:Service
DESCRIPTION:Experience the richness of gathering as a community. It’s a time of depth\, growth\, learning\, and true connection. Through meaningful teachings\, singing\, and shared stories\, we find understanding and inspiration that can reach something deeper within us.
URL:https://sandalschurch.com/event/lkah-sun-11am-service/2030-10-20/
LOCATION:Lake Arrowhead\, 1103 N. State Hwy 173\, Lake Arrowhead\, CA\, 92352\, United States
CATEGORIES:Service
ATTACH;FMTTYPE=image/jpeg:https://sandalschurch.com/wp-content/uploads/2024/10/20230305-WC-SERVICE-JRH-22-scaled.jpg
END:VEVENT
BEGIN:VEVENT
DTSTART;TZID=America/Los_Angeles:20301020T110000
DTEND;TZID=America/Los_Angeles:20301020T110000
DTSTAMP:20260424T001015
CREATED:20260114T204221Z
LAST-MODIFIED:20260114T204727Z
UID:10045319-1918724400-1918724400@sandalschurch.com
SUMMARY:Service
DESCRIPTION:Experience the richness of gathering as a community. It’s a time of depth\, growth\, learning\, and true connection. Through meaningful teachings\, singing\, and shared stories\, we find understanding and inspiration that can reach something deeper within us.
URL:https://sandalschurch.com/event/mnfe-sun-11am-service/2030-10-20/
LOCATION:Menifee\, 27755 Bradley Rd.\, Menifee\, CA\, 92586\, United States
CATEGORIES:Service
ATTACH;FMTTYPE=image/jpeg:https://sandalschurch.com/wp-content/uploads/2024/10/20230305-WC-SERVICE-JRH-22-scaled.jpg
END:VEVENT
BEGIN:VEVENT
DTSTART;TZID=America/Los_Angeles:20301020T111500
DTEND;TZID=America/Los_Angeles:20301020T111500
DTSTAMP:20260424T001015
CREATED:20260317T163602Z
LAST-MODIFIED:20260317T164605Z
UID:10049632-1918725300-1918725300@sandalschurch.com
SUMMARY:Service (Eng. & Esp.)
DESCRIPTION:Experience the richness of gathering as a community. It’s a time of depth\, growth\, learning\, and true connection. Through meaningful teachings\, singing\, and shared stories\, we find understanding and inspiration that can reach something deeper within us.
URL:https://sandalschurch.com/event/mv-sun-11am-service-2/2030-10-20/
LOCATION:Moreno Valley\, 14093 Business Center Dr\, Moreno Valley\, CA\, 92553\, United States
CATEGORIES:Service
ATTACH;FMTTYPE=image/jpeg:https://sandalschurch.com/wp-content/uploads/2024/10/20230305-WC-SERVICE-JRH-22-scaled.jpg
END:VEVENT
BEGIN:VEVENT
DTSTART;TZID=America/Los_Angeles:20301020T113000
DTEND;TZID=America/Los_Angeles:20301020T113000
DTSTAMP:20260424T001015
CREATED:20241022T041036Z
LAST-MODIFIED:20260325T004739Z
UID:10050075-1918726200-1918726200@sandalschurch.com
SUMMARY:Service
DESCRIPTION:Experience the richness of gathering as a community. It’s a time of depth\, growth\, learning\, and true connection. Through meaningful teachings\, singing\, and shared stories\, we find understanding and inspiration that can reach something deeper within us.
URL:https://sandalschurch.com/event/ev-sun-1130am-service/2030-10-20/
LOCATION:East Valley\, 1325 Amethyst St\, Mentone\, 92359\, United States
CATEGORIES:Service
ATTACH;FMTTYPE=image/jpeg:https://sandalschurch.com/wp-content/uploads/2024/10/20230305-WC-SERVICE-JRH-22-scaled.jpg
END:VEVENT
BEGIN:VEVENT
DTSTART;TZID=America/Los_Angeles:20301020T113000
DTEND;TZID=America/Los_Angeles:20301020T113000
DTSTAMP:20260424T001015
CREATED:20260331T202023Z
LAST-MODIFIED:20260331T202043Z
UID:10050934-1918726200-1918726200@sandalschurch.com
SUMMARY:Service (bilingual)
DESCRIPTION:Experience the richness of gathering as a community. It’s a time of depth\, growth\, learning\, and true connection. Through meaningful teachings\, singing\, and shared stories\, we find understanding and inspiration that can reach something deeper within us.
URL:https://sandalschurch.com/event/fsno-sun-1130am-service/2030-10-20/
LOCATION:Fresno\, 405 W Lincoln Ave\, Fresno\, CA\, 93706\, United States
CATEGORIES:Service
ATTACH;FMTTYPE=image/jpeg:https://sandalschurch.com/wp-content/uploads/2024/10/20230305-WC-SERVICE-JRH-22-scaled.jpg
END:VEVENT
BEGIN:VEVENT
DTSTART;TZID=America/Los_Angeles:20301020T114500
DTEND;TZID=America/Los_Angeles:20301020T114500
DTSTAMP:20260424T001015
CREATED:20260309T233139Z
LAST-MODIFIED:20260309T233154Z
UID:10049297-1918727100-1918727100@sandalschurch.com
SUMMARY:Service
DESCRIPTION:Join us for church! Each service is about 75 minutes with worship and a live sermon from one of our pastors.
URL:https://sandalschurch.com/event/hp-sun-1145am-service-3/2030-10-20/
LOCATION:Hunter Park\, 150 Palmyrita Ave\, Riverside\, CA\, 92507\, United States
CATEGORIES:Service
ATTACH;FMTTYPE=image/jpeg:https://sandalschurch.com/wp-content/uploads/2024/02/20230423_HP_SundayMorning_Service_BW-33-scaled.jpg
END:VEVENT
BEGIN:VEVENT
DTSTART;TZID=America/Los_Angeles:20301020T180000
DTEND;TZID=America/Los_Angeles:20301020T180000
DTSTAMP:20260424T001015
CREATED:20241023T180809Z
LAST-MODIFIED:20241023T180829Z
UID:10042839-1918749600-1918749600@sandalschurch.com
SUMMARY:Service
DESCRIPTION:Experience the richness of gathering as a community. It’s a time of depth\, growth\, learning\, and true connection. Through meaningful teachings\, singing\, and shared stories\, we find understanding and inspiration that can reach something deeper within us.
URL:https://sandalschurch.com/event/sb-sun-6pm-service/2030-10-20/
LOCATION:San Bernardino\, 3701 N Sierra Way\, San Bernardino\, CA\, 92405\, United States
CATEGORIES:Service
ATTACH;FMTTYPE=image/jpeg:https://sandalschurch.com/wp-content/uploads/2024/10/20230305-WC-SERVICE-JRH-22-scaled.jpg
END:VEVENT
BEGIN:VEVENT
DTSTART;TZID=America/Los_Angeles:20301020T190000
DTEND;TZID=America/Los_Angeles:20301020T190000
DTSTAMP:20260424T001015
CREATED:20241023T185929Z
LAST-MODIFIED:20250322T234254Z
UID:10043449-1918753200-1918753200@sandalschurch.com
SUMMARY:Service
DESCRIPTION:Experience the richness of gathering as a community. It’s a time of depth\, growth\, learning\, and true connection. Through meaningful teachings\, singing\, and shared stories\, we find understanding and inspiration that can reach something deeper within us.
URL:https://sandalschurch.com/event/pa-sun-7pm-service/2030-10-20/
LOCATION:Palm Avenue\, 6807 Palm Ave\, Riverside\, CA\, 92506\, United States
CATEGORIES:Service
ATTACH;FMTTYPE=image/jpeg:https://sandalschurch.com/wp-content/uploads/2024/10/20230305-WC-SERVICE-JRH-22-scaled.jpg
END:VEVENT
BEGIN:VEVENT
DTSTART;TZID=America/Los_Angeles:20301026T170000
DTEND;TZID=America/Los_Angeles:20301026T181500
DTSTAMP:20260424T001015
CREATED:20260309T232900Z
LAST-MODIFIED:20260309T232915Z
UID:10042912-1919264400-1919268900@sandalschurch.com
SUMMARY:Service
DESCRIPTION:Join us for church! Each service is about 75 minutes with worship and a live sermon from one of our pastors.
URL:https://sandalschurch.com/event/hp-sat-4pm-service-2-3/2030-10-26/
LOCATION:Hunter Park\, 150 Palmyrita Ave\, Riverside\, CA\, 92507\, United States
CATEGORIES:Service
ATTACH;FMTTYPE=image/jpeg:https://sandalschurch.com/wp-content/uploads/2024/02/20230423_HP_SundayMorning_Service_BW-33-scaled.jpg
END:VEVENT
BEGIN:VEVENT
DTSTART;TZID=America/Los_Angeles:20301027T080000
DTEND;TZID=America/Los_Angeles:20301027T080000
DTSTAMP:20260424T001015
CREATED:20241022T040720Z
LAST-MODIFIED:20260325T004606Z
UID:10049928-1919318400-1919318400@sandalschurch.com
SUMMARY:Service
DESCRIPTION:Experience the richness of gathering as a community. It’s a time of depth\, growth\, learning\, and true connection. Through meaningful teachings\, singing\, and shared stories\, we find understanding and inspiration that can reach something deeper within us.
URL:https://sandalschurch.com/event/ev-sun-8am-service/2030-10-27/
LOCATION:East Valley\, 1325 Amethyst St\, Mentone\, 92359\, United States
CATEGORIES:Service
ATTACH;FMTTYPE=image/jpeg:https://sandalschurch.com/wp-content/uploads/2024/10/20230305-WC-SERVICE-JRH-22-scaled.jpg
END:VEVENT
END:VCALENDAR