BEGIN:VCALENDAR
VERSION:2.0
PRODID:-//Sandals Church - ECPv6.13.0//NONSGML v1.0//EN
CALSCALE:GREGORIAN
METHOD:PUBLISH
X-WR-CALNAME:Sandals Church
X-ORIGINAL-URL:https://sandalschurch.com
X-WR-CALDESC:Events for Sandals Church
REFRESH-INTERVAL;VALUE=DURATION:PT1H
X-Robots-Tag:noindex
X-PUBLISHED-TTL:PT1H
BEGIN:VTIMEZONE
TZID:America/Los_Angeles
BEGIN:DAYLIGHT
TZOFFSETFROM:-0800
TZOFFSETTO:-0700
TZNAME:PDT
DTSTART:20310309T100000
END:DAYLIGHT
BEGIN:STANDARD
TZOFFSETFROM:-0700
TZOFFSETTO:-0800
TZNAME:PST
DTSTART:20311102T090000
END:STANDARD
END:VTIMEZONE
BEGIN:VEVENT
DTSTART;TZID=America/Los_Angeles:20310216T113000
DTEND;TZID=America/Los_Angeles:20310216T113000
DTSTAMP:20260424T090239
CREATED:20260331T202023Z
LAST-MODIFIED:20260331T202043Z
UID:10050951-1929007800-1929007800@sandalschurch.com
SUMMARY:Service (bilingual)
DESCRIPTION:Experience the richness of gathering as a community. It’s a time of depth\, growth\, learning\, and true connection. Through meaningful teachings\, singing\, and shared stories\, we find understanding and inspiration that can reach something deeper within us.
URL:https://sandalschurch.com/event/fsno-sun-1130am-service/2031-02-16/
LOCATION:Fresno\, 405 W Lincoln Ave\, Fresno\, CA\, 93706\, United States
CATEGORIES:Service
ATTACH;FMTTYPE=image/jpeg:https://sandalschurch.com/wp-content/uploads/2024/10/20230305-WC-SERVICE-JRH-22-scaled.jpg
END:VEVENT
BEGIN:VEVENT
DTSTART;TZID=America/Los_Angeles:20310216T114500
DTEND;TZID=America/Los_Angeles:20310216T114500
DTSTAMP:20260424T090239
CREATED:20260309T233139Z
LAST-MODIFIED:20260309T233154Z
UID:10049314-1929008700-1929008700@sandalschurch.com
SUMMARY:Service
DESCRIPTION:Join us for church! Each service is about 75 minutes with worship and a live sermon from one of our pastors.
URL:https://sandalschurch.com/event/hp-sun-1145am-service-3/2031-02-16/
LOCATION:Hunter Park\, 150 Palmyrita Ave\, Riverside\, CA\, 92507\, United States
CATEGORIES:Service
ATTACH;FMTTYPE=image/jpeg:https://sandalschurch.com/wp-content/uploads/2024/02/20230423_HP_SundayMorning_Service_BW-33-scaled.jpg
END:VEVENT
BEGIN:VEVENT
DTSTART;TZID=America/Los_Angeles:20310216T190000
DTEND;TZID=America/Los_Angeles:20310216T190000
DTSTAMP:20260424T090239
CREATED:20241023T185929Z
LAST-MODIFIED:20250322T234254Z
UID:10047921-1929034800-1929034800@sandalschurch.com
SUMMARY:Service
DESCRIPTION:Experience the richness of gathering as a community. It’s a time of depth\, growth\, learning\, and true connection. Through meaningful teachings\, singing\, and shared stories\, we find understanding and inspiration that can reach something deeper within us.
URL:https://sandalschurch.com/event/pa-sun-7pm-service/2031-02-16/
LOCATION:Palm Avenue\, 6807 Palm Ave\, Riverside\, CA\, 92506\, United States
CATEGORIES:Service
ATTACH;FMTTYPE=image/jpeg:https://sandalschurch.com/wp-content/uploads/2024/10/20230305-WC-SERVICE-JRH-22-scaled.jpg
END:VEVENT
BEGIN:VEVENT
DTSTART;TZID=America/Los_Angeles:20310222T170000
DTEND;TZID=America/Los_Angeles:20310222T181500
DTSTAMP:20260424T090239
CREATED:20260309T232900Z
LAST-MODIFIED:20260309T232915Z
UID:10049325-1929546000-1929550500@sandalschurch.com
SUMMARY:Service
DESCRIPTION:Join us for church! Each service is about 75 minutes with worship and a live sermon from one of our pastors.
URL:https://sandalschurch.com/event/hp-sat-4pm-service-2-3/2031-02-22/
LOCATION:Hunter Park\, 150 Palmyrita Ave\, Riverside\, CA\, 92507\, United States
CATEGORIES:Service
ATTACH;FMTTYPE=image/jpeg:https://sandalschurch.com/wp-content/uploads/2024/02/20230423_HP_SundayMorning_Service_BW-33-scaled.jpg
END:VEVENT
BEGIN:VEVENT
DTSTART;TZID=America/Los_Angeles:20310223T080000
DTEND;TZID=America/Los_Angeles:20310223T080000
DTSTAMP:20260424T090239
CREATED:20241022T040720Z
LAST-MODIFIED:20260325T004606Z
UID:10049945-1929600000-1929600000@sandalschurch.com
SUMMARY:Service
DESCRIPTION:Experience the richness of gathering as a community. It’s a time of depth\, growth\, learning\, and true connection. Through meaningful teachings\, singing\, and shared stories\, we find understanding and inspiration that can reach something deeper within us.
URL:https://sandalschurch.com/event/ev-sun-8am-service/2031-02-23/
LOCATION:East Valley\, 1325 Amethyst St\, Mentone\, 92359\, United States
CATEGORIES:Service
ATTACH;FMTTYPE=image/jpeg:https://sandalschurch.com/wp-content/uploads/2024/10/20230305-WC-SERVICE-JRH-22-scaled.jpg
END:VEVENT
BEGIN:VEVENT
DTSTART;TZID=America/Los_Angeles:20310223T081500
DTEND;TZID=America/Los_Angeles:20310223T081500
DTSTAMP:20260424T090239
CREATED:20260309T232757Z
LAST-MODIFIED:20260309T232813Z
UID:10049171-1929600900-1929600900@sandalschurch.com
SUMMARY:Service
DESCRIPTION:Join us for church! Each service is about 75 minutes with worship and a live sermon from one of our pastors.
URL:https://sandalschurch.com/event/hp-sun-815am-service-3/2031-02-23/
LOCATION:Hunter Park\, 150 Palmyrita Ave\, Riverside\, CA\, 92507\, United States
CATEGORIES:Service
ATTACH;FMTTYPE=image/jpeg:https://sandalschurch.com/wp-content/uploads/2024/02/20230423_HP_SundayMorning_Service_BW-33-scaled.jpg
END:VEVENT
BEGIN:VEVENT
DTSTART;TZID=America/Los_Angeles:20310223T083000
DTEND;TZID=America/Los_Angeles:20310223T083000
DTSTAMP:20260424T090239
CREATED:20260331T201617Z
LAST-MODIFIED:20260331T201636Z
UID:10050432-1929601800-1929601800@sandalschurch.com
SUMMARY:Service
DESCRIPTION:Experience the richness of gathering as a community. It’s a time of depth\, growth\, learning\, and true connection. Through meaningful teachings\, singing\, and shared stories\, we find understanding and inspiration that can reach something deeper within us.
URL:https://sandalschurch.com/event/fsno-sun-830am-service/2031-02-23/
LOCATION:Fresno\, 405 W Lincoln Ave\, Fresno\, CA\, 93706\, United States
CATEGORIES:Service
ATTACH;FMTTYPE=image/jpeg:https://sandalschurch.com/wp-content/uploads/2024/10/20230305-WC-SERVICE-JRH-22-scaled.jpg
END:VEVENT
BEGIN:VEVENT
DTSTART;TZID=America/Los_Angeles:20310223T090000
DTEND;TZID=America/Los_Angeles:20310223T090000
DTSTAMP:20260424T090239
CREATED:20250326T201013Z
LAST-MODIFIED:20260324T215536Z
UID:10049861-1929603600-1929603600@sandalschurch.com
SUMMARY:Service
DESCRIPTION:Experience the richness of gathering as a community. It’s a time of depth\, growth\, learning\, and true connection. Through meaningful teachings\, singing\, and shared stories\, we find understanding and inspiration that can reach something deeper within us.
URL:https://sandalschurch.com/event/serive/2031-02-23/
LOCATION:Lake Arrowhead\, 1103 N. State Hwy 173\, Lake Arrowhead\, CA\, 92352\, United States
CATEGORIES:Service
ATTACH;FMTTYPE=image/jpeg:https://sandalschurch.com/wp-content/uploads/2025/03/20230305-WC-SERVICE-JRH-22-370x247-1.jpg
END:VEVENT
BEGIN:VEVENT
DTSTART;TZID=America/Los_Angeles:20310223T093000
DTEND;TZID=America/Los_Angeles:20310223T093000
DTSTAMP:20260424T090239
CREATED:20260317T164519Z
LAST-MODIFIED:20260317T164536Z
UID:10049729-1929605400-1929605400@sandalschurch.com
SUMMARY:Service (Eng. & Esp.)
DESCRIPTION:Experience the richness of gathering as a community. It’s a time of depth\, growth\, learning\, and true connection. Through meaningful teachings\, singing\, and shared stories\, we find understanding and inspiration that can reach something deeper within us.
URL:https://sandalschurch.com/event/mv-sun-930am-service-2-2/2031-02-23/
LOCATION:Moreno Valley\, 14093 Business Center Dr\, Moreno Valley\, CA\, 92553\, United States
CATEGORIES:Service
ATTACH;FMTTYPE=image/jpeg:https://sandalschurch.com/wp-content/uploads/2024/10/20230305-WC-SERVICE-JRH-22-scaled.jpg
END:VEVENT
BEGIN:VEVENT
DTSTART;TZID=America/Los_Angeles:20310223T094500
DTEND;TZID=America/Los_Angeles:20310223T094500
DTSTAMP:20260424T090239
CREATED:20241022T040903Z
LAST-MODIFIED:20260325T004718Z
UID:10050019-1929606300-1929606300@sandalschurch.com
SUMMARY:Service
DESCRIPTION:Experience the richness of gathering as a community. It’s a time of depth\, growth\, learning\, and true connection. Through meaningful teachings\, singing\, and shared stories\, we find understanding and inspiration that can reach something deeper within us.
URL:https://sandalschurch.com/event/ev-sun-945am-service/2031-02-23/
LOCATION:East Valley\, 1325 Amethyst St\, Mentone\, 92359\, United States
CATEGORIES:Service
ATTACH;FMTTYPE=image/jpeg:https://sandalschurch.com/wp-content/uploads/2024/10/20230305-WC-SERVICE-JRH-22-scaled.jpg
END:VEVENT
BEGIN:VEVENT
DTSTART;TZID=America/Los_Angeles:20310223T100000
DTEND;TZID=America/Los_Angeles:20310223T100000
DTSTAMP:20260424T090239
CREATED:20260309T232914Z
LAST-MODIFIED:20260309T232925Z
UID:10049243-1929607200-1929607200@sandalschurch.com
SUMMARY:Service
DESCRIPTION:Join us for church! Each service is about 75 minutes with worship and a live sermon from one of our pastors.
URL:https://sandalschurch.com/event/hp-sun-10am-service-3/2031-02-23/
LOCATION:Hunter Park\, 150 Palmyrita Ave\, Riverside\, CA\, 92507\, United States
CATEGORIES:Service
ATTACH;FMTTYPE=image/jpeg:https://sandalschurch.com/wp-content/uploads/2024/02/20230423_HP_SundayMorning_Service_BW-33-scaled.jpg
END:VEVENT
BEGIN:VEVENT
DTSTART;TZID=America/Los_Angeles:20310223T100000
DTEND;TZID=America/Los_Angeles:20310223T100000
DTSTAMP:20260424T090239
CREATED:20260331T201848Z
LAST-MODIFIED:20260331T201908Z
UID:10050692-1929607200-1929607200@sandalschurch.com
SUMMARY:Service
DESCRIPTION:Experience the richness of gathering as a community. It’s a time of depth\, growth\, learning\, and true connection. Through meaningful teachings\, singing\, and shared stories\, we find understanding and inspiration that can reach something deeper within us.
URL:https://sandalschurch.com/event/fsno-sun-10am-service/2031-02-23/
LOCATION:Fresno\, 405 W Lincoln Ave\, Fresno\, CA\, 93706\, United States
CATEGORIES:Service
ATTACH;FMTTYPE=image/jpeg:https://sandalschurch.com/wp-content/uploads/2024/10/20230305-WC-SERVICE-JRH-22-scaled.jpg
END:VEVENT
BEGIN:VEVENT
DTSTART;TZID=America/Los_Angeles:20310223T110000
DTEND;TZID=America/Los_Angeles:20310223T110000
DTSTAMP:20260424T090239
CREATED:20241023T195528Z
LAST-MODIFIED:20260324T215727Z
UID:10049913-1929610800-1929610800@sandalschurch.com
SUMMARY:Service
DESCRIPTION:Experience the richness of gathering as a community. It’s a time of depth\, growth\, learning\, and true connection. Through meaningful teachings\, singing\, and shared stories\, we find understanding and inspiration that can reach something deeper within us.
URL:https://sandalschurch.com/event/lkah-sun-11am-service/2031-02-23/
LOCATION:Lake Arrowhead\, 1103 N. State Hwy 173\, Lake Arrowhead\, CA\, 92352\, United States
CATEGORIES:Service
ATTACH;FMTTYPE=image/jpeg:https://sandalschurch.com/wp-content/uploads/2024/10/20230305-WC-SERVICE-JRH-22-scaled.jpg
END:VEVENT
BEGIN:VEVENT
DTSTART;TZID=America/Los_Angeles:20310223T111500
DTEND;TZID=America/Los_Angeles:20310223T111500
DTSTAMP:20260424T090239
CREATED:20260317T163602Z
LAST-MODIFIED:20260317T164605Z
UID:10049650-1929611700-1929611700@sandalschurch.com
SUMMARY:Service (Eng. & Esp.)
DESCRIPTION:Experience the richness of gathering as a community. It’s a time of depth\, growth\, learning\, and true connection. Through meaningful teachings\, singing\, and shared stories\, we find understanding and inspiration that can reach something deeper within us.
URL:https://sandalschurch.com/event/mv-sun-11am-service-2/2031-02-23/
LOCATION:Moreno Valley\, 14093 Business Center Dr\, Moreno Valley\, CA\, 92553\, United States
CATEGORIES:Service
ATTACH;FMTTYPE=image/jpeg:https://sandalschurch.com/wp-content/uploads/2024/10/20230305-WC-SERVICE-JRH-22-scaled.jpg
END:VEVENT
BEGIN:VEVENT
DTSTART;TZID=America/Los_Angeles:20310223T113000
DTEND;TZID=America/Los_Angeles:20310223T113000
DTSTAMP:20260424T090239
CREATED:20241022T041036Z
LAST-MODIFIED:20260325T004739Z
UID:10050093-1929612600-1929612600@sandalschurch.com
SUMMARY:Service
DESCRIPTION:Experience the richness of gathering as a community. It’s a time of depth\, growth\, learning\, and true connection. Through meaningful teachings\, singing\, and shared stories\, we find understanding and inspiration that can reach something deeper within us.
URL:https://sandalschurch.com/event/ev-sun-1130am-service/2031-02-23/
LOCATION:East Valley\, 1325 Amethyst St\, Mentone\, 92359\, United States
CATEGORIES:Service
ATTACH;FMTTYPE=image/jpeg:https://sandalschurch.com/wp-content/uploads/2024/10/20230305-WC-SERVICE-JRH-22-scaled.jpg
END:VEVENT
BEGIN:VEVENT
DTSTART;TZID=America/Los_Angeles:20310223T113000
DTEND;TZID=America/Los_Angeles:20310223T113000
DTSTAMP:20260424T090239
CREATED:20260331T202023Z
LAST-MODIFIED:20260331T202043Z
UID:10050952-1929612600-1929612600@sandalschurch.com
SUMMARY:Service (bilingual)
DESCRIPTION:Experience the richness of gathering as a community. It’s a time of depth\, growth\, learning\, and true connection. Through meaningful teachings\, singing\, and shared stories\, we find understanding and inspiration that can reach something deeper within us.
URL:https://sandalschurch.com/event/fsno-sun-1130am-service/2031-02-23/
LOCATION:Fresno\, 405 W Lincoln Ave\, Fresno\, CA\, 93706\, United States
CATEGORIES:Service
ATTACH;FMTTYPE=image/jpeg:https://sandalschurch.com/wp-content/uploads/2024/10/20230305-WC-SERVICE-JRH-22-scaled.jpg
END:VEVENT
BEGIN:VEVENT
DTSTART;TZID=America/Los_Angeles:20310223T114500
DTEND;TZID=America/Los_Angeles:20310223T114500
DTSTAMP:20260424T090239
CREATED:20260309T233139Z
LAST-MODIFIED:20260309T233154Z
UID:10049315-1929613500-1929613500@sandalschurch.com
SUMMARY:Service
DESCRIPTION:Join us for church! Each service is about 75 minutes with worship and a live sermon from one of our pastors.
URL:https://sandalschurch.com/event/hp-sun-1145am-service-3/2031-02-23/
LOCATION:Hunter Park\, 150 Palmyrita Ave\, Riverside\, CA\, 92507\, United States
CATEGORIES:Service
ATTACH;FMTTYPE=image/jpeg:https://sandalschurch.com/wp-content/uploads/2024/02/20230423_HP_SundayMorning_Service_BW-33-scaled.jpg
END:VEVENT
BEGIN:VEVENT
DTSTART;TZID=America/Los_Angeles:20310223T190000
DTEND;TZID=America/Los_Angeles:20310223T190000
DTSTAMP:20260424T090239
CREATED:20241023T185929Z
LAST-MODIFIED:20250322T234254Z
UID:10047922-1929639600-1929639600@sandalschurch.com
SUMMARY:Service
DESCRIPTION:Experience the richness of gathering as a community. It’s a time of depth\, growth\, learning\, and true connection. Through meaningful teachings\, singing\, and shared stories\, we find understanding and inspiration that can reach something deeper within us.
URL:https://sandalschurch.com/event/pa-sun-7pm-service/2031-02-23/
LOCATION:Palm Avenue\, 6807 Palm Ave\, Riverside\, CA\, 92506\, United States
CATEGORIES:Service
ATTACH;FMTTYPE=image/jpeg:https://sandalschurch.com/wp-content/uploads/2024/10/20230305-WC-SERVICE-JRH-22-scaled.jpg
END:VEVENT
BEGIN:VEVENT
DTSTART;TZID=America/Los_Angeles:20310301T170000
DTEND;TZID=America/Los_Angeles:20310301T181500
DTSTAMP:20260424T090239
CREATED:20260309T232900Z
LAST-MODIFIED:20260309T232915Z
UID:10049326-1930150800-1930155300@sandalschurch.com
SUMMARY:Service
DESCRIPTION:Join us for church! Each service is about 75 minutes with worship and a live sermon from one of our pastors.
URL:https://sandalschurch.com/event/hp-sat-4pm-service-2-3/2031-03-01/
LOCATION:Hunter Park\, 150 Palmyrita Ave\, Riverside\, CA\, 92507\, United States
CATEGORIES:Service
ATTACH;FMTTYPE=image/jpeg:https://sandalschurch.com/wp-content/uploads/2024/02/20230423_HP_SundayMorning_Service_BW-33-scaled.jpg
END:VEVENT
BEGIN:VEVENT
DTSTART;TZID=America/Los_Angeles:20310302T080000
DTEND;TZID=America/Los_Angeles:20310302T080000
DTSTAMP:20260424T090239
CREATED:20241022T040720Z
LAST-MODIFIED:20260325T004606Z
UID:10049946-1930204800-1930204800@sandalschurch.com
SUMMARY:Service
DESCRIPTION:Experience the richness of gathering as a community. It’s a time of depth\, growth\, learning\, and true connection. Through meaningful teachings\, singing\, and shared stories\, we find understanding and inspiration that can reach something deeper within us.
URL:https://sandalschurch.com/event/ev-sun-8am-service/2031-03-02/
LOCATION:East Valley\, 1325 Amethyst St\, Mentone\, 92359\, United States
CATEGORIES:Service
ATTACH;FMTTYPE=image/jpeg:https://sandalschurch.com/wp-content/uploads/2024/10/20230305-WC-SERVICE-JRH-22-scaled.jpg
END:VEVENT
BEGIN:VEVENT
DTSTART;TZID=America/Los_Angeles:20310302T081500
DTEND;TZID=America/Los_Angeles:20310302T081500
DTSTAMP:20260424T090239
CREATED:20260309T232757Z
LAST-MODIFIED:20260309T232813Z
UID:10049172-1930205700-1930205700@sandalschurch.com
SUMMARY:Service
DESCRIPTION:Join us for church! Each service is about 75 minutes with worship and a live sermon from one of our pastors.
URL:https://sandalschurch.com/event/hp-sun-815am-service-3/2031-03-02/
LOCATION:Hunter Park\, 150 Palmyrita Ave\, Riverside\, CA\, 92507\, United States
CATEGORIES:Service
ATTACH;FMTTYPE=image/jpeg:https://sandalschurch.com/wp-content/uploads/2024/02/20230423_HP_SundayMorning_Service_BW-33-scaled.jpg
END:VEVENT
BEGIN:VEVENT
DTSTART;TZID=America/Los_Angeles:20310302T083000
DTEND;TZID=America/Los_Angeles:20310302T083000
DTSTAMP:20260424T090239
CREATED:20260331T201617Z
LAST-MODIFIED:20260331T201636Z
UID:10050433-1930206600-1930206600@sandalschurch.com
SUMMARY:Service
DESCRIPTION:Experience the richness of gathering as a community. It’s a time of depth\, growth\, learning\, and true connection. Through meaningful teachings\, singing\, and shared stories\, we find understanding and inspiration that can reach something deeper within us.
URL:https://sandalschurch.com/event/fsno-sun-830am-service/2031-03-02/
LOCATION:Fresno\, 405 W Lincoln Ave\, Fresno\, CA\, 93706\, United States
CATEGORIES:Service
ATTACH;FMTTYPE=image/jpeg:https://sandalschurch.com/wp-content/uploads/2024/10/20230305-WC-SERVICE-JRH-22-scaled.jpg
END:VEVENT
BEGIN:VEVENT
DTSTART;TZID=America/Los_Angeles:20310302T090000
DTEND;TZID=America/Los_Angeles:20310302T090000
DTSTAMP:20260424T090239
CREATED:20250326T201013Z
LAST-MODIFIED:20260324T215536Z
UID:10049862-1930208400-1930208400@sandalschurch.com
SUMMARY:Service
DESCRIPTION:Experience the richness of gathering as a community. It’s a time of depth\, growth\, learning\, and true connection. Through meaningful teachings\, singing\, and shared stories\, we find understanding and inspiration that can reach something deeper within us.
URL:https://sandalschurch.com/event/serive/2031-03-02/
LOCATION:Lake Arrowhead\, 1103 N. State Hwy 173\, Lake Arrowhead\, CA\, 92352\, United States
CATEGORIES:Service
ATTACH;FMTTYPE=image/jpeg:https://sandalschurch.com/wp-content/uploads/2025/03/20230305-WC-SERVICE-JRH-22-370x247-1.jpg
END:VEVENT
BEGIN:VEVENT
DTSTART;TZID=America/Los_Angeles:20310302T093000
DTEND;TZID=America/Los_Angeles:20310302T093000
DTSTAMP:20260424T090239
CREATED:20260317T164519Z
LAST-MODIFIED:20260317T164536Z
UID:10049730-1930210200-1930210200@sandalschurch.com
SUMMARY:Service (Eng. & Esp.)
DESCRIPTION:Experience the richness of gathering as a community. It’s a time of depth\, growth\, learning\, and true connection. Through meaningful teachings\, singing\, and shared stories\, we find understanding and inspiration that can reach something deeper within us.
URL:https://sandalschurch.com/event/mv-sun-930am-service-2-2/2031-03-02/
LOCATION:Moreno Valley\, 14093 Business Center Dr\, Moreno Valley\, CA\, 92553\, United States
CATEGORIES:Service
ATTACH;FMTTYPE=image/jpeg:https://sandalschurch.com/wp-content/uploads/2024/10/20230305-WC-SERVICE-JRH-22-scaled.jpg
END:VEVENT
BEGIN:VEVENT
DTSTART;TZID=America/Los_Angeles:20310302T094500
DTEND;TZID=America/Los_Angeles:20310302T094500
DTSTAMP:20260424T090239
CREATED:20241022T040903Z
LAST-MODIFIED:20260325T004718Z
UID:10050020-1930211100-1930211100@sandalschurch.com
SUMMARY:Service
DESCRIPTION:Experience the richness of gathering as a community. It’s a time of depth\, growth\, learning\, and true connection. Through meaningful teachings\, singing\, and shared stories\, we find understanding and inspiration that can reach something deeper within us.
URL:https://sandalschurch.com/event/ev-sun-945am-service/2031-03-02/
LOCATION:East Valley\, 1325 Amethyst St\, Mentone\, 92359\, United States
CATEGORIES:Service
ATTACH;FMTTYPE=image/jpeg:https://sandalschurch.com/wp-content/uploads/2024/10/20230305-WC-SERVICE-JRH-22-scaled.jpg
END:VEVENT
BEGIN:VEVENT
DTSTART;TZID=America/Los_Angeles:20310302T100000
DTEND;TZID=America/Los_Angeles:20310302T100000
DTSTAMP:20260424T090239
CREATED:20260309T232914Z
LAST-MODIFIED:20260309T232925Z
UID:10049244-1930212000-1930212000@sandalschurch.com
SUMMARY:Service
DESCRIPTION:Join us for church! Each service is about 75 minutes with worship and a live sermon from one of our pastors.
URL:https://sandalschurch.com/event/hp-sun-10am-service-3/2031-03-02/
LOCATION:Hunter Park\, 150 Palmyrita Ave\, Riverside\, CA\, 92507\, United States
CATEGORIES:Service
ATTACH;FMTTYPE=image/jpeg:https://sandalschurch.com/wp-content/uploads/2024/02/20230423_HP_SundayMorning_Service_BW-33-scaled.jpg
END:VEVENT
BEGIN:VEVENT
DTSTART;TZID=America/Los_Angeles:20310302T100000
DTEND;TZID=America/Los_Angeles:20310302T100000
DTSTAMP:20260424T090239
CREATED:20260331T201848Z
LAST-MODIFIED:20260331T201908Z
UID:10050693-1930212000-1930212000@sandalschurch.com
SUMMARY:Service
DESCRIPTION:Experience the richness of gathering as a community. It’s a time of depth\, growth\, learning\, and true connection. Through meaningful teachings\, singing\, and shared stories\, we find understanding and inspiration that can reach something deeper within us.
URL:https://sandalschurch.com/event/fsno-sun-10am-service/2031-03-02/
LOCATION:Fresno\, 405 W Lincoln Ave\, Fresno\, CA\, 93706\, United States
CATEGORIES:Service
ATTACH;FMTTYPE=image/jpeg:https://sandalschurch.com/wp-content/uploads/2024/10/20230305-WC-SERVICE-JRH-22-scaled.jpg
END:VEVENT
BEGIN:VEVENT
DTSTART;TZID=America/Los_Angeles:20310302T110000
DTEND;TZID=America/Los_Angeles:20310302T110000
DTSTAMP:20260424T090239
CREATED:20241023T195528Z
LAST-MODIFIED:20260324T215727Z
UID:10049914-1930215600-1930215600@sandalschurch.com
SUMMARY:Service
DESCRIPTION:Experience the richness of gathering as a community. It’s a time of depth\, growth\, learning\, and true connection. Through meaningful teachings\, singing\, and shared stories\, we find understanding and inspiration that can reach something deeper within us.
URL:https://sandalschurch.com/event/lkah-sun-11am-service/2031-03-02/
LOCATION:Lake Arrowhead\, 1103 N. State Hwy 173\, Lake Arrowhead\, CA\, 92352\, United States
CATEGORIES:Service
ATTACH;FMTTYPE=image/jpeg:https://sandalschurch.com/wp-content/uploads/2024/10/20230305-WC-SERVICE-JRH-22-scaled.jpg
END:VEVENT
BEGIN:VEVENT
DTSTART;TZID=America/Los_Angeles:20310302T111500
DTEND;TZID=America/Los_Angeles:20310302T111500
DTSTAMP:20260424T090239
CREATED:20260317T163602Z
LAST-MODIFIED:20260317T164605Z
UID:10049651-1930216500-1930216500@sandalschurch.com
SUMMARY:Service (Eng. & Esp.)
DESCRIPTION:Experience the richness of gathering as a community. It’s a time of depth\, growth\, learning\, and true connection. Through meaningful teachings\, singing\, and shared stories\, we find understanding and inspiration that can reach something deeper within us.
URL:https://sandalschurch.com/event/mv-sun-11am-service-2/2031-03-02/
LOCATION:Moreno Valley\, 14093 Business Center Dr\, Moreno Valley\, CA\, 92553\, United States
CATEGORIES:Service
ATTACH;FMTTYPE=image/jpeg:https://sandalschurch.com/wp-content/uploads/2024/10/20230305-WC-SERVICE-JRH-22-scaled.jpg
END:VEVENT
BEGIN:VEVENT
DTSTART;TZID=America/Los_Angeles:20310302T113000
DTEND;TZID=America/Los_Angeles:20310302T113000
DTSTAMP:20260424T090239
CREATED:20241022T041036Z
LAST-MODIFIED:20260325T004739Z
UID:10050094-1930217400-1930217400@sandalschurch.com
SUMMARY:Service
DESCRIPTION:Experience the richness of gathering as a community. It’s a time of depth\, growth\, learning\, and true connection. Through meaningful teachings\, singing\, and shared stories\, we find understanding and inspiration that can reach something deeper within us.
URL:https://sandalschurch.com/event/ev-sun-1130am-service/2031-03-02/
LOCATION:East Valley\, 1325 Amethyst St\, Mentone\, 92359\, United States
CATEGORIES:Service
ATTACH;FMTTYPE=image/jpeg:https://sandalschurch.com/wp-content/uploads/2024/10/20230305-WC-SERVICE-JRH-22-scaled.jpg
END:VEVENT
END:VCALENDAR