BEGIN:VCALENDAR
VERSION:2.0
PRODID:-//Sandals Church - ECPv6.13.0//NONSGML v1.0//EN
CALSCALE:GREGORIAN
METHOD:PUBLISH
X-WR-CALNAME:Sandals Church
X-ORIGINAL-URL:https://sandalschurch.com
X-WR-CALDESC:Events for Sandals Church
REFRESH-INTERVAL;VALUE=DURATION:PT1H
X-Robots-Tag:noindex
X-PUBLISHED-TTL:PT1H
BEGIN:VTIMEZONE
TZID:America/Los_Angeles
BEGIN:DAYLIGHT
TZOFFSETFROM:-0800
TZOFFSETTO:-0700
TZNAME:PDT
DTSTART:20310309T100000
END:DAYLIGHT
BEGIN:STANDARD
TZOFFSETFROM:-0700
TZOFFSETTO:-0800
TZNAME:PST
DTSTART:20311102T090000
END:STANDARD
END:VTIMEZONE
BEGIN:VEVENT
DTSTART;TZID=America/Los_Angeles:20310416T180000
DTEND;TZID=America/Los_Angeles:20310416T200000
DTSTAMP:20260422T222338
CREATED:20250716T002849Z
LAST-MODIFIED:20250716T002849Z
UID:10051439-1934128800-1934136000@sandalschurch.com
SUMMARY:BN Men's Group
DESCRIPTION:Men’s Group – Weekly Study & Connection\nJoin us every week from 6:00–8:00 PM in the Community Room for a time of fellowship\, prayer\, and honest conversation. This group often goes through a practical\, faith-based book together while also reflecting on themes from Sunday’s sermon. It’s a great space to grow spiritually and build meaningful connections with other men. \nQuestions? Reach out to Steve at stevediaz@sandalschurch.com
URL:https://sandalschurch.com/event/bn-mens-group/2031-04-16/
LOCATION:Banning\, 2637 W Nicolet St\, Banning\, 92220\, United States
ATTACH;FMTTYPE=image/jpeg:https://sandalschurch.com/wp-content/uploads/2025/03/Men_s_Christmas_Gathering_DEC-13-24_DOM-18-scaled.jpg
END:VEVENT
BEGIN:VEVENT
DTSTART;TZID=America/Los_Angeles:20310416T180000
DTEND;TZID=America/Los_Angeles:20310416T203000
DTSTAMP:20260422T222338
CREATED:20250105T182450Z
LAST-MODIFIED:20260401T180109Z
UID:10051441-1934128800-1934137800@sandalschurch.com
SUMMARY:Sandals Church Youth
DESCRIPTION:GRADES 6th-12th \nMidweek community groups provide a place for students to feel known\, have fun\, be honest\, and cultivate real relationships with God and others. Each night includes a short service\, an element of fun\, and biblical teaching\, and then all students break out into smaller groups led by our amazing adult volunteers. \nThese groups happen on Wednesday nights at 6:30 at Sandals Church Palm Avenue
URL:https://sandalschurch.com/event/sandals-church-youth/2031-04-16/
LOCATION:Palm Avenue\, 6807 Palm Ave\, Riverside\, CA\, 92506\, United States
CATEGORIES:Youth
END:VEVENT
BEGIN:VEVENT
DTSTART;TZID=America/Los_Angeles:20310416T180000
DTEND;TZID=America/Los_Angeles:20310416T203000
DTSTAMP:20260422T222338
CREATED:20250617T185406Z
LAST-MODIFIED:20250724T013716Z
UID:10051442-1934128800-1934137800@sandalschurch.com
SUMMARY:Sandals Church Youth
DESCRIPTION:Sandals Church Youth midweek community groups provide a place for Junior High and High School students to feel known\, have fun\, be honest\, and cultivate real relationships with God and others. We have fun together\, enjoy solid Biblical teaching \, and then break out into smaller groups led by our amazing adult volunteers. Join us Wednesday evenings from 6 to 8:30 pm at Sandals Church Fresno!
URL:https://sandalschurch.com/event/sandals-church-youth-5-2/2031-04-16/
LOCATION:Fresno\, 405 W Lincoln Ave\, Fresno\, CA\, 93706\, United States
CATEGORIES:Groups,Youth
ATTACH;FMTTYPE=image/jpeg:https://sandalschurch.com/wp-content/uploads/2025/02/IMG_8486.jpg
END:VEVENT
BEGIN:VEVENT
DTSTART;TZID=America/Los_Angeles:20310416T180000
DTEND;TZID=America/Los_Angeles:20310416T203000
DTSTAMP:20260422T222338
CREATED:20251003T001223Z
LAST-MODIFIED:20251003T001225Z
UID:10051440-1934128800-1934137800@sandalschurch.com
SUMMARY:Sandals Church Youth
DESCRIPTION:Sandals Church Youth (SCY) is for students in 7th-12th grade that meet every Wednesday on campus. We have a pre party every week for those who want to come early starting at 6PM but our official time is from 6:30-8:30PM! Interested in joining or have any questions? Email Mark\, our Youth Lead\, at: markbeleno@sandalschurch.com \n\n\n\nSee what we’re up to on Instagram: \nSandals Youth: @sandalsyouth
URL:https://sandalschurch.com/event/wednesday-night-youth-4-5/2031-04-16/
LOCATION:Woodcrest\, 17421 Van Buren Blvd\, Riverside\, CA\, 92504\, United States
CATEGORIES:Youth
ATTACH;FMTTYPE=image/jpeg:https://sandalschurch.com/wp-content/uploads/2025/01/Youth-Calendar.jpg
END:VEVENT
BEGIN:VEVENT
DTSTART;TZID=America/Los_Angeles:20310416T183000
DTEND;TZID=America/Los_Angeles:20310416T183000
DTSTAMP:20260422T222338
CREATED:20250109T170804Z
LAST-MODIFIED:20250109T185122Z
UID:10051443-1934130600-1934130600@sandalschurch.com
SUMMARY:Wednesday Night Youth
DESCRIPTION:Midweek community groups provide a place for students to feel known\, have fun\, be honest and cultivate real relationships with God and others. Each campus has a short service\, element of fun\, biblical teaching via video and then all break out into smaller groups led by our amazing adult volunteers. \nThese groups happen on Wednesday nights at 6:30pm.
URL:https://sandalschurch.com/event/wednesday-night-youth-3/2031-04-16/
LOCATION:San Bernardino\, 3701 N Sierra Way\, San Bernardino\, CA\, 92405\, United States
CATEGORIES:Youth
ATTACH;FMTTYPE=image/jpeg:https://sandalschurch.com/wp-content/uploads/2024/12/20231102_HP_YTHCON_BRY-24-scaled.jpg
END:VEVENT
BEGIN:VEVENT
DTSTART;TZID=America/Los_Angeles:20310417T180000
DTEND;TZID=America/Los_Angeles:20310417T200000
DTSTAMP:20260422T222338
CREATED:20260422T171823Z
LAST-MODIFIED:20260422T171823Z
UID:10051433-1934215200-1934222400@sandalschurch.com
SUMMARY:Young Adults Group
DESCRIPTION:Adulting is hard\, don’t do it alone. \nWe’re kicking off our Young Adults Bible Study (ages 18-25) and you’re invited! Join us for a relaxed night to share a meal\, open Scripture\, and build real community with people who are figuring out life and faith right alongside you. We’ll start with dinner\, spend time in the Word\, and leave space for honest questions and prayer. Whether you’re brand new to church or looking to grow deeper\, there’s a seat for you. \n📅 Thursdays\n🕕 6:00 PM\n📍 31430 Inspiration Drive\, Running Springs\n🍽️ Dinner is provided (just bring yourself and a friend)
URL:https://sandalschurch.com/event/young-adults-bible-study-2/2031-04-17/
LOCATION:Lake Arrowhead\, 1103 N. State Hwy 173\, Lake Arrowhead\, CA\, 92352\, United States
CATEGORIES:Young Adults
ATTACH;FMTTYPE=image/png:https://sandalschurch.com/wp-content/uploads/2025/10/14-750x0-1-1.png
END:VEVENT
BEGIN:VEVENT
DTSTART;TZID=America/Los_Angeles:20310419T183000
DTEND;TZID=America/Los_Angeles:20310419T200000
DTSTAMP:20260422T222338
CREATED:20260422T003619Z
LAST-MODIFIED:20260422T003619Z
UID:10051401-1934389800-1934395200@sandalschurch.com
SUMMARY:Saturday Nights after Service!
DESCRIPTION:Saturday nights at Hunter Park are for everyone: families\, students\, and neighbors looking for community. Enjoy a meaningful service\, a shared meal\, and opportunities to connect. Together\, we are building something special. \nInterested in being a part of a group or event after service\, sign up here!
URL:https://sandalschurch.com/event/saturday-nights-after-service-2/2031-04-19/
LOCATION:Hunter Park\, 150 Palmyrita Ave\, Riverside\, CA\, 92507\, United States
END:VEVENT
BEGIN:VEVENT
DTSTART;TZID=America/Los_Angeles:20310422T190000
DTEND;TZID=America/Los_Angeles:20310422T210000
DTSTAMP:20260422T222338
CREATED:20250108T212739Z
LAST-MODIFIED:20250318T203825Z
UID:10051434-1934650800-1934658000@sandalschurch.com
SUMMARY:YOUNG ADULTS
DESCRIPTION:Young Adult Small Groups for ages 18-30ish \n7:00 PM in Building 1
URL:https://sandalschurch.com/event/young-adults/2031-04-22/
LOCATION:Anaheim\, 622 N Gilbert St\, Anaheim\, CA\, 92801\, United States
CATEGORIES:Groups
END:VEVENT
END:VCALENDAR