BEGIN:VCALENDAR
VERSION:2.0
PRODID:-//Sandals Church - ECPv6.13.0//NONSGML v1.0//EN
CALSCALE:GREGORIAN
METHOD:PUBLISH
X-WR-CALNAME:Sandals Church
X-ORIGINAL-URL:https://sandalschurch.com
X-WR-CALDESC:Events for Sandals Church
REFRESH-INTERVAL;VALUE=DURATION:PT1H
X-Robots-Tag:noindex
X-PUBLISHED-TTL:PT1H
BEGIN:VTIMEZONE
TZID:America/Los_Angeles
BEGIN:DAYLIGHT
TZOFFSETFROM:-0800
TZOFFSETTO:-0700
TZNAME:PDT
DTSTART:20310309T100000
END:DAYLIGHT
BEGIN:STANDARD
TZOFFSETFROM:-0700
TZOFFSETTO:-0800
TZNAME:PST
DTSTART:20311102T090000
END:STANDARD
END:VTIMEZONE
BEGIN:VEVENT
DTSTART;TZID=America/Los_Angeles:20310419T183000
DTEND;TZID=America/Los_Angeles:20310419T200000
DTSTAMP:20260423T031447
CREATED:20260422T003619Z
LAST-MODIFIED:20260422T003619Z
UID:10051401-1934389800-1934395200@sandalschurch.com
SUMMARY:Saturday Nights after Service!
DESCRIPTION:Saturday nights at Hunter Park are for everyone: families\, students\, and neighbors looking for community. Enjoy a meaningful service\, a shared meal\, and opportunities to connect. Together\, we are building something special. \nInterested in being a part of a group or event after service\, sign up here!
URL:https://sandalschurch.com/event/saturday-nights-after-service-2/2031-04-19/
LOCATION:Hunter Park\, 150 Palmyrita Ave\, Riverside\, CA\, 92507\, United States
END:VEVENT
BEGIN:VEVENT
DTSTART;TZID=America/Los_Angeles:20310422T190000
DTEND;TZID=America/Los_Angeles:20310422T210000
DTSTAMP:20260423T031447
CREATED:20250108T212739Z
LAST-MODIFIED:20250318T203825Z
UID:10051434-1934650800-1934658000@sandalschurch.com
SUMMARY:YOUNG ADULTS
DESCRIPTION:Young Adult Small Groups for ages 18-30ish \n7:00 PM in Building 1
URL:https://sandalschurch.com/event/young-adults/2031-04-22/
LOCATION:Anaheim\, 622 N Gilbert St\, Anaheim\, CA\, 92801\, United States
CATEGORIES:Groups
END:VEVENT
BEGIN:VEVENT
DTSTART;TZID=America/Los_Angeles:20310423T183000
DTEND;TZID=America/Los_Angeles:20310423T203000
DTSTAMP:20260423T031447
CREATED:20250106T203817Z
LAST-MODIFIED:20250106T211528Z
UID:10051449-1934735400-1934742600@sandalschurch.com
SUMMARY:Wednesday Night Youth (Azusa)
DESCRIPTION:Midweek community groups provide a place for students to feel known\, have fun\, be honest and cultivate real relationships with God and others. Each campus has a short service\, element of fun\, biblical teaching via video and then all break out into smaller groups led by our amazing adult volunteers. \nThese groups happen on Wednesday nights at 6:30 at every Sandals Church campus.
URL:https://sandalschurch.com/event/wednesday-night-youth-azusa/2031-04-23/
LOCATION:Azusa\, 630 E 5th St\, Azusa\, CA\, 91702\, United States
CATEGORIES:Youth
ATTACH;FMTTYPE=image/jpeg:https://sandalschurch.com/wp-content/uploads/2025/01/IMG_6096-preview-scaled.jpg
END:VEVENT
BEGIN:VEVENT
DTSTART;TZID=America/Los_Angeles:20310423T183000
DTEND;TZID=America/Los_Angeles:20310423T203000
DTSTAMP:20260423T031447
CREATED:20250212T025424Z
LAST-MODIFIED:20251202T203802Z
UID:10051447-1934735400-1934742600@sandalschurch.com
SUMMARY:Sandals Church Youth
DESCRIPTION:Join us every Wednesday from 6:30p-8:30p for a fun night of teaching\, games\, & small groups! Sandals Church Youth (SCY) provides a place for students (grades 6th – 12th) to feel known\, have fun\, be honest\, and cultivate REAL relationships with God and others. Show up as early as 6p to hangout with everyone!
URL:https://sandalschurch.com/event/sandals-church-youth-4/2031-04-23/
LOCATION:Lake Arrowhead\, 1103 N. State Hwy 173\, Lake Arrowhead\, CA\, 92352\, United States
CATEGORIES:Youth
ATTACH;FMTTYPE=image/png:https://sandalschurch.com/wp-content/uploads/2025/02/Untitled-design-47.png
END:VEVENT
BEGIN:VEVENT
DTSTART;TZID=America/Los_Angeles:20310423T183000
DTEND;TZID=America/Los_Angeles:20310423T203000
DTSTAMP:20260423T031447
CREATED:20250322T221221Z
LAST-MODIFIED:20250322T221921Z
UID:10051453-1934735400-1934742600@sandalschurch.com
SUMMARY:Redlands Youth
DESCRIPTION:
URL:https://sandalschurch.com/event/youth/2031-04-23/
LOCATION:Redlands\, 75 Tennessee St\, Redlands\, CA\, 92373\, United States
END:VEVENT
BEGIN:VEVENT
DTSTART;TZID=America/Los_Angeles:20310423T183000
DTEND;TZID=America/Los_Angeles:20310423T203000
DTSTAMP:20260423T031447
CREATED:20250816T205531Z
LAST-MODIFIED:20250816T205531Z
UID:10051445-1934735400-1934742600@sandalschurch.com
SUMMARY:Women's Connect Group (Santa Rosa)
DESCRIPTION:Hey Ladies! Come connect and cultivate REAL friendship and community with other ladies in the area in a super chill\, safe space. Join us at Sandals Church Santa Rosa on Wednesday nights at 6:30! We have a different activity every week. Some activities we have done in the past include paint & sip\, cake decorating\, painting with Bob Ross\, yoga\, walking Spring Lake\, tie dye\, vision boards\, and more!\n(BONUS: This group meets simultaneously with Sandals Church Youth for students 6th – 12th grade!)
URL:https://sandalschurch.com/event/womens-connect-group-santa-rosa/2031-04-23/
LOCATION:Santa Rosa\, 3595 Sonoma Ave\, Santa Rosa\, CA\, 95405\, United States
ATTACH;FMTTYPE=image/png:https://sandalschurch.com/wp-content/uploads/2025/08/WomensConnect.png
END:VEVENT
BEGIN:VEVENT
DTSTART;TZID=America/Los_Angeles:20310423T183000
DTEND;TZID=America/Los_Angeles:20310423T203000
DTSTAMP:20260423T031447
CREATED:20250816T210722Z
LAST-MODIFIED:20250816T210807Z
UID:10051451-1934735400-1934742600@sandalschurch.com
SUMMARY:Sandals Church Youth (Santa Rosa)
DESCRIPTION:Join us every Wednesday from 6:30p-8:30p for a fun night of teaching\, games\, & small groups! Sandals Church Youth (SCY) provides a place for students (grades 6th – 12th) to feel known\, have fun\, be honest\, and cultivate REAL relationships with God and others. Wehave games and food starting at 6:30! Come check us out!
URL:https://sandalschurch.com/event/sandals-church-youth-santa-rosa/2031-04-23/
LOCATION:Santa Rosa\, 3595 Sonoma Ave\, Santa Rosa\, CA\, 95405\, United States
CATEGORIES:Youth
ATTACH;FMTTYPE=image/jpeg:https://sandalschurch.com/wp-content/uploads/2025/08/2B152783-346D-440C-BE12-AAA06A86E2AB_1_105_c.jpeg
END:VEVENT
BEGIN:VEVENT
DTSTART;TZID=America/Los_Angeles:20310423T183000
DTEND;TZID=America/Los_Angeles:20310423T210000
DTSTAMP:20260423T031447
CREATED:20250108T211302Z
LAST-MODIFIED:20250622T050519Z
UID:10051455-1934735400-1934744400@sandalschurch.com
SUMMARY:SANDALS CHURCH YOUTH
DESCRIPTION:Wednesday night service and small groups for students and teens\, Grades 6-12th\, at 6:30 PM.
URL:https://sandalschurch.com/event/sandals-church-youth-2/2031-04-23/
LOCATION:Anaheim\, 622 N Gilbert St\, Anaheim\, CA\, 92801\, United States
CATEGORIES:Youth
END:VEVENT
END:VCALENDAR