BEGIN:VCALENDAR
VERSION:2.0
PRODID:-//Sandals Church - ECPv6.13.0//NONSGML v1.0//EN
CALSCALE:GREGORIAN
METHOD:PUBLISH
X-ORIGINAL-URL:https://sandalschurch.com
X-WR-CALDESC:Events for Sandals Church
REFRESH-INTERVAL;VALUE=DURATION:PT1H
X-Robots-Tag:noindex
X-PUBLISHED-TTL:PT1H
BEGIN:VTIMEZONE
TZID:America/Los_Angeles
BEGIN:DAYLIGHT
TZOFFSETFROM:-0800
TZOFFSETTO:-0700
TZNAME:PDT
DTSTART:20260308T100000
END:DAYLIGHT
BEGIN:STANDARD
TZOFFSETFROM:-0700
TZOFFSETTO:-0800
TZNAME:PST
DTSTART:20261101T090000
END:STANDARD
END:VTIMEZONE
BEGIN:VEVENT
DTSTART;TZID=America/Los_Angeles:20260507T183000
DTEND;TZID=America/Los_Angeles:20260507T183000
DTSTAMP:20260425T085025
CREATED:20241212T023115Z
LAST-MODIFIED:20241212T024017Z
UID:10019780-1778178600-1778178600@sandalschurch.com
SUMMARY:Al-Anon
DESCRIPTION:Thursdays\, Worskshop Room\, 6:30 pm\n\nSandals Church Palm Avenue hosts Al-Anon which is a mutual support group of peers who share their experience in applying the Al-Anon principles to problems related to the effects of a problem drinker in their lives.
URL:https://sandalschurch.com/event/alanon/2026-05-07/
LOCATION:Palm Avenue\, 6807 Palm Ave\, Riverside\, CA\, 92506\, United States
CATEGORIES:Groups
END:VEVENT
BEGIN:VEVENT
DTSTART;TZID=America/Los_Angeles:20260507T183000
DTEND;TZID=America/Los_Angeles:20260507T183000
DTSTAMP:20260425T085025
CREATED:20241212T023605Z
LAST-MODIFIED:20251118T192309Z
UID:10020042-1778178600-1778178600@sandalschurch.com
SUMMARY:Open Women's Group
DESCRIPTION:Thursdays\, Room 1\, 6:30 pm\n\nJoin an open group for women at Sandals Church Palm Avenue. There is no need to sign up\, this group is open to all who are looking for a place to make a real difference alongside other women. Our group exists to help women become spiritually wise\, relationally kind\, emotionally healthy\, connected in community and serving on a team. It’s a place where you are challenged to be real with yourself\, God and others. \n 
URL:https://sandalschurch.com/event/openwomen/2026-05-07/
LOCATION:Palm Avenue\, 6807 Palm Ave\, Riverside\, CA\, 92506\, United States
CATEGORIES:Groups
END:VEVENT
BEGIN:VEVENT
DTSTART;TZID=America/Los_Angeles:20260507T183000
DTEND;TZID=America/Los_Angeles:20260507T203000
DTSTAMP:20260425T085025
CREATED:20260116T155254Z
LAST-MODIFIED:20260116T155254Z
UID:10046412-1778178600-1778185800@sandalschurch.com
SUMMARY:Men's Sexual Freedom Group
DESCRIPTION:A place to be real and experience biblical healing from all sexual sin in a support group setting. We meet weekly\, and no registration is required. \nJoin us in the Community Room\, the large modular building just behind our cement patio and shade structure.
URL:https://sandalschurch.com/event/mens-sexual-freedom-group-4/2026-05-07/
LOCATION:Woodcrest\, 17421 Van Buren Blvd\, Riverside\, CA\, 92504\, United States
CATEGORIES:Groups
ATTACH;FMTTYPE=image/jpeg:https://sandalschurch.com/wp-content/uploads/2025/01/IMG_8488-scaled.jpg
END:VEVENT
BEGIN:VEVENT
DTSTART;TZID=America/Los_Angeles:20260507T190000
DTEND;TZID=America/Los_Angeles:20260507T203000
DTSTAMP:20260425T085025
CREATED:20260416T020138Z
LAST-MODIFIED:20260416T020138Z
UID:10051367-1778180400-1778185800@sandalschurch.com
SUMMARY:Disciple Maker Training
DESCRIPTION:WHAT IS DISCIPLE MAKER TRAINING?\nAt Sandals Church\, we are asking God to ignite a multiplying movement of discipleship in real relationships. \n⁕ Disciple Maker Training equips people to multiply disciples. ⁕ \nPeople will learn the same key elements of discipleship that Jesus used to equip His disciples. Our objective is to impart the vision\, character\, skills\, and a plan in such a way that people can take what they learn and reproduce it in the lives of others. \nThe question isn’t can you make disciples;\nIt’s will you? \nemail coronagroups@sandalschurch.com for more information
URL:https://sandalschurch.com/event/disciple-maker-training-3/
LOCATION:Corona\, 268 N Lincoln Ave Ste 18\, Corona\, 92882\, United States
END:VEVENT
BEGIN:VEVENT
DTSTART;TZID=America/Los_Angeles:20260508T190000
DTEND;TZID=America/Los_Angeles:20260508T203000
DTSTAMP:20260425T085025
CREATED:20251213T192934Z
LAST-MODIFIED:20251213T192935Z
UID:10043203-1778266800-1778272200@sandalschurch.com
SUMMARY:Open Share Groups
DESCRIPTION:This is a safe space to get REAL with yourself\, God and others as you work through your hurts\, habits and hangups in gender specific groups. \nWhen: Fridays at 7:00 PM\nWhere: Sandals Church Anaheim Patio\nWho: Ages 18+ \n*Bring your dinner at 6:30 PM and hang out before groups start\n*No childcare provided \n 
URL:https://sandalschurch.com/event/open-share-groups-2/2026-05-08/
LOCATION:Anaheim\, 622 N Gilbert St\, Anaheim\, CA\, 92801\, United States
CATEGORIES:Groups
END:VEVENT
BEGIN:VEVENT
DTSTART;TZID=America/Los_Angeles:20260509T170000
DTEND;TZID=America/Los_Angeles:20260509T181500
DTSTAMP:20260425T085025
CREATED:20260309T232900Z
LAST-MODIFIED:20260309T232915Z
UID:10035408-1778346000-1778350500@sandalschurch.com
SUMMARY:Service
DESCRIPTION:Join us for church! Each service is about 75 minutes with worship and a live sermon from one of our pastors.
URL:https://sandalschurch.com/event/hp-sat-4pm-service-2-3/2026-05-09/
LOCATION:Hunter Park\, 150 Palmyrita Ave\, Riverside\, CA\, 92507\, United States
CATEGORIES:Service
ATTACH;FMTTYPE=image/jpeg:https://sandalschurch.com/wp-content/uploads/2024/02/20230423_HP_SundayMorning_Service_BW-33-scaled.jpg
END:VEVENT
BEGIN:VEVENT
DTSTART;TZID=America/Los_Angeles:20260509T181500
DTEND;TZID=America/Los_Angeles:20260509T184500
DTSTAMP:20260425T085025
CREATED:20260309T233254Z
LAST-MODIFIED:20260309T233255Z
UID:10042200-1778350500-1778352300@sandalschurch.com
SUMMARY:SC Connect
DESCRIPTION:Are you new? Or are you looking to get connected at Sandals Church? Join us at Sandals Church Connect! Meet our staff\, learn more about our vision to be real with ourselves\, God\, and others\, and find your place to belong. We’d love to see you there! Feel free to just show up! \nJoin us in the Connect Room in the Lobby near Entry 2 and our lobby overflow seating. \nAny questions\, email hunterpark@sandalschurch.com
URL:https://sandalschurch.com/event/sandals-church-connect-3-2-2-2-2/2026-05-09/
LOCATION:Hunter Park\, 150 Palmyrita Ave\, Riverside\, CA\, 92507\, United States
CATEGORIES:Sandals Church Connect
END:VEVENT
BEGIN:VEVENT
DTSTART;TZID=America/Los_Angeles:20260509T183000
DTEND;TZID=America/Los_Angeles:20260509T200000
DTSTAMP:20260425T085025
CREATED:20260422T003619Z
LAST-MODIFIED:20260422T003619Z
UID:10048905-1778351400-1778356800@sandalschurch.com
SUMMARY:Saturday Nights after Service!
DESCRIPTION:Saturday nights at Hunter Park are for everyone: families\, students\, and neighbors looking for community. Enjoy a meaningful service\, a shared meal\, and opportunities to connect. Together\, we are building something special. \nInterested in being a part of a group or event after service\, sign up here!
URL:https://sandalschurch.com/event/saturday-nights-after-service-2/2026-05-09/
LOCATION:Hunter Park\, 150 Palmyrita Ave\, Riverside\, CA\, 92507\, United States
END:VEVENT
BEGIN:VEVENT
DTSTART;VALUE=DATE:20260510
DTEND;VALUE=DATE:20260511
DTSTAMP:20260425T085025
CREATED:20260418T224748Z
LAST-MODIFIED:20260418T224748Z
UID:10051384-1778371200-1778457599@sandalschurch.com
SUMMARY:Mother's Day
DESCRIPTION:Celebrate Mother’s Day at Sandals Church Fresno! Join us this Mother’s Day for a special service honoring the women who make life so beautiful.
URL:https://sandalschurch.com/event/mothers-day/
LOCATION:Fresno\, 405 W Lincoln Ave\, Fresno\, CA\, 93706\, United States
CATEGORIES:Events,Mens / Womens
ATTACH;FMTTYPE=image/png:https://sandalschurch.com/wp-content/uploads/2026/04/Mothers-Day-Service-Times.png
END:VEVENT
BEGIN:VEVENT
DTSTART;VALUE=DATE:20260510
DTEND;VALUE=DATE:20260511
DTSTAMP:20260425T085025
CREATED:20260418T230129Z
LAST-MODIFIED:20260418T230129Z
UID:10051385-1778371200-1778457599@sandalschurch.com
SUMMARY:Family Dedications
DESCRIPTION:Family Dedication is a chance for parents to publicly commit to raising their kids in a Godly way and for our church to be supportive in that decision. Please join us at Sandals Church Fresno on Sunday\, May 10th (Mother’s Day!) for our next dedications! Register HERE.
URL:https://sandalschurch.com/event/family-dedications-2/
LOCATION:Fresno\, 405 W Lincoln Ave\, Fresno\, CA\, 93706\, United States
CATEGORIES:Events,Kids
ATTACH;FMTTYPE=image/png:https://sandalschurch.com/wp-content/uploads/2026/04/Family-Dedication.png
END:VEVENT
BEGIN:VEVENT
DTSTART;TZID=America/Los_Angeles:20260510T080000
DTEND;TZID=America/Los_Angeles:20260510T080000
DTSTAMP:20260425T085025
CREATED:20241008T161047Z
LAST-MODIFIED:20250407T154219Z
UID:10034793-1778400000-1778400000@sandalschurch.com
SUMMARY:Service
DESCRIPTION:Experience the richness of gathering as a community. It’s a time of depth\, growth\, learning\, and true connection. Through meaningful teachings\, singing\, and shared stories\, we find understanding and inspiration that can reach something deeper within us.
URL:https://sandalschurch.com/event/wc-sun-8am-service/2026-05-10/
LOCATION:Woodcrest\, 17421 Van Buren Blvd\, Riverside\, CA\, 92504\, United States
CATEGORIES:Service
ATTACH;FMTTYPE=image/jpeg:https://sandalschurch.com/wp-content/uploads/2024/10/20230305-WC-SERVICE-JRH-22-scaled.jpg
END:VEVENT
BEGIN:VEVENT
DTSTART;TZID=America/Los_Angeles:20260510T080000
DTEND;TZID=America/Los_Angeles:20260510T080000
DTSTAMP:20260425T085025
CREATED:20241022T040720Z
LAST-MODIFIED:20260325T004606Z
UID:10011424-1778400000-1778400000@sandalschurch.com
SUMMARY:Service
DESCRIPTION:Experience the richness of gathering as a community. It’s a time of depth\, growth\, learning\, and true connection. Through meaningful teachings\, singing\, and shared stories\, we find understanding and inspiration that can reach something deeper within us.
URL:https://sandalschurch.com/event/ev-sun-8am-service/2026-05-10/
LOCATION:East Valley\, 1325 Amethyst St\, Mentone\, 92359\, United States
CATEGORIES:Service
ATTACH;FMTTYPE=image/jpeg:https://sandalschurch.com/wp-content/uploads/2024/10/20230305-WC-SERVICE-JRH-22-scaled.jpg
END:VEVENT
BEGIN:VEVENT
DTSTART;TZID=America/Los_Angeles:20260510T080000
DTEND;TZID=America/Los_Angeles:20260510T080000
DTSTAMP:20260425T085025
CREATED:20241023T184801Z
LAST-MODIFIED:20241023T184820Z
UID:10013289-1778400000-1778400000@sandalschurch.com
SUMMARY:Service
DESCRIPTION:Experience the richness of gathering as a community. It’s a time of depth\, growth\, learning\, and true connection. Through meaningful teachings\, singing\, and shared stories\, we find understanding and inspiration that can reach something deeper within us.
URL:https://sandalschurch.com/event/rdls-sun-8am-service/2026-05-10/
LOCATION:Redlands\, 75 Tennessee St\, Redlands\, CA\, 92373\, United States
CATEGORIES:Service
ATTACH;FMTTYPE=image/jpeg:https://sandalschurch.com/wp-content/uploads/2024/10/20230305-WC-SERVICE-JRH-22-scaled.jpg
END:VEVENT
BEGIN:VEVENT
DTSTART;TZID=America/Los_Angeles:20260510T080000
DTEND;TZID=America/Los_Angeles:20260510T080000
DTSTAMP:20260425T085025
CREATED:20241023T185454Z
LAST-MODIFIED:20241023T185529Z
UID:10014072-1778400000-1778400000@sandalschurch.com
SUMMARY:Service
DESCRIPTION:Experience the richness of gathering as a community. It’s a time of depth\, growth\, learning\, and true connection. Through meaningful teachings\, singing\, and shared stories\, we find understanding and inspiration that can reach something deeper within us.
URL:https://sandalschurch.com/event/pa-sun-8am-service/2026-05-10/
LOCATION:Palm Avenue\, 6807 Palm Ave\, Riverside\, CA\, 92506\, United States
CATEGORIES:Service
ATTACH;FMTTYPE=image/jpeg:https://sandalschurch.com/wp-content/uploads/2024/10/20230305-WC-SERVICE-JRH-22-scaled.jpg
END:VEVENT
BEGIN:VEVENT
DTSTART;TZID=America/Los_Angeles:20260510T080000
DTEND;TZID=America/Los_Angeles:20260510T080000
DTSTAMP:20260425T085025
CREATED:20241023T192711Z
LAST-MODIFIED:20241215T165627Z
UID:10020759-1778400000-1778400000@sandalschurch.com
SUMMARY:Service
DESCRIPTION:Experience the richness of gathering as a community. It’s a time of depth\, growth\, learning\, and true connection. Through meaningful teachings\, singing\, and shared stories\, we find understanding and inspiration that can reach something deeper within us.
URL:https://sandalschurch.com/event/mv-sun-8am-service/2026-05-10/
LOCATION:Moreno Valley\, 14093 Business Center Dr\, Moreno Valley\, CA\, 92553\, United States
CATEGORIES:Service
ATTACH;FMTTYPE=image/jpeg:https://sandalschurch.com/wp-content/uploads/2024/10/20230305-WC-SERVICE-JRH-22-scaled.jpg
END:VEVENT
BEGIN:VEVENT
DTSTART;TZID=America/Los_Angeles:20260510T080000
DTEND;TZID=America/Los_Angeles:20260510T080000
DTSTAMP:20260425T085025
CREATED:20241023T213846Z
LAST-MODIFIED:20241023T213913Z
UID:10017203-1778400000-1778400000@sandalschurch.com
SUMMARY:Service
DESCRIPTION:Experience the richness of gathering as a community. It’s a time of depth\, growth\, learning\, and true connection. Through meaningful teachings\, singing\, and shared stories\, we find understanding and inspiration that can reach something deeper within us.
URL:https://sandalschurch.com/event/mnfe-sun-8am-service/2026-05-10/
LOCATION:Menifee\, 27755 Bradley Rd.\, Menifee\, CA\, 92586\, United States
CATEGORIES:Service
ATTACH;FMTTYPE=image/jpeg:https://sandalschurch.com/wp-content/uploads/2024/10/20230305-WC-SERVICE-JRH-22-scaled.jpg
END:VEVENT
BEGIN:VEVENT
DTSTART;TZID=America/Los_Angeles:20260510T081500
DTEND;TZID=America/Los_Angeles:20260510T081500
DTSTAMP:20260425T085025
CREATED:20240524T182424Z
LAST-MODIFIED:20241120T213604Z
UID:10007347-1778400900-1778400900@sandalschurch.com
SUMMARY:Digital Live Service
DESCRIPTION:Gathering together as God’s people and taking part in corporate worship and teaching can be a powerful experience. Hop on our chat and meet other people watching Sandals Church all over the world! You’ll find us on Facebook\, Youtube\, and live.sandalschurch.tv.
URL:https://sandalschurch.com/event/digital-live-service-sun-815am/2026-05-10/
LOCATION:Online\, SandalsChurch.com/online/
CATEGORIES:Service
ATTACH;FMTTYPE=image/jpeg:https://sandalschurch.com/wp-content/uploads/2020/03/Laptop.jpg
END:VEVENT
BEGIN:VEVENT
DTSTART;TZID=America/Los_Angeles:20260510T081500
DTEND;TZID=America/Los_Angeles:20260510T081500
DTSTAMP:20260425T085025
CREATED:20241017T191026Z
LAST-MODIFIED:20241023T034622Z
UID:10010642-1778400900-1778400900@sandalschurch.com
SUMMARY:Service
DESCRIPTION:Experience the richness of gathering as a community. It’s a time of depth\, growth\, learning\, and true connection. Through meaningful teachings\, singing\, and shared stories\, we find understanding and inspiration that can reach something deeper within us.
URL:https://sandalschurch.com/event/bn-sun-815am-service/2026-05-10/
LOCATION:Banning\, 2637 W Nicolet St\, Banning\, 92220\, United States
CATEGORIES:Service
ATTACH;FMTTYPE=image/jpeg:https://sandalschurch.com/wp-content/uploads/2024/10/20230305-WC-SERVICE-JRH-22-scaled.jpg
END:VEVENT
BEGIN:VEVENT
DTSTART;TZID=America/Los_Angeles:20260510T081500
DTEND;TZID=America/Los_Angeles:20260510T081500
DTSTAMP:20260425T085025
CREATED:20260309T232757Z
LAST-MODIFIED:20260309T232813Z
UID:10008010-1778400900-1778400900@sandalschurch.com
SUMMARY:Service
DESCRIPTION:Join us for church! Each service is about 75 minutes with worship and a live sermon from one of our pastors.
URL:https://sandalschurch.com/event/hp-sun-815am-service-3/2026-05-10/
LOCATION:Hunter Park\, 150 Palmyrita Ave\, Riverside\, CA\, 92507\, United States
CATEGORIES:Service
ATTACH;FMTTYPE=image/jpeg:https://sandalschurch.com/wp-content/uploads/2024/02/20230423_HP_SundayMorning_Service_BW-33-scaled.jpg
END:VEVENT
BEGIN:VEVENT
DTSTART;TZID=America/Los_Angeles:20260510T083000
DTEND;TZID=America/Los_Angeles:20260510T083000
DTSTAMP:20260425T085025
CREATED:20250902T224149Z
LAST-MODIFIED:20250902T224204Z
UID:10040230-1778401800-1778401800@sandalschurch.com
SUMMARY:Service
DESCRIPTION:Experience the richness of gathering as a community. It’s a time of depth\, growth\, learning\, and true connection. Through meaningful teachings\, singing\, and shared stories\, we find understanding and inspiration that can reach something deeper within us.
URL:https://sandalschurch.com/event/anah-sun-830am-service/2026-05-10/
LOCATION:Anaheim\, 622 N Gilbert St\, Anaheim\, CA\, 92801\, United States
CATEGORIES:Service
ATTACH;FMTTYPE=image/jpeg:https://sandalschurch.com/wp-content/uploads/2024/10/20230305-WC-SERVICE-JRH-22-scaled.jpg
END:VEVENT
BEGIN:VEVENT
DTSTART;TZID=America/Los_Angeles:20260510T083000
DTEND;TZID=America/Los_Angeles:20260510T083000
DTSTAMP:20260425T085025
CREATED:20260331T201617Z
LAST-MODIFIED:20260331T201636Z
UID:10050182-1778401800-1778401800@sandalschurch.com
SUMMARY:Service
DESCRIPTION:Experience the richness of gathering as a community. It’s a time of depth\, growth\, learning\, and true connection. Through meaningful teachings\, singing\, and shared stories\, we find understanding and inspiration that can reach something deeper within us.
URL:https://sandalschurch.com/event/fsno-sun-830am-service/2026-05-10/
LOCATION:Fresno\, 405 W Lincoln Ave\, Fresno\, CA\, 93706\, United States
CATEGORIES:Service
ATTACH;FMTTYPE=image/jpeg:https://sandalschurch.com/wp-content/uploads/2024/10/20230305-WC-SERVICE-JRH-22-scaled.jpg
END:VEVENT
BEGIN:VEVENT
DTSTART;TZID=America/Los_Angeles:20260510T090000
DTEND;TZID=America/Los_Angeles:20260510T090000
DTSTAMP:20260425T085025
CREATED:20250326T201013Z
LAST-MODIFIED:20260324T215536Z
UID:10032717-1778403600-1778403600@sandalschurch.com
SUMMARY:Service
DESCRIPTION:Experience the richness of gathering as a community. It’s a time of depth\, growth\, learning\, and true connection. Through meaningful teachings\, singing\, and shared stories\, we find understanding and inspiration that can reach something deeper within us.
URL:https://sandalschurch.com/event/serive/2026-05-10/
LOCATION:Lake Arrowhead\, 1103 N. State Hwy 173\, Lake Arrowhead\, CA\, 92352\, United States
CATEGORIES:Service
ATTACH;FMTTYPE=image/jpeg:https://sandalschurch.com/wp-content/uploads/2025/03/20230305-WC-SERVICE-JRH-22-370x247-1.jpg
END:VEVENT
BEGIN:VEVENT
DTSTART;TZID=America/Los_Angeles:20260510T090000
DTEND;TZID=America/Los_Angeles:20260510T090000
DTSTAMP:20260425T085025
CREATED:20260210T043055Z
LAST-MODIFIED:20260210T043209Z
UID:10046892-1778403600-1778403600@sandalschurch.com
SUMMARY:Service
DESCRIPTION:Experience the richness of gathering as a community. It’s a time of depth\, growth\, learning\, and true connection. Through meaningful teachings\, singing\, and shared stories\, we find understanding and inspiration that can reach something deeper within us.
URL:https://sandalschurch.com/event/crna-sun-9am-service/2026-05-10/
LOCATION:Corona\, 268 N Lincoln Ave Ste 18\, Corona\, 92882\, United States
CATEGORIES:Service
ATTACH;FMTTYPE=image/jpeg:https://sandalschurch.com/wp-content/uploads/2024/10/20230305-WC-SERVICE-JRH-22-scaled.jpg
END:VEVENT
BEGIN:VEVENT
DTSTART;TZID=America/Los_Angeles:20260510T090000
DTEND;TZID=America/Los_Angeles:20260510T101000
DTSTAMP:20260425T085025
CREATED:20260416T030749Z
LAST-MODIFIED:20260416T032327Z
UID:10051375-1778403600-1778407800@sandalschurch.com
SUMMARY:Exploring Faith Group
DESCRIPTION:EFG is a group experience designed specifically for those who are new to faith\, curious about faith\, or coming back to church after some time away. It’s a place where your opinions are valued and no question is off-limits. \nThis is an open group. Simply show up or email coronagroups@sandalschurch.com for more information
URL:https://sandalschurch.com/event/exploring-faith-group/
LOCATION:Corona\, 268 N Lincoln Ave Ste 18\, Corona\, 92882\, United States
ATTACH;FMTTYPE=image/jpeg:https://sandalschurch.com/wp-content/uploads/2021/03/EFG-Web-Header-2560x800-1.jpg
END:VEVENT
BEGIN:VEVENT
DTSTART;TZID=America/Los_Angeles:20260510T090000
DTEND;TZID=America/Los_Angeles:20260510T120000
DTSTAMP:20260425T085025
CREATED:20260422T020616Z
LAST-MODIFIED:20260422T020754Z
UID:10051402-1778403600-1778414400@sandalschurch.com
SUMMARY:Mother's Day at SC Corona
DESCRIPTION:Celebrate Mother’s Day at Sandals Church Corona! Join us this Mother’s Day for a special service honoring the women who make life so beautiful.
URL:https://sandalschurch.com/event/mothers-day-at-sc-corona/
LOCATION:Corona\, 268 N Lincoln Ave Ste 18\, Corona\, 92882\, United States
ATTACH;FMTTYPE=image/png:https://sandalschurch.com/wp-content/uploads/2026/04/Mothers-Day-Celebration-Slide-LT1.png
END:VEVENT
BEGIN:VEVENT
DTSTART;TZID=America/Los_Angeles:20260510T093000
DTEND;TZID=America/Los_Angeles:20260510T093000
DTSTAMP:20260425T085025
CREATED:20241017T190437Z
LAST-MODIFIED:20250123T230423Z
UID:10025965-1778405400-1778405400@sandalschurch.com
SUMMARY:Service
DESCRIPTION:Experience the richness of gathering as a community. It’s a time of depth\, growth\, learning\, and true connection. Through meaningful teachings\, singing\, and shared stories\, we find understanding and inspiration that can reach something deeper within us.
URL:https://sandalschurch.com/event/azsa-sun-9am-service/2026-05-10/
LOCATION:Azusa\, 630 E 5th St\, Azusa\, CA\, 91702\, United States
CATEGORIES:Service
ATTACH;FMTTYPE=image/jpeg:https://sandalschurch.com/wp-content/uploads/2024/10/20230305-WC-SERVICE-JRH-22-scaled.jpg
END:VEVENT
BEGIN:VEVENT
DTSTART;TZID=America/Los_Angeles:20260510T093000
DTEND;TZID=America/Los_Angeles:20260510T093000
DTSTAMP:20260425T085025
CREATED:20241023T180547Z
LAST-MODIFIED:20241023T180607Z
UID:10012506-1778405400-1778405400@sandalschurch.com
SUMMARY:Service
DESCRIPTION:Experience the richness of gathering as a community. It’s a time of depth\, growth\, learning\, and true connection. Through meaningful teachings\, singing\, and shared stories\, we find understanding and inspiration that can reach something deeper within us.
URL:https://sandalschurch.com/event/sb-sun-930am-service/2026-05-10/
LOCATION:San Bernardino\, 3701 N Sierra Way\, San Bernardino\, CA\, 92405\, United States
CATEGORIES:Service
ATTACH;FMTTYPE=image/jpeg:https://sandalschurch.com/wp-content/uploads/2024/10/20230305-WC-SERVICE-JRH-22-scaled.jpg
END:VEVENT
BEGIN:VEVENT
DTSTART;TZID=America/Los_Angeles:20260510T093000
DTEND;TZID=America/Los_Angeles:20260510T093000
DTSTAMP:20260425T085025
CREATED:20241023T184905Z
LAST-MODIFIED:20241023T185053Z
UID:10013550-1778405400-1778405400@sandalschurch.com
SUMMARY:Service
DESCRIPTION:Experience the richness of gathering as a community. It’s a time of depth\, growth\, learning\, and true connection. Through meaningful teachings\, singing\, and shared stories\, we find understanding and inspiration that can reach something deeper within us.
URL:https://sandalschurch.com/event/rdls-sun-930am-service/2026-05-10/
LOCATION:Redlands\, 75 Tennessee St\, Redlands\, CA\, 92373\, United States
CATEGORIES:Service
ATTACH;FMTTYPE=image/jpeg:https://sandalschurch.com/wp-content/uploads/2024/10/20230305-WC-SERVICE-JRH-22-scaled.jpg
END:VEVENT
BEGIN:VEVENT
DTSTART;TZID=America/Los_Angeles:20260510T093000
DTEND;TZID=America/Los_Angeles:20260510T093000
DTSTAMP:20260425T085025
CREATED:20241023T185632Z
LAST-MODIFIED:20241023T185651Z
UID:10014333-1778405400-1778405400@sandalschurch.com
SUMMARY:Service
DESCRIPTION:Experience the richness of gathering as a community. It’s a time of depth\, growth\, learning\, and true connection. Through meaningful teachings\, singing\, and shared stories\, we find understanding and inspiration that can reach something deeper within us.
URL:https://sandalschurch.com/event/pa-sun-930am-service/2026-05-10/
LOCATION:Palm Avenue\, 6807 Palm Ave\, Riverside\, CA\, 92506\, United States
CATEGORIES:Service
ATTACH;FMTTYPE=image/jpeg:https://sandalschurch.com/wp-content/uploads/2024/10/20230305-WC-SERVICE-JRH-22-scaled.jpg
END:VEVENT
BEGIN:VEVENT
DTSTART;TZID=America/Los_Angeles:20260510T093000
DTEND;TZID=America/Los_Angeles:20260510T093000
DTSTAMP:20260425T085025
CREATED:20241023T214008Z
LAST-MODIFIED:20241023T214038Z
UID:10017464-1778405400-1778405400@sandalschurch.com
SUMMARY:Service
DESCRIPTION:Experience the richness of gathering as a community. It’s a time of depth\, growth\, learning\, and true connection. Through meaningful teachings\, singing\, and shared stories\, we find understanding and inspiration that can reach something deeper within us.
URL:https://sandalschurch.com/event/mnfe-sun-930am-service/2026-05-10/
LOCATION:Menifee\, 27755 Bradley Rd.\, Menifee\, CA\, 92586\, United States
CATEGORIES:Service
ATTACH;FMTTYPE=image/jpeg:https://sandalschurch.com/wp-content/uploads/2024/10/20230305-WC-SERVICE-JRH-22-scaled.jpg
END:VEVENT
END:VCALENDAR