BEGIN:VCALENDAR
VERSION:2.0
PRODID:-//Sandals Church - ECPv6.13.0//NONSGML v1.0//EN
CALSCALE:GREGORIAN
METHOD:PUBLISH
X-ORIGINAL-URL:https://sandalschurch.com
X-WR-CALDESC:Events for Sandals Church
REFRESH-INTERVAL;VALUE=DURATION:PT1H
X-Robots-Tag:noindex
X-PUBLISHED-TTL:PT1H
BEGIN:VTIMEZONE
TZID:America/Los_Angeles
BEGIN:DAYLIGHT
TZOFFSETFROM:-0800
TZOFFSETTO:-0700
TZNAME:PDT
DTSTART:20280312T100000
END:DAYLIGHT
BEGIN:STANDARD
TZOFFSETFROM:-0700
TZOFFSETTO:-0800
TZNAME:PST
DTSTART:20281105T090000
END:STANDARD
END:VTIMEZONE
BEGIN:VEVENT
DTSTART;TZID=America/Los_Angeles:20280319T094500
DTEND;TZID=America/Los_Angeles:20280319T094500
DTSTAMP:20260422T103715
CREATED:20250902T224652Z
LAST-MODIFIED:20250902T224707Z
UID:10040587-1837071900-1837071900@sandalschurch.com
SUMMARY:Service
DESCRIPTION:Experience the richness of gathering as a community. It’s a time of depth\, growth\, learning\, and true connection. Through meaningful teachings\, singing\, and shared stories\, we find understanding and inspiration that can reach something deeper within us.
URL:https://sandalschurch.com/event/anah-sun-945am-service/2028-03-19/
LOCATION:Anaheim\, 622 N Gilbert St\, Anaheim\, CA\, 92801\, United States
CATEGORIES:Service
ATTACH;FMTTYPE=image/jpeg:https://sandalschurch.com/wp-content/uploads/2024/10/20230305-WC-SERVICE-JRH-22-scaled.jpg
END:VEVENT
BEGIN:VEVENT
DTSTART;TZID=America/Los_Angeles:20280319T111500
DTEND;TZID=America/Los_Angeles:20280319T111500
DTSTAMP:20260422T103715
CREATED:20241017T185701Z
LAST-MODIFIED:20250109T172417Z
UID:10024997-1837077300-1837077300@sandalschurch.com
SUMMARY:Service
DESCRIPTION:Experience the richness of gathering as a community. It’s a time of depth\, growth\, learning\, and true connection. Through meaningful teachings\, singing\, and shared stories\, we find understanding and inspiration that can reach something deeper within us.
URL:https://sandalschurch.com/event/anah-sun-1115am-service/2028-03-19/
LOCATION:Anaheim\, 622 N Gilbert St\, Anaheim\, CA\, 92801\, United States
CATEGORIES:Service
ATTACH;FMTTYPE=image/jpeg:https://sandalschurch.com/wp-content/uploads/2024/10/20230305-WC-SERVICE-JRH-22-scaled.jpg
END:VEVENT
BEGIN:VEVENT
DTSTART;TZID=America/Los_Angeles:20280321T190000
DTEND;TZID=America/Los_Angeles:20280321T210000
DTSTAMP:20260422T103715
CREATED:20250108T212739Z
LAST-MODIFIED:20250318T203825Z
UID:10024186-1837278000-1837285200@sandalschurch.com
SUMMARY:YOUNG ADULTS
DESCRIPTION:Young Adult Small Groups for ages 18-30ish \n7:00 PM in Building 1
URL:https://sandalschurch.com/event/young-adults/2028-03-21/
LOCATION:Anaheim\, 622 N Gilbert St\, Anaheim\, CA\, 92801\, United States
CATEGORIES:Groups
END:VEVENT
BEGIN:VEVENT
DTSTART;TZID=America/Los_Angeles:20280322T183000
DTEND;TZID=America/Los_Angeles:20280322T210000
DTSTAMP:20260422T103715
CREATED:20250108T211302Z
LAST-MODIFIED:20250622T050519Z
UID:10023926-1837362600-1837371600@sandalschurch.com
SUMMARY:SANDALS CHURCH YOUTH
DESCRIPTION:Wednesday night service and small groups for students and teens\, Grades 6-12th\, at 6:30 PM.
URL:https://sandalschurch.com/event/sandals-church-youth-2/2028-03-22/
LOCATION:Anaheim\, 622 N Gilbert St\, Anaheim\, CA\, 92801\, United States
CATEGORIES:Youth
END:VEVENT
BEGIN:VEVENT
DTSTART;TZID=America/Los_Angeles:20280324T190000
DTEND;TZID=America/Los_Angeles:20280324T203000
DTSTAMP:20260422T103716
CREATED:20251213T192934Z
LAST-MODIFIED:20251213T192935Z
UID:10043301-1837537200-1837542600@sandalschurch.com
SUMMARY:Open Share Groups
DESCRIPTION:This is a safe space to get REAL with yourself\, God and others as you work through your hurts\, habits and hangups in gender specific groups. \nWhen: Fridays at 7:00 PM\nWhere: Sandals Church Anaheim Patio\nWho: Ages 18+ \n*Bring your dinner at 6:30 PM and hang out before groups start\n*No childcare provided \n 
URL:https://sandalschurch.com/event/open-share-groups-2/2028-03-24/
LOCATION:Anaheim\, 622 N Gilbert St\, Anaheim\, CA\, 92801\, United States
CATEGORIES:Groups
END:VEVENT
BEGIN:VEVENT
DTSTART;TZID=America/Los_Angeles:20280326T083000
DTEND;TZID=America/Los_Angeles:20280326T083000
DTSTAMP:20260422T103716
CREATED:20250902T224149Z
LAST-MODIFIED:20250902T224204Z
UID:10040328-1837672200-1837672200@sandalschurch.com
SUMMARY:Service
DESCRIPTION:Experience the richness of gathering as a community. It’s a time of depth\, growth\, learning\, and true connection. Through meaningful teachings\, singing\, and shared stories\, we find understanding and inspiration that can reach something deeper within us.
URL:https://sandalschurch.com/event/anah-sun-830am-service/2028-03-26/
LOCATION:Anaheim\, 622 N Gilbert St\, Anaheim\, CA\, 92801\, United States
CATEGORIES:Service
ATTACH;FMTTYPE=image/jpeg:https://sandalschurch.com/wp-content/uploads/2024/10/20230305-WC-SERVICE-JRH-22-scaled.jpg
END:VEVENT
BEGIN:VEVENT
DTSTART;TZID=America/Los_Angeles:20280326T094500
DTEND;TZID=America/Los_Angeles:20280326T094500
DTSTAMP:20260422T103716
CREATED:20250902T224652Z
LAST-MODIFIED:20250902T224707Z
UID:10040588-1837676700-1837676700@sandalschurch.com
SUMMARY:Service
DESCRIPTION:Experience the richness of gathering as a community. It’s a time of depth\, growth\, learning\, and true connection. Through meaningful teachings\, singing\, and shared stories\, we find understanding and inspiration that can reach something deeper within us.
URL:https://sandalschurch.com/event/anah-sun-945am-service/2028-03-26/
LOCATION:Anaheim\, 622 N Gilbert St\, Anaheim\, CA\, 92801\, United States
CATEGORIES:Service
ATTACH;FMTTYPE=image/jpeg:https://sandalschurch.com/wp-content/uploads/2024/10/20230305-WC-SERVICE-JRH-22-scaled.jpg
END:VEVENT
BEGIN:VEVENT
DTSTART;TZID=America/Los_Angeles:20280326T111500
DTEND;TZID=America/Los_Angeles:20280326T111500
DTSTAMP:20260422T103716
CREATED:20241017T185701Z
LAST-MODIFIED:20250109T172417Z
UID:10024998-1837682100-1837682100@sandalschurch.com
SUMMARY:Service
DESCRIPTION:Experience the richness of gathering as a community. It’s a time of depth\, growth\, learning\, and true connection. Through meaningful teachings\, singing\, and shared stories\, we find understanding and inspiration that can reach something deeper within us.
URL:https://sandalschurch.com/event/anah-sun-1115am-service/2028-03-26/
LOCATION:Anaheim\, 622 N Gilbert St\, Anaheim\, CA\, 92801\, United States
CATEGORIES:Service
ATTACH;FMTTYPE=image/jpeg:https://sandalschurch.com/wp-content/uploads/2024/10/20230305-WC-SERVICE-JRH-22-scaled.jpg
END:VEVENT
BEGIN:VEVENT
DTSTART;TZID=America/Los_Angeles:20280328T190000
DTEND;TZID=America/Los_Angeles:20280328T210000
DTSTAMP:20260422T103716
CREATED:20250108T212739Z
LAST-MODIFIED:20250318T203825Z
UID:10024187-1837882800-1837890000@sandalschurch.com
SUMMARY:YOUNG ADULTS
DESCRIPTION:Young Adult Small Groups for ages 18-30ish \n7:00 PM in Building 1
URL:https://sandalschurch.com/event/young-adults/2028-03-28/
LOCATION:Anaheim\, 622 N Gilbert St\, Anaheim\, CA\, 92801\, United States
CATEGORIES:Groups
END:VEVENT
BEGIN:VEVENT
DTSTART;TZID=America/Los_Angeles:20280329T183000
DTEND;TZID=America/Los_Angeles:20280329T210000
DTSTAMP:20260422T103716
CREATED:20250108T211302Z
LAST-MODIFIED:20250622T050519Z
UID:10023927-1837967400-1837976400@sandalschurch.com
SUMMARY:SANDALS CHURCH YOUTH
DESCRIPTION:Wednesday night service and small groups for students and teens\, Grades 6-12th\, at 6:30 PM.
URL:https://sandalschurch.com/event/sandals-church-youth-2/2028-03-29/
LOCATION:Anaheim\, 622 N Gilbert St\, Anaheim\, CA\, 92801\, United States
CATEGORIES:Youth
END:VEVENT
BEGIN:VEVENT
DTSTART;TZID=America/Los_Angeles:20280331T190000
DTEND;TZID=America/Los_Angeles:20280331T203000
DTSTAMP:20260422T103716
CREATED:20251213T192934Z
LAST-MODIFIED:20251213T192935Z
UID:10043302-1838142000-1838147400@sandalschurch.com
SUMMARY:Open Share Groups
DESCRIPTION:This is a safe space to get REAL with yourself\, God and others as you work through your hurts\, habits and hangups in gender specific groups. \nWhen: Fridays at 7:00 PM\nWhere: Sandals Church Anaheim Patio\nWho: Ages 18+ \n*Bring your dinner at 6:30 PM and hang out before groups start\n*No childcare provided \n 
URL:https://sandalschurch.com/event/open-share-groups-2/2028-03-31/
LOCATION:Anaheim\, 622 N Gilbert St\, Anaheim\, CA\, 92801\, United States
CATEGORIES:Groups
END:VEVENT
BEGIN:VEVENT
DTSTART;TZID=America/Los_Angeles:20280402T083000
DTEND;TZID=America/Los_Angeles:20280402T083000
DTSTAMP:20260422T103716
CREATED:20250902T224149Z
LAST-MODIFIED:20250902T224204Z
UID:10040329-1838277000-1838277000@sandalschurch.com
SUMMARY:Service
DESCRIPTION:Experience the richness of gathering as a community. It’s a time of depth\, growth\, learning\, and true connection. Through meaningful teachings\, singing\, and shared stories\, we find understanding and inspiration that can reach something deeper within us.
URL:https://sandalschurch.com/event/anah-sun-830am-service/2028-04-02/
LOCATION:Anaheim\, 622 N Gilbert St\, Anaheim\, CA\, 92801\, United States
CATEGORIES:Service
ATTACH;FMTTYPE=image/jpeg:https://sandalschurch.com/wp-content/uploads/2024/10/20230305-WC-SERVICE-JRH-22-scaled.jpg
END:VEVENT
BEGIN:VEVENT
DTSTART;TZID=America/Los_Angeles:20280402T094500
DTEND;TZID=America/Los_Angeles:20280402T094500
DTSTAMP:20260422T103716
CREATED:20250902T224652Z
LAST-MODIFIED:20250902T224707Z
UID:10040589-1838281500-1838281500@sandalschurch.com
SUMMARY:Service
DESCRIPTION:Experience the richness of gathering as a community. It’s a time of depth\, growth\, learning\, and true connection. Through meaningful teachings\, singing\, and shared stories\, we find understanding and inspiration that can reach something deeper within us.
URL:https://sandalschurch.com/event/anah-sun-945am-service/2028-04-02/
LOCATION:Anaheim\, 622 N Gilbert St\, Anaheim\, CA\, 92801\, United States
CATEGORIES:Service
ATTACH;FMTTYPE=image/jpeg:https://sandalschurch.com/wp-content/uploads/2024/10/20230305-WC-SERVICE-JRH-22-scaled.jpg
END:VEVENT
BEGIN:VEVENT
DTSTART;TZID=America/Los_Angeles:20280402T111500
DTEND;TZID=America/Los_Angeles:20280402T111500
DTSTAMP:20260422T103716
CREATED:20241017T185701Z
LAST-MODIFIED:20250109T172417Z
UID:10024999-1838286900-1838286900@sandalschurch.com
SUMMARY:Service
DESCRIPTION:Experience the richness of gathering as a community. It’s a time of depth\, growth\, learning\, and true connection. Through meaningful teachings\, singing\, and shared stories\, we find understanding and inspiration that can reach something deeper within us.
URL:https://sandalschurch.com/event/anah-sun-1115am-service/2028-04-02/
LOCATION:Anaheim\, 622 N Gilbert St\, Anaheim\, CA\, 92801\, United States
CATEGORIES:Service
ATTACH;FMTTYPE=image/jpeg:https://sandalschurch.com/wp-content/uploads/2024/10/20230305-WC-SERVICE-JRH-22-scaled.jpg
END:VEVENT
BEGIN:VEVENT
DTSTART;TZID=America/Los_Angeles:20280404T190000
DTEND;TZID=America/Los_Angeles:20280404T210000
DTSTAMP:20260422T103716
CREATED:20250108T212739Z
LAST-MODIFIED:20250318T203825Z
UID:10024188-1838487600-1838494800@sandalschurch.com
SUMMARY:YOUNG ADULTS
DESCRIPTION:Young Adult Small Groups for ages 18-30ish \n7:00 PM in Building 1
URL:https://sandalschurch.com/event/young-adults/2028-04-04/
LOCATION:Anaheim\, 622 N Gilbert St\, Anaheim\, CA\, 92801\, United States
CATEGORIES:Groups
END:VEVENT
BEGIN:VEVENT
DTSTART;TZID=America/Los_Angeles:20280405T183000
DTEND;TZID=America/Los_Angeles:20280405T210000
DTSTAMP:20260422T103716
CREATED:20250108T211302Z
LAST-MODIFIED:20250622T050519Z
UID:10023928-1838572200-1838581200@sandalschurch.com
SUMMARY:SANDALS CHURCH YOUTH
DESCRIPTION:Wednesday night service and small groups for students and teens\, Grades 6-12th\, at 6:30 PM.
URL:https://sandalschurch.com/event/sandals-church-youth-2/2028-04-05/
LOCATION:Anaheim\, 622 N Gilbert St\, Anaheim\, CA\, 92801\, United States
CATEGORIES:Youth
END:VEVENT
BEGIN:VEVENT
DTSTART;TZID=America/Los_Angeles:20280407T190000
DTEND;TZID=America/Los_Angeles:20280407T203000
DTSTAMP:20260422T103716
CREATED:20251213T192934Z
LAST-MODIFIED:20251213T192935Z
UID:10043303-1838746800-1838752200@sandalschurch.com
SUMMARY:Open Share Groups
DESCRIPTION:This is a safe space to get REAL with yourself\, God and others as you work through your hurts\, habits and hangups in gender specific groups. \nWhen: Fridays at 7:00 PM\nWhere: Sandals Church Anaheim Patio\nWho: Ages 18+ \n*Bring your dinner at 6:30 PM and hang out before groups start\n*No childcare provided \n 
URL:https://sandalschurch.com/event/open-share-groups-2/2028-04-07/
LOCATION:Anaheim\, 622 N Gilbert St\, Anaheim\, CA\, 92801\, United States
CATEGORIES:Groups
END:VEVENT
BEGIN:VEVENT
DTSTART;TZID=America/Los_Angeles:20280409T083000
DTEND;TZID=America/Los_Angeles:20280409T083000
DTSTAMP:20260422T103716
CREATED:20250902T224149Z
LAST-MODIFIED:20250902T224204Z
UID:10040330-1838881800-1838881800@sandalschurch.com
SUMMARY:Service
DESCRIPTION:Experience the richness of gathering as a community. It’s a time of depth\, growth\, learning\, and true connection. Through meaningful teachings\, singing\, and shared stories\, we find understanding and inspiration that can reach something deeper within us.
URL:https://sandalschurch.com/event/anah-sun-830am-service/2028-04-09/
LOCATION:Anaheim\, 622 N Gilbert St\, Anaheim\, CA\, 92801\, United States
CATEGORIES:Service
ATTACH;FMTTYPE=image/jpeg:https://sandalschurch.com/wp-content/uploads/2024/10/20230305-WC-SERVICE-JRH-22-scaled.jpg
END:VEVENT
BEGIN:VEVENT
DTSTART;TZID=America/Los_Angeles:20280409T094500
DTEND;TZID=America/Los_Angeles:20280409T094500
DTSTAMP:20260422T103716
CREATED:20250902T224652Z
LAST-MODIFIED:20250902T224707Z
UID:10040590-1838886300-1838886300@sandalschurch.com
SUMMARY:Service
DESCRIPTION:Experience the richness of gathering as a community. It’s a time of depth\, growth\, learning\, and true connection. Through meaningful teachings\, singing\, and shared stories\, we find understanding and inspiration that can reach something deeper within us.
URL:https://sandalschurch.com/event/anah-sun-945am-service/2028-04-09/
LOCATION:Anaheim\, 622 N Gilbert St\, Anaheim\, CA\, 92801\, United States
CATEGORIES:Service
ATTACH;FMTTYPE=image/jpeg:https://sandalschurch.com/wp-content/uploads/2024/10/20230305-WC-SERVICE-JRH-22-scaled.jpg
END:VEVENT
BEGIN:VEVENT
DTSTART;TZID=America/Los_Angeles:20280409T111500
DTEND;TZID=America/Los_Angeles:20280409T111500
DTSTAMP:20260422T103716
CREATED:20241017T185701Z
LAST-MODIFIED:20250109T172417Z
UID:10025000-1838891700-1838891700@sandalschurch.com
SUMMARY:Service
DESCRIPTION:Experience the richness of gathering as a community. It’s a time of depth\, growth\, learning\, and true connection. Through meaningful teachings\, singing\, and shared stories\, we find understanding and inspiration that can reach something deeper within us.
URL:https://sandalschurch.com/event/anah-sun-1115am-service/2028-04-09/
LOCATION:Anaheim\, 622 N Gilbert St\, Anaheim\, CA\, 92801\, United States
CATEGORIES:Service
ATTACH;FMTTYPE=image/jpeg:https://sandalschurch.com/wp-content/uploads/2024/10/20230305-WC-SERVICE-JRH-22-scaled.jpg
END:VEVENT
BEGIN:VEVENT
DTSTART;TZID=America/Los_Angeles:20280411T190000
DTEND;TZID=America/Los_Angeles:20280411T210000
DTSTAMP:20260422T103716
CREATED:20250108T212739Z
LAST-MODIFIED:20250318T203825Z
UID:10024189-1839092400-1839099600@sandalschurch.com
SUMMARY:YOUNG ADULTS
DESCRIPTION:Young Adult Small Groups for ages 18-30ish \n7:00 PM in Building 1
URL:https://sandalschurch.com/event/young-adults/2028-04-11/
LOCATION:Anaheim\, 622 N Gilbert St\, Anaheim\, CA\, 92801\, United States
CATEGORIES:Groups
END:VEVENT
BEGIN:VEVENT
DTSTART;TZID=America/Los_Angeles:20280412T183000
DTEND;TZID=America/Los_Angeles:20280412T210000
DTSTAMP:20260422T103716
CREATED:20250108T211302Z
LAST-MODIFIED:20250622T050519Z
UID:10023929-1839177000-1839186000@sandalschurch.com
SUMMARY:SANDALS CHURCH YOUTH
DESCRIPTION:Wednesday night service and small groups for students and teens\, Grades 6-12th\, at 6:30 PM.
URL:https://sandalschurch.com/event/sandals-church-youth-2/2028-04-12/
LOCATION:Anaheim\, 622 N Gilbert St\, Anaheim\, CA\, 92801\, United States
CATEGORIES:Youth
END:VEVENT
BEGIN:VEVENT
DTSTART;TZID=America/Los_Angeles:20280414T190000
DTEND;TZID=America/Los_Angeles:20280414T203000
DTSTAMP:20260422T103716
CREATED:20251213T192934Z
LAST-MODIFIED:20251213T192935Z
UID:10043304-1839351600-1839357000@sandalschurch.com
SUMMARY:Open Share Groups
DESCRIPTION:This is a safe space to get REAL with yourself\, God and others as you work through your hurts\, habits and hangups in gender specific groups. \nWhen: Fridays at 7:00 PM\nWhere: Sandals Church Anaheim Patio\nWho: Ages 18+ \n*Bring your dinner at 6:30 PM and hang out before groups start\n*No childcare provided \n 
URL:https://sandalschurch.com/event/open-share-groups-2/2028-04-14/
LOCATION:Anaheim\, 622 N Gilbert St\, Anaheim\, CA\, 92801\, United States
CATEGORIES:Groups
END:VEVENT
BEGIN:VEVENT
DTSTART;TZID=America/Los_Angeles:20280416T083000
DTEND;TZID=America/Los_Angeles:20280416T083000
DTSTAMP:20260422T103716
CREATED:20250902T224149Z
LAST-MODIFIED:20250902T224204Z
UID:10040331-1839486600-1839486600@sandalschurch.com
SUMMARY:Service
DESCRIPTION:Experience the richness of gathering as a community. It’s a time of depth\, growth\, learning\, and true connection. Through meaningful teachings\, singing\, and shared stories\, we find understanding and inspiration that can reach something deeper within us.
URL:https://sandalschurch.com/event/anah-sun-830am-service/2028-04-16/
LOCATION:Anaheim\, 622 N Gilbert St\, Anaheim\, CA\, 92801\, United States
CATEGORIES:Service
ATTACH;FMTTYPE=image/jpeg:https://sandalschurch.com/wp-content/uploads/2024/10/20230305-WC-SERVICE-JRH-22-scaled.jpg
END:VEVENT
BEGIN:VEVENT
DTSTART;TZID=America/Los_Angeles:20280416T094500
DTEND;TZID=America/Los_Angeles:20280416T094500
DTSTAMP:20260422T103716
CREATED:20250902T224652Z
LAST-MODIFIED:20250902T224707Z
UID:10040591-1839491100-1839491100@sandalschurch.com
SUMMARY:Service
DESCRIPTION:Experience the richness of gathering as a community. It’s a time of depth\, growth\, learning\, and true connection. Through meaningful teachings\, singing\, and shared stories\, we find understanding and inspiration that can reach something deeper within us.
URL:https://sandalschurch.com/event/anah-sun-945am-service/2028-04-16/
LOCATION:Anaheim\, 622 N Gilbert St\, Anaheim\, CA\, 92801\, United States
CATEGORIES:Service
ATTACH;FMTTYPE=image/jpeg:https://sandalschurch.com/wp-content/uploads/2024/10/20230305-WC-SERVICE-JRH-22-scaled.jpg
END:VEVENT
BEGIN:VEVENT
DTSTART;TZID=America/Los_Angeles:20280416T111500
DTEND;TZID=America/Los_Angeles:20280416T111500
DTSTAMP:20260422T103716
CREATED:20241017T185701Z
LAST-MODIFIED:20250109T172417Z
UID:10025001-1839496500-1839496500@sandalschurch.com
SUMMARY:Service
DESCRIPTION:Experience the richness of gathering as a community. It’s a time of depth\, growth\, learning\, and true connection. Through meaningful teachings\, singing\, and shared stories\, we find understanding and inspiration that can reach something deeper within us.
URL:https://sandalschurch.com/event/anah-sun-1115am-service/2028-04-16/
LOCATION:Anaheim\, 622 N Gilbert St\, Anaheim\, CA\, 92801\, United States
CATEGORIES:Service
ATTACH;FMTTYPE=image/jpeg:https://sandalschurch.com/wp-content/uploads/2024/10/20230305-WC-SERVICE-JRH-22-scaled.jpg
END:VEVENT
BEGIN:VEVENT
DTSTART;TZID=America/Los_Angeles:20280418T190000
DTEND;TZID=America/Los_Angeles:20280418T210000
DTSTAMP:20260422T103716
CREATED:20250108T212739Z
LAST-MODIFIED:20250318T203825Z
UID:10024190-1839697200-1839704400@sandalschurch.com
SUMMARY:YOUNG ADULTS
DESCRIPTION:Young Adult Small Groups for ages 18-30ish \n7:00 PM in Building 1
URL:https://sandalschurch.com/event/young-adults/2028-04-18/
LOCATION:Anaheim\, 622 N Gilbert St\, Anaheim\, CA\, 92801\, United States
CATEGORIES:Groups
END:VEVENT
BEGIN:VEVENT
DTSTART;TZID=America/Los_Angeles:20280419T183000
DTEND;TZID=America/Los_Angeles:20280419T210000
DTSTAMP:20260422T103716
CREATED:20250108T211302Z
LAST-MODIFIED:20250622T050519Z
UID:10023930-1839781800-1839790800@sandalschurch.com
SUMMARY:SANDALS CHURCH YOUTH
DESCRIPTION:Wednesday night service and small groups for students and teens\, Grades 6-12th\, at 6:30 PM.
URL:https://sandalschurch.com/event/sandals-church-youth-2/2028-04-19/
LOCATION:Anaheim\, 622 N Gilbert St\, Anaheim\, CA\, 92801\, United States
CATEGORIES:Youth
END:VEVENT
BEGIN:VEVENT
DTSTART;TZID=America/Los_Angeles:20280421T190000
DTEND;TZID=America/Los_Angeles:20280421T203000
DTSTAMP:20260422T103716
CREATED:20251213T192934Z
LAST-MODIFIED:20251213T192935Z
UID:10043305-1839956400-1839961800@sandalschurch.com
SUMMARY:Open Share Groups
DESCRIPTION:This is a safe space to get REAL with yourself\, God and others as you work through your hurts\, habits and hangups in gender specific groups. \nWhen: Fridays at 7:00 PM\nWhere: Sandals Church Anaheim Patio\nWho: Ages 18+ \n*Bring your dinner at 6:30 PM and hang out before groups start\n*No childcare provided \n 
URL:https://sandalschurch.com/event/open-share-groups-2/2028-04-21/
LOCATION:Anaheim\, 622 N Gilbert St\, Anaheim\, CA\, 92801\, United States
CATEGORIES:Groups
END:VEVENT
BEGIN:VEVENT
DTSTART;TZID=America/Los_Angeles:20280423T083000
DTEND;TZID=America/Los_Angeles:20280423T083000
DTSTAMP:20260422T103716
CREATED:20250902T224149Z
LAST-MODIFIED:20250902T224204Z
UID:10040332-1840091400-1840091400@sandalschurch.com
SUMMARY:Service
DESCRIPTION:Experience the richness of gathering as a community. It’s a time of depth\, growth\, learning\, and true connection. Through meaningful teachings\, singing\, and shared stories\, we find understanding and inspiration that can reach something deeper within us.
URL:https://sandalschurch.com/event/anah-sun-830am-service/2028-04-23/
LOCATION:Anaheim\, 622 N Gilbert St\, Anaheim\, CA\, 92801\, United States
CATEGORIES:Service
ATTACH;FMTTYPE=image/jpeg:https://sandalschurch.com/wp-content/uploads/2024/10/20230305-WC-SERVICE-JRH-22-scaled.jpg
END:VEVENT
END:VCALENDAR