BEGIN:VCALENDAR
VERSION:2.0
PRODID:-//Sandals Church - ECPv6.13.0//NONSGML v1.0//EN
CALSCALE:GREGORIAN
METHOD:PUBLISH
X-WR-CALNAME:Sandals Church
X-ORIGINAL-URL:https://sandalschurch.com
X-WR-CALDESC:Events for Sandals Church
REFRESH-INTERVAL;VALUE=DURATION:PT1H
X-Robots-Tag:noindex
X-PUBLISHED-TTL:PT1H
BEGIN:VTIMEZONE
TZID:America/Los_Angeles
BEGIN:DAYLIGHT
TZOFFSETFROM:-0800
TZOFFSETTO:-0700
TZNAME:PDT
DTSTART:20280312T100000
END:DAYLIGHT
BEGIN:STANDARD
TZOFFSETFROM:-0700
TZOFFSETTO:-0800
TZNAME:PST
DTSTART:20281105T090000
END:STANDARD
END:VTIMEZONE
BEGIN:VEVENT
DTSTART;TZID=America/Los_Angeles:20280528T111500
DTEND;TZID=America/Los_Angeles:20280528T111500
DTSTAMP:20260423T004818
CREATED:20241017T185701Z
LAST-MODIFIED:20250109T172417Z
UID:10025007-1843125300-1843125300@sandalschurch.com
SUMMARY:Service
DESCRIPTION:Experience the richness of gathering as a community. It’s a time of depth\, growth\, learning\, and true connection. Through meaningful teachings\, singing\, and shared stories\, we find understanding and inspiration that can reach something deeper within us.
URL:https://sandalschurch.com/event/anah-sun-1115am-service/2028-05-28/
LOCATION:Anaheim\, 622 N Gilbert St\, Anaheim\, CA\, 92801\, United States
CATEGORIES:Service
ATTACH;FMTTYPE=image/jpeg:https://sandalschurch.com/wp-content/uploads/2024/10/20230305-WC-SERVICE-JRH-22-scaled.jpg
END:VEVENT
BEGIN:VEVENT
DTSTART;TZID=America/Los_Angeles:20280530T190000
DTEND;TZID=America/Los_Angeles:20280530T210000
DTSTAMP:20260423T004818
CREATED:20250108T212739Z
LAST-MODIFIED:20250318T203825Z
UID:10024196-1843326000-1843333200@sandalschurch.com
SUMMARY:YOUNG ADULTS
DESCRIPTION:Young Adult Small Groups for ages 18-30ish \n7:00 PM in Building 1
URL:https://sandalschurch.com/event/young-adults/2028-05-30/
LOCATION:Anaheim\, 622 N Gilbert St\, Anaheim\, CA\, 92801\, United States
CATEGORIES:Groups
END:VEVENT
BEGIN:VEVENT
DTSTART;TZID=America/Los_Angeles:20280531T183000
DTEND;TZID=America/Los_Angeles:20280531T210000
DTSTAMP:20260423T004818
CREATED:20250108T211302Z
LAST-MODIFIED:20250622T050519Z
UID:10023936-1843410600-1843419600@sandalschurch.com
SUMMARY:SANDALS CHURCH YOUTH
DESCRIPTION:Wednesday night service and small groups for students and teens\, Grades 6-12th\, at 6:30 PM.
URL:https://sandalschurch.com/event/sandals-church-youth-2/2028-05-31/
LOCATION:Anaheim\, 622 N Gilbert St\, Anaheim\, CA\, 92801\, United States
CATEGORIES:Youth
END:VEVENT
BEGIN:VEVENT
DTSTART;TZID=America/Los_Angeles:20280602T190000
DTEND;TZID=America/Los_Angeles:20280602T203000
DTSTAMP:20260423T004818
CREATED:20251213T192934Z
LAST-MODIFIED:20251213T192935Z
UID:10043311-1843585200-1843590600@sandalschurch.com
SUMMARY:Open Share Groups
DESCRIPTION:This is a safe space to get REAL with yourself\, God and others as you work through your hurts\, habits and hangups in gender specific groups. \nWhen: Fridays at 7:00 PM\nWhere: Sandals Church Anaheim Patio\nWho: Ages 18+ \n*Bring your dinner at 6:30 PM and hang out before groups start\n*No childcare provided \n 
URL:https://sandalschurch.com/event/open-share-groups-2/2028-06-02/
LOCATION:Anaheim\, 622 N Gilbert St\, Anaheim\, CA\, 92801\, United States
CATEGORIES:Groups
END:VEVENT
BEGIN:VEVENT
DTSTART;TZID=America/Los_Angeles:20280604T083000
DTEND;TZID=America/Los_Angeles:20280604T083000
DTSTAMP:20260423T004818
CREATED:20250902T224149Z
LAST-MODIFIED:20250902T224204Z
UID:10040338-1843720200-1843720200@sandalschurch.com
SUMMARY:Service
DESCRIPTION:Experience the richness of gathering as a community. It’s a time of depth\, growth\, learning\, and true connection. Through meaningful teachings\, singing\, and shared stories\, we find understanding and inspiration that can reach something deeper within us.
URL:https://sandalschurch.com/event/anah-sun-830am-service/2028-06-04/
LOCATION:Anaheim\, 622 N Gilbert St\, Anaheim\, CA\, 92801\, United States
CATEGORIES:Service
ATTACH;FMTTYPE=image/jpeg:https://sandalschurch.com/wp-content/uploads/2024/10/20230305-WC-SERVICE-JRH-22-scaled.jpg
END:VEVENT
BEGIN:VEVENT
DTSTART;TZID=America/Los_Angeles:20280604T094500
DTEND;TZID=America/Los_Angeles:20280604T094500
DTSTAMP:20260423T004818
CREATED:20250902T224652Z
LAST-MODIFIED:20250902T224707Z
UID:10040598-1843724700-1843724700@sandalschurch.com
SUMMARY:Service
DESCRIPTION:Experience the richness of gathering as a community. It’s a time of depth\, growth\, learning\, and true connection. Through meaningful teachings\, singing\, and shared stories\, we find understanding and inspiration that can reach something deeper within us.
URL:https://sandalschurch.com/event/anah-sun-945am-service/2028-06-04/
LOCATION:Anaheim\, 622 N Gilbert St\, Anaheim\, CA\, 92801\, United States
CATEGORIES:Service
ATTACH;FMTTYPE=image/jpeg:https://sandalschurch.com/wp-content/uploads/2024/10/20230305-WC-SERVICE-JRH-22-scaled.jpg
END:VEVENT
BEGIN:VEVENT
DTSTART;TZID=America/Los_Angeles:20280604T111500
DTEND;TZID=America/Los_Angeles:20280604T111500
DTSTAMP:20260423T004818
CREATED:20241017T185701Z
LAST-MODIFIED:20250109T172417Z
UID:10025008-1843730100-1843730100@sandalschurch.com
SUMMARY:Service
DESCRIPTION:Experience the richness of gathering as a community. It’s a time of depth\, growth\, learning\, and true connection. Through meaningful teachings\, singing\, and shared stories\, we find understanding and inspiration that can reach something deeper within us.
URL:https://sandalschurch.com/event/anah-sun-1115am-service/2028-06-04/
LOCATION:Anaheim\, 622 N Gilbert St\, Anaheim\, CA\, 92801\, United States
CATEGORIES:Service
ATTACH;FMTTYPE=image/jpeg:https://sandalschurch.com/wp-content/uploads/2024/10/20230305-WC-SERVICE-JRH-22-scaled.jpg
END:VEVENT
BEGIN:VEVENT
DTSTART;TZID=America/Los_Angeles:20280606T190000
DTEND;TZID=America/Los_Angeles:20280606T210000
DTSTAMP:20260423T004818
CREATED:20250108T212739Z
LAST-MODIFIED:20250318T203825Z
UID:10024197-1843930800-1843938000@sandalschurch.com
SUMMARY:YOUNG ADULTS
DESCRIPTION:Young Adult Small Groups for ages 18-30ish \n7:00 PM in Building 1
URL:https://sandalschurch.com/event/young-adults/2028-06-06/
LOCATION:Anaheim\, 622 N Gilbert St\, Anaheim\, CA\, 92801\, United States
CATEGORIES:Groups
END:VEVENT
BEGIN:VEVENT
DTSTART;TZID=America/Los_Angeles:20280607T183000
DTEND;TZID=America/Los_Angeles:20280607T210000
DTSTAMP:20260423T004818
CREATED:20250108T211302Z
LAST-MODIFIED:20250622T050519Z
UID:10023937-1844015400-1844024400@sandalschurch.com
SUMMARY:SANDALS CHURCH YOUTH
DESCRIPTION:Wednesday night service and small groups for students and teens\, Grades 6-12th\, at 6:30 PM.
URL:https://sandalschurch.com/event/sandals-church-youth-2/2028-06-07/
LOCATION:Anaheim\, 622 N Gilbert St\, Anaheim\, CA\, 92801\, United States
CATEGORIES:Youth
END:VEVENT
BEGIN:VEVENT
DTSTART;TZID=America/Los_Angeles:20280609T190000
DTEND;TZID=America/Los_Angeles:20280609T203000
DTSTAMP:20260423T004818
CREATED:20251213T192934Z
LAST-MODIFIED:20251213T192935Z
UID:10043312-1844190000-1844195400@sandalschurch.com
SUMMARY:Open Share Groups
DESCRIPTION:This is a safe space to get REAL with yourself\, God and others as you work through your hurts\, habits and hangups in gender specific groups. \nWhen: Fridays at 7:00 PM\nWhere: Sandals Church Anaheim Patio\nWho: Ages 18+ \n*Bring your dinner at 6:30 PM and hang out before groups start\n*No childcare provided \n 
URL:https://sandalschurch.com/event/open-share-groups-2/2028-06-09/
LOCATION:Anaheim\, 622 N Gilbert St\, Anaheim\, CA\, 92801\, United States
CATEGORIES:Groups
END:VEVENT
BEGIN:VEVENT
DTSTART;TZID=America/Los_Angeles:20280611T083000
DTEND;TZID=America/Los_Angeles:20280611T083000
DTSTAMP:20260423T004818
CREATED:20250902T224149Z
LAST-MODIFIED:20250902T224204Z
UID:10040339-1844325000-1844325000@sandalschurch.com
SUMMARY:Service
DESCRIPTION:Experience the richness of gathering as a community. It’s a time of depth\, growth\, learning\, and true connection. Through meaningful teachings\, singing\, and shared stories\, we find understanding and inspiration that can reach something deeper within us.
URL:https://sandalschurch.com/event/anah-sun-830am-service/2028-06-11/
LOCATION:Anaheim\, 622 N Gilbert St\, Anaheim\, CA\, 92801\, United States
CATEGORIES:Service
ATTACH;FMTTYPE=image/jpeg:https://sandalschurch.com/wp-content/uploads/2024/10/20230305-WC-SERVICE-JRH-22-scaled.jpg
END:VEVENT
BEGIN:VEVENT
DTSTART;TZID=America/Los_Angeles:20280611T094500
DTEND;TZID=America/Los_Angeles:20280611T094500
DTSTAMP:20260423T004818
CREATED:20250902T224652Z
LAST-MODIFIED:20250902T224707Z
UID:10040599-1844329500-1844329500@sandalschurch.com
SUMMARY:Service
DESCRIPTION:Experience the richness of gathering as a community. It’s a time of depth\, growth\, learning\, and true connection. Through meaningful teachings\, singing\, and shared stories\, we find understanding and inspiration that can reach something deeper within us.
URL:https://sandalschurch.com/event/anah-sun-945am-service/2028-06-11/
LOCATION:Anaheim\, 622 N Gilbert St\, Anaheim\, CA\, 92801\, United States
CATEGORIES:Service
ATTACH;FMTTYPE=image/jpeg:https://sandalschurch.com/wp-content/uploads/2024/10/20230305-WC-SERVICE-JRH-22-scaled.jpg
END:VEVENT
BEGIN:VEVENT
DTSTART;TZID=America/Los_Angeles:20280611T111500
DTEND;TZID=America/Los_Angeles:20280611T111500
DTSTAMP:20260423T004818
CREATED:20241017T185701Z
LAST-MODIFIED:20250109T172417Z
UID:10025009-1844334900-1844334900@sandalschurch.com
SUMMARY:Service
DESCRIPTION:Experience the richness of gathering as a community. It’s a time of depth\, growth\, learning\, and true connection. Through meaningful teachings\, singing\, and shared stories\, we find understanding and inspiration that can reach something deeper within us.
URL:https://sandalschurch.com/event/anah-sun-1115am-service/2028-06-11/
LOCATION:Anaheim\, 622 N Gilbert St\, Anaheim\, CA\, 92801\, United States
CATEGORIES:Service
ATTACH;FMTTYPE=image/jpeg:https://sandalschurch.com/wp-content/uploads/2024/10/20230305-WC-SERVICE-JRH-22-scaled.jpg
END:VEVENT
BEGIN:VEVENT
DTSTART;TZID=America/Los_Angeles:20280613T190000
DTEND;TZID=America/Los_Angeles:20280613T210000
DTSTAMP:20260423T004818
CREATED:20250108T212739Z
LAST-MODIFIED:20250318T203825Z
UID:10024198-1844535600-1844542800@sandalschurch.com
SUMMARY:YOUNG ADULTS
DESCRIPTION:Young Adult Small Groups for ages 18-30ish \n7:00 PM in Building 1
URL:https://sandalschurch.com/event/young-adults/2028-06-13/
LOCATION:Anaheim\, 622 N Gilbert St\, Anaheim\, CA\, 92801\, United States
CATEGORIES:Groups
END:VEVENT
BEGIN:VEVENT
DTSTART;TZID=America/Los_Angeles:20280614T183000
DTEND;TZID=America/Los_Angeles:20280614T210000
DTSTAMP:20260423T004818
CREATED:20250108T211302Z
LAST-MODIFIED:20250622T050519Z
UID:10023938-1844620200-1844629200@sandalschurch.com
SUMMARY:SANDALS CHURCH YOUTH
DESCRIPTION:Wednesday night service and small groups for students and teens\, Grades 6-12th\, at 6:30 PM.
URL:https://sandalschurch.com/event/sandals-church-youth-2/2028-06-14/
LOCATION:Anaheim\, 622 N Gilbert St\, Anaheim\, CA\, 92801\, United States
CATEGORIES:Youth
END:VEVENT
BEGIN:VEVENT
DTSTART;TZID=America/Los_Angeles:20280616T190000
DTEND;TZID=America/Los_Angeles:20280616T203000
DTSTAMP:20260423T004818
CREATED:20251213T192934Z
LAST-MODIFIED:20251213T192935Z
UID:10043313-1844794800-1844800200@sandalschurch.com
SUMMARY:Open Share Groups
DESCRIPTION:This is a safe space to get REAL with yourself\, God and others as you work through your hurts\, habits and hangups in gender specific groups. \nWhen: Fridays at 7:00 PM\nWhere: Sandals Church Anaheim Patio\nWho: Ages 18+ \n*Bring your dinner at 6:30 PM and hang out before groups start\n*No childcare provided \n 
URL:https://sandalschurch.com/event/open-share-groups-2/2028-06-16/
LOCATION:Anaheim\, 622 N Gilbert St\, Anaheim\, CA\, 92801\, United States
CATEGORIES:Groups
END:VEVENT
BEGIN:VEVENT
DTSTART;TZID=America/Los_Angeles:20280618T083000
DTEND;TZID=America/Los_Angeles:20280618T083000
DTSTAMP:20260423T004818
CREATED:20250902T224149Z
LAST-MODIFIED:20250902T224204Z
UID:10040340-1844929800-1844929800@sandalschurch.com
SUMMARY:Service
DESCRIPTION:Experience the richness of gathering as a community. It’s a time of depth\, growth\, learning\, and true connection. Through meaningful teachings\, singing\, and shared stories\, we find understanding and inspiration that can reach something deeper within us.
URL:https://sandalschurch.com/event/anah-sun-830am-service/2028-06-18/
LOCATION:Anaheim\, 622 N Gilbert St\, Anaheim\, CA\, 92801\, United States
CATEGORIES:Service
ATTACH;FMTTYPE=image/jpeg:https://sandalschurch.com/wp-content/uploads/2024/10/20230305-WC-SERVICE-JRH-22-scaled.jpg
END:VEVENT
BEGIN:VEVENT
DTSTART;TZID=America/Los_Angeles:20280618T094500
DTEND;TZID=America/Los_Angeles:20280618T094500
DTSTAMP:20260423T004818
CREATED:20250902T224652Z
LAST-MODIFIED:20250902T224707Z
UID:10040600-1844934300-1844934300@sandalschurch.com
SUMMARY:Service
DESCRIPTION:Experience the richness of gathering as a community. It’s a time of depth\, growth\, learning\, and true connection. Through meaningful teachings\, singing\, and shared stories\, we find understanding and inspiration that can reach something deeper within us.
URL:https://sandalschurch.com/event/anah-sun-945am-service/2028-06-18/
LOCATION:Anaheim\, 622 N Gilbert St\, Anaheim\, CA\, 92801\, United States
CATEGORIES:Service
ATTACH;FMTTYPE=image/jpeg:https://sandalschurch.com/wp-content/uploads/2024/10/20230305-WC-SERVICE-JRH-22-scaled.jpg
END:VEVENT
BEGIN:VEVENT
DTSTART;TZID=America/Los_Angeles:20280618T111500
DTEND;TZID=America/Los_Angeles:20280618T111500
DTSTAMP:20260423T004818
CREATED:20241017T185701Z
LAST-MODIFIED:20250109T172417Z
UID:10025010-1844939700-1844939700@sandalschurch.com
SUMMARY:Service
DESCRIPTION:Experience the richness of gathering as a community. It’s a time of depth\, growth\, learning\, and true connection. Through meaningful teachings\, singing\, and shared stories\, we find understanding and inspiration that can reach something deeper within us.
URL:https://sandalschurch.com/event/anah-sun-1115am-service/2028-06-18/
LOCATION:Anaheim\, 622 N Gilbert St\, Anaheim\, CA\, 92801\, United States
CATEGORIES:Service
ATTACH;FMTTYPE=image/jpeg:https://sandalschurch.com/wp-content/uploads/2024/10/20230305-WC-SERVICE-JRH-22-scaled.jpg
END:VEVENT
BEGIN:VEVENT
DTSTART;TZID=America/Los_Angeles:20280620T190000
DTEND;TZID=America/Los_Angeles:20280620T210000
DTSTAMP:20260423T004818
CREATED:20250108T212739Z
LAST-MODIFIED:20250318T203825Z
UID:10024199-1845140400-1845147600@sandalschurch.com
SUMMARY:YOUNG ADULTS
DESCRIPTION:Young Adult Small Groups for ages 18-30ish \n7:00 PM in Building 1
URL:https://sandalschurch.com/event/young-adults/2028-06-20/
LOCATION:Anaheim\, 622 N Gilbert St\, Anaheim\, CA\, 92801\, United States
CATEGORIES:Groups
END:VEVENT
BEGIN:VEVENT
DTSTART;TZID=America/Los_Angeles:20280621T183000
DTEND;TZID=America/Los_Angeles:20280621T210000
DTSTAMP:20260423T004818
CREATED:20250108T211302Z
LAST-MODIFIED:20250622T050519Z
UID:10023939-1845225000-1845234000@sandalschurch.com
SUMMARY:SANDALS CHURCH YOUTH
DESCRIPTION:Wednesday night service and small groups for students and teens\, Grades 6-12th\, at 6:30 PM.
URL:https://sandalschurch.com/event/sandals-church-youth-2/2028-06-21/
LOCATION:Anaheim\, 622 N Gilbert St\, Anaheim\, CA\, 92801\, United States
CATEGORIES:Youth
END:VEVENT
BEGIN:VEVENT
DTSTART;TZID=America/Los_Angeles:20280623T190000
DTEND;TZID=America/Los_Angeles:20280623T203000
DTSTAMP:20260423T004818
CREATED:20251213T192934Z
LAST-MODIFIED:20251213T192935Z
UID:10043314-1845399600-1845405000@sandalschurch.com
SUMMARY:Open Share Groups
DESCRIPTION:This is a safe space to get REAL with yourself\, God and others as you work through your hurts\, habits and hangups in gender specific groups. \nWhen: Fridays at 7:00 PM\nWhere: Sandals Church Anaheim Patio\nWho: Ages 18+ \n*Bring your dinner at 6:30 PM and hang out before groups start\n*No childcare provided \n 
URL:https://sandalschurch.com/event/open-share-groups-2/2028-06-23/
LOCATION:Anaheim\, 622 N Gilbert St\, Anaheim\, CA\, 92801\, United States
CATEGORIES:Groups
END:VEVENT
BEGIN:VEVENT
DTSTART;TZID=America/Los_Angeles:20280625T083000
DTEND;TZID=America/Los_Angeles:20280625T083000
DTSTAMP:20260423T004818
CREATED:20250902T224149Z
LAST-MODIFIED:20250902T224204Z
UID:10040341-1845534600-1845534600@sandalschurch.com
SUMMARY:Service
DESCRIPTION:Experience the richness of gathering as a community. It’s a time of depth\, growth\, learning\, and true connection. Through meaningful teachings\, singing\, and shared stories\, we find understanding and inspiration that can reach something deeper within us.
URL:https://sandalschurch.com/event/anah-sun-830am-service/2028-06-25/
LOCATION:Anaheim\, 622 N Gilbert St\, Anaheim\, CA\, 92801\, United States
CATEGORIES:Service
ATTACH;FMTTYPE=image/jpeg:https://sandalschurch.com/wp-content/uploads/2024/10/20230305-WC-SERVICE-JRH-22-scaled.jpg
END:VEVENT
BEGIN:VEVENT
DTSTART;TZID=America/Los_Angeles:20280625T094500
DTEND;TZID=America/Los_Angeles:20280625T094500
DTSTAMP:20260423T004818
CREATED:20250902T224652Z
LAST-MODIFIED:20250902T224707Z
UID:10040601-1845539100-1845539100@sandalschurch.com
SUMMARY:Service
DESCRIPTION:Experience the richness of gathering as a community. It’s a time of depth\, growth\, learning\, and true connection. Through meaningful teachings\, singing\, and shared stories\, we find understanding and inspiration that can reach something deeper within us.
URL:https://sandalschurch.com/event/anah-sun-945am-service/2028-06-25/
LOCATION:Anaheim\, 622 N Gilbert St\, Anaheim\, CA\, 92801\, United States
CATEGORIES:Service
ATTACH;FMTTYPE=image/jpeg:https://sandalschurch.com/wp-content/uploads/2024/10/20230305-WC-SERVICE-JRH-22-scaled.jpg
END:VEVENT
BEGIN:VEVENT
DTSTART;TZID=America/Los_Angeles:20280625T111500
DTEND;TZID=America/Los_Angeles:20280625T111500
DTSTAMP:20260423T004818
CREATED:20241017T185701Z
LAST-MODIFIED:20250109T172417Z
UID:10025011-1845544500-1845544500@sandalschurch.com
SUMMARY:Service
DESCRIPTION:Experience the richness of gathering as a community. It’s a time of depth\, growth\, learning\, and true connection. Through meaningful teachings\, singing\, and shared stories\, we find understanding and inspiration that can reach something deeper within us.
URL:https://sandalschurch.com/event/anah-sun-1115am-service/2028-06-25/
LOCATION:Anaheim\, 622 N Gilbert St\, Anaheim\, CA\, 92801\, United States
CATEGORIES:Service
ATTACH;FMTTYPE=image/jpeg:https://sandalschurch.com/wp-content/uploads/2024/10/20230305-WC-SERVICE-JRH-22-scaled.jpg
END:VEVENT
BEGIN:VEVENT
DTSTART;TZID=America/Los_Angeles:20280627T190000
DTEND;TZID=America/Los_Angeles:20280627T210000
DTSTAMP:20260423T004818
CREATED:20250108T212739Z
LAST-MODIFIED:20250318T203825Z
UID:10024200-1845745200-1845752400@sandalschurch.com
SUMMARY:YOUNG ADULTS
DESCRIPTION:Young Adult Small Groups for ages 18-30ish \n7:00 PM in Building 1
URL:https://sandalschurch.com/event/young-adults/2028-06-27/
LOCATION:Anaheim\, 622 N Gilbert St\, Anaheim\, CA\, 92801\, United States
CATEGORIES:Groups
END:VEVENT
BEGIN:VEVENT
DTSTART;TZID=America/Los_Angeles:20280628T183000
DTEND;TZID=America/Los_Angeles:20280628T210000
DTSTAMP:20260423T004818
CREATED:20250108T211302Z
LAST-MODIFIED:20250622T050519Z
UID:10023940-1845829800-1845838800@sandalschurch.com
SUMMARY:SANDALS CHURCH YOUTH
DESCRIPTION:Wednesday night service and small groups for students and teens\, Grades 6-12th\, at 6:30 PM.
URL:https://sandalschurch.com/event/sandals-church-youth-2/2028-06-28/
LOCATION:Anaheim\, 622 N Gilbert St\, Anaheim\, CA\, 92801\, United States
CATEGORIES:Youth
END:VEVENT
BEGIN:VEVENT
DTSTART;TZID=America/Los_Angeles:20280630T190000
DTEND;TZID=America/Los_Angeles:20280630T203000
DTSTAMP:20260423T004818
CREATED:20251213T192934Z
LAST-MODIFIED:20251213T192935Z
UID:10043315-1846004400-1846009800@sandalschurch.com
SUMMARY:Open Share Groups
DESCRIPTION:This is a safe space to get REAL with yourself\, God and others as you work through your hurts\, habits and hangups in gender specific groups. \nWhen: Fridays at 7:00 PM\nWhere: Sandals Church Anaheim Patio\nWho: Ages 18+ \n*Bring your dinner at 6:30 PM and hang out before groups start\n*No childcare provided \n 
URL:https://sandalschurch.com/event/open-share-groups-2/2028-06-30/
LOCATION:Anaheim\, 622 N Gilbert St\, Anaheim\, CA\, 92801\, United States
CATEGORIES:Groups
END:VEVENT
BEGIN:VEVENT
DTSTART;TZID=America/Los_Angeles:20280702T083000
DTEND;TZID=America/Los_Angeles:20280702T083000
DTSTAMP:20260423T004818
CREATED:20250902T224149Z
LAST-MODIFIED:20250902T224204Z
UID:10040342-1846139400-1846139400@sandalschurch.com
SUMMARY:Service
DESCRIPTION:Experience the richness of gathering as a community. It’s a time of depth\, growth\, learning\, and true connection. Through meaningful teachings\, singing\, and shared stories\, we find understanding and inspiration that can reach something deeper within us.
URL:https://sandalschurch.com/event/anah-sun-830am-service/2028-07-02/
LOCATION:Anaheim\, 622 N Gilbert St\, Anaheim\, CA\, 92801\, United States
CATEGORIES:Service
ATTACH;FMTTYPE=image/jpeg:https://sandalschurch.com/wp-content/uploads/2024/10/20230305-WC-SERVICE-JRH-22-scaled.jpg
END:VEVENT
BEGIN:VEVENT
DTSTART;TZID=America/Los_Angeles:20280702T094500
DTEND;TZID=America/Los_Angeles:20280702T094500
DTSTAMP:20260423T004818
CREATED:20250902T224652Z
LAST-MODIFIED:20250902T224707Z
UID:10040602-1846143900-1846143900@sandalschurch.com
SUMMARY:Service
DESCRIPTION:Experience the richness of gathering as a community. It’s a time of depth\, growth\, learning\, and true connection. Through meaningful teachings\, singing\, and shared stories\, we find understanding and inspiration that can reach something deeper within us.
URL:https://sandalschurch.com/event/anah-sun-945am-service/2028-07-02/
LOCATION:Anaheim\, 622 N Gilbert St\, Anaheim\, CA\, 92801\, United States
CATEGORIES:Service
ATTACH;FMTTYPE=image/jpeg:https://sandalschurch.com/wp-content/uploads/2024/10/20230305-WC-SERVICE-JRH-22-scaled.jpg
END:VEVENT
END:VCALENDAR