BEGIN:VCALENDAR
VERSION:2.0
PRODID:-//Sandals Church - ECPv6.13.0//NONSGML v1.0//EN
CALSCALE:GREGORIAN
METHOD:PUBLISH
X-ORIGINAL-URL:https://sandalschurch.com
X-WR-CALDESC:Events for Sandals Church
REFRESH-INTERVAL;VALUE=DURATION:PT1H
X-Robots-Tag:noindex
X-PUBLISHED-TTL:PT1H
BEGIN:VTIMEZONE
TZID:America/Los_Angeles
BEGIN:DAYLIGHT
TZOFFSETFROM:-0800
TZOFFSETTO:-0700
TZNAME:PDT
DTSTART:20280312T100000
END:DAYLIGHT
BEGIN:STANDARD
TZOFFSETFROM:-0700
TZOFFSETTO:-0800
TZNAME:PST
DTSTART:20281105T090000
END:STANDARD
END:VTIMEZONE
BEGIN:VEVENT
DTSTART;TZID=America/Los_Angeles:20280806T111500
DTEND;TZID=America/Los_Angeles:20280806T111500
DTSTAMP:20260423T091632
CREATED:20241017T185701Z
LAST-MODIFIED:20250109T172417Z
UID:10025017-1849173300-1849173300@sandalschurch.com
SUMMARY:Service
DESCRIPTION:Experience the richness of gathering as a community. It’s a time of depth\, growth\, learning\, and true connection. Through meaningful teachings\, singing\, and shared stories\, we find understanding and inspiration that can reach something deeper within us.
URL:https://sandalschurch.com/event/anah-sun-1115am-service/2028-08-06/
LOCATION:Anaheim\, 622 N Gilbert St\, Anaheim\, CA\, 92801\, United States
CATEGORIES:Service
ATTACH;FMTTYPE=image/jpeg:https://sandalschurch.com/wp-content/uploads/2024/10/20230305-WC-SERVICE-JRH-22-scaled.jpg
END:VEVENT
BEGIN:VEVENT
DTSTART;TZID=America/Los_Angeles:20280808T190000
DTEND;TZID=America/Los_Angeles:20280808T210000
DTSTAMP:20260423T091632
CREATED:20250108T212739Z
LAST-MODIFIED:20250318T203825Z
UID:10024206-1849374000-1849381200@sandalschurch.com
SUMMARY:YOUNG ADULTS
DESCRIPTION:Young Adult Small Groups for ages 18-30ish \n7:00 PM in Building 1
URL:https://sandalschurch.com/event/young-adults/2028-08-08/
LOCATION:Anaheim\, 622 N Gilbert St\, Anaheim\, CA\, 92801\, United States
CATEGORIES:Groups
END:VEVENT
BEGIN:VEVENT
DTSTART;TZID=America/Los_Angeles:20280809T183000
DTEND;TZID=America/Los_Angeles:20280809T210000
DTSTAMP:20260423T091632
CREATED:20250108T211302Z
LAST-MODIFIED:20250622T050519Z
UID:10023946-1849458600-1849467600@sandalschurch.com
SUMMARY:SANDALS CHURCH YOUTH
DESCRIPTION:Wednesday night service and small groups for students and teens\, Grades 6-12th\, at 6:30 PM.
URL:https://sandalschurch.com/event/sandals-church-youth-2/2028-08-09/
LOCATION:Anaheim\, 622 N Gilbert St\, Anaheim\, CA\, 92801\, United States
CATEGORIES:Youth
END:VEVENT
BEGIN:VEVENT
DTSTART;TZID=America/Los_Angeles:20280811T190000
DTEND;TZID=America/Los_Angeles:20280811T203000
DTSTAMP:20260423T091632
CREATED:20251213T192934Z
LAST-MODIFIED:20251213T192935Z
UID:10043321-1849633200-1849638600@sandalschurch.com
SUMMARY:Open Share Groups
DESCRIPTION:This is a safe space to get REAL with yourself\, God and others as you work through your hurts\, habits and hangups in gender specific groups. \nWhen: Fridays at 7:00 PM\nWhere: Sandals Church Anaheim Patio\nWho: Ages 18+ \n*Bring your dinner at 6:30 PM and hang out before groups start\n*No childcare provided \n 
URL:https://sandalschurch.com/event/open-share-groups-2/2028-08-11/
LOCATION:Anaheim\, 622 N Gilbert St\, Anaheim\, CA\, 92801\, United States
CATEGORIES:Groups
END:VEVENT
BEGIN:VEVENT
DTSTART;TZID=America/Los_Angeles:20280813T083000
DTEND;TZID=America/Los_Angeles:20280813T083000
DTSTAMP:20260423T091632
CREATED:20250902T224149Z
LAST-MODIFIED:20250902T224204Z
UID:10040348-1849768200-1849768200@sandalschurch.com
SUMMARY:Service
DESCRIPTION:Experience the richness of gathering as a community. It’s a time of depth\, growth\, learning\, and true connection. Through meaningful teachings\, singing\, and shared stories\, we find understanding and inspiration that can reach something deeper within us.
URL:https://sandalschurch.com/event/anah-sun-830am-service/2028-08-13/
LOCATION:Anaheim\, 622 N Gilbert St\, Anaheim\, CA\, 92801\, United States
CATEGORIES:Service
ATTACH;FMTTYPE=image/jpeg:https://sandalschurch.com/wp-content/uploads/2024/10/20230305-WC-SERVICE-JRH-22-scaled.jpg
END:VEVENT
BEGIN:VEVENT
DTSTART;TZID=America/Los_Angeles:20280813T094500
DTEND;TZID=America/Los_Angeles:20280813T094500
DTSTAMP:20260423T091632
CREATED:20250902T224652Z
LAST-MODIFIED:20250902T224707Z
UID:10040608-1849772700-1849772700@sandalschurch.com
SUMMARY:Service
DESCRIPTION:Experience the richness of gathering as a community. It’s a time of depth\, growth\, learning\, and true connection. Through meaningful teachings\, singing\, and shared stories\, we find understanding and inspiration that can reach something deeper within us.
URL:https://sandalschurch.com/event/anah-sun-945am-service/2028-08-13/
LOCATION:Anaheim\, 622 N Gilbert St\, Anaheim\, CA\, 92801\, United States
CATEGORIES:Service
ATTACH;FMTTYPE=image/jpeg:https://sandalschurch.com/wp-content/uploads/2024/10/20230305-WC-SERVICE-JRH-22-scaled.jpg
END:VEVENT
BEGIN:VEVENT
DTSTART;TZID=America/Los_Angeles:20280813T111500
DTEND;TZID=America/Los_Angeles:20280813T111500
DTSTAMP:20260423T091632
CREATED:20241017T185701Z
LAST-MODIFIED:20250109T172417Z
UID:10025018-1849778100-1849778100@sandalschurch.com
SUMMARY:Service
DESCRIPTION:Experience the richness of gathering as a community. It’s a time of depth\, growth\, learning\, and true connection. Through meaningful teachings\, singing\, and shared stories\, we find understanding and inspiration that can reach something deeper within us.
URL:https://sandalschurch.com/event/anah-sun-1115am-service/2028-08-13/
LOCATION:Anaheim\, 622 N Gilbert St\, Anaheim\, CA\, 92801\, United States
CATEGORIES:Service
ATTACH;FMTTYPE=image/jpeg:https://sandalschurch.com/wp-content/uploads/2024/10/20230305-WC-SERVICE-JRH-22-scaled.jpg
END:VEVENT
BEGIN:VEVENT
DTSTART;TZID=America/Los_Angeles:20280815T190000
DTEND;TZID=America/Los_Angeles:20280815T210000
DTSTAMP:20260423T091632
CREATED:20250108T212739Z
LAST-MODIFIED:20250318T203825Z
UID:10024207-1849978800-1849986000@sandalschurch.com
SUMMARY:YOUNG ADULTS
DESCRIPTION:Young Adult Small Groups for ages 18-30ish \n7:00 PM in Building 1
URL:https://sandalschurch.com/event/young-adults/2028-08-15/
LOCATION:Anaheim\, 622 N Gilbert St\, Anaheim\, CA\, 92801\, United States
CATEGORIES:Groups
END:VEVENT
BEGIN:VEVENT
DTSTART;TZID=America/Los_Angeles:20280816T183000
DTEND;TZID=America/Los_Angeles:20280816T210000
DTSTAMP:20260423T091632
CREATED:20250108T211302Z
LAST-MODIFIED:20250622T050519Z
UID:10023947-1850063400-1850072400@sandalschurch.com
SUMMARY:SANDALS CHURCH YOUTH
DESCRIPTION:Wednesday night service and small groups for students and teens\, Grades 6-12th\, at 6:30 PM.
URL:https://sandalschurch.com/event/sandals-church-youth-2/2028-08-16/
LOCATION:Anaheim\, 622 N Gilbert St\, Anaheim\, CA\, 92801\, United States
CATEGORIES:Youth
END:VEVENT
BEGIN:VEVENT
DTSTART;TZID=America/Los_Angeles:20280818T190000
DTEND;TZID=America/Los_Angeles:20280818T203000
DTSTAMP:20260423T091632
CREATED:20251213T192934Z
LAST-MODIFIED:20251213T192935Z
UID:10043322-1850238000-1850243400@sandalschurch.com
SUMMARY:Open Share Groups
DESCRIPTION:This is a safe space to get REAL with yourself\, God and others as you work through your hurts\, habits and hangups in gender specific groups. \nWhen: Fridays at 7:00 PM\nWhere: Sandals Church Anaheim Patio\nWho: Ages 18+ \n*Bring your dinner at 6:30 PM and hang out before groups start\n*No childcare provided \n 
URL:https://sandalschurch.com/event/open-share-groups-2/2028-08-18/
LOCATION:Anaheim\, 622 N Gilbert St\, Anaheim\, CA\, 92801\, United States
CATEGORIES:Groups
END:VEVENT
BEGIN:VEVENT
DTSTART;TZID=America/Los_Angeles:20280820T083000
DTEND;TZID=America/Los_Angeles:20280820T083000
DTSTAMP:20260423T091632
CREATED:20250902T224149Z
LAST-MODIFIED:20250902T224204Z
UID:10040349-1850373000-1850373000@sandalschurch.com
SUMMARY:Service
DESCRIPTION:Experience the richness of gathering as a community. It’s a time of depth\, growth\, learning\, and true connection. Through meaningful teachings\, singing\, and shared stories\, we find understanding and inspiration that can reach something deeper within us.
URL:https://sandalschurch.com/event/anah-sun-830am-service/2028-08-20/
LOCATION:Anaheim\, 622 N Gilbert St\, Anaheim\, CA\, 92801\, United States
CATEGORIES:Service
ATTACH;FMTTYPE=image/jpeg:https://sandalschurch.com/wp-content/uploads/2024/10/20230305-WC-SERVICE-JRH-22-scaled.jpg
END:VEVENT
BEGIN:VEVENT
DTSTART;TZID=America/Los_Angeles:20280820T094500
DTEND;TZID=America/Los_Angeles:20280820T094500
DTSTAMP:20260423T091632
CREATED:20250902T224652Z
LAST-MODIFIED:20250902T224707Z
UID:10040609-1850377500-1850377500@sandalschurch.com
SUMMARY:Service
DESCRIPTION:Experience the richness of gathering as a community. It’s a time of depth\, growth\, learning\, and true connection. Through meaningful teachings\, singing\, and shared stories\, we find understanding and inspiration that can reach something deeper within us.
URL:https://sandalschurch.com/event/anah-sun-945am-service/2028-08-20/
LOCATION:Anaheim\, 622 N Gilbert St\, Anaheim\, CA\, 92801\, United States
CATEGORIES:Service
ATTACH;FMTTYPE=image/jpeg:https://sandalschurch.com/wp-content/uploads/2024/10/20230305-WC-SERVICE-JRH-22-scaled.jpg
END:VEVENT
BEGIN:VEVENT
DTSTART;TZID=America/Los_Angeles:20280820T111500
DTEND;TZID=America/Los_Angeles:20280820T111500
DTSTAMP:20260423T091632
CREATED:20241017T185701Z
LAST-MODIFIED:20250109T172417Z
UID:10025019-1850382900-1850382900@sandalschurch.com
SUMMARY:Service
DESCRIPTION:Experience the richness of gathering as a community. It’s a time of depth\, growth\, learning\, and true connection. Through meaningful teachings\, singing\, and shared stories\, we find understanding and inspiration that can reach something deeper within us.
URL:https://sandalschurch.com/event/anah-sun-1115am-service/2028-08-20/
LOCATION:Anaheim\, 622 N Gilbert St\, Anaheim\, CA\, 92801\, United States
CATEGORIES:Service
ATTACH;FMTTYPE=image/jpeg:https://sandalschurch.com/wp-content/uploads/2024/10/20230305-WC-SERVICE-JRH-22-scaled.jpg
END:VEVENT
BEGIN:VEVENT
DTSTART;TZID=America/Los_Angeles:20280822T190000
DTEND;TZID=America/Los_Angeles:20280822T210000
DTSTAMP:20260423T091632
CREATED:20250108T212739Z
LAST-MODIFIED:20250318T203825Z
UID:10024208-1850583600-1850590800@sandalschurch.com
SUMMARY:YOUNG ADULTS
DESCRIPTION:Young Adult Small Groups for ages 18-30ish \n7:00 PM in Building 1
URL:https://sandalschurch.com/event/young-adults/2028-08-22/
LOCATION:Anaheim\, 622 N Gilbert St\, Anaheim\, CA\, 92801\, United States
CATEGORIES:Groups
END:VEVENT
BEGIN:VEVENT
DTSTART;TZID=America/Los_Angeles:20280823T183000
DTEND;TZID=America/Los_Angeles:20280823T210000
DTSTAMP:20260423T091632
CREATED:20250108T211302Z
LAST-MODIFIED:20250622T050519Z
UID:10023948-1850668200-1850677200@sandalschurch.com
SUMMARY:SANDALS CHURCH YOUTH
DESCRIPTION:Wednesday night service and small groups for students and teens\, Grades 6-12th\, at 6:30 PM.
URL:https://sandalschurch.com/event/sandals-church-youth-2/2028-08-23/
LOCATION:Anaheim\, 622 N Gilbert St\, Anaheim\, CA\, 92801\, United States
CATEGORIES:Youth
END:VEVENT
BEGIN:VEVENT
DTSTART;TZID=America/Los_Angeles:20280825T190000
DTEND;TZID=America/Los_Angeles:20280825T203000
DTSTAMP:20260423T091632
CREATED:20251213T192934Z
LAST-MODIFIED:20251213T192935Z
UID:10043323-1850842800-1850848200@sandalschurch.com
SUMMARY:Open Share Groups
DESCRIPTION:This is a safe space to get REAL with yourself\, God and others as you work through your hurts\, habits and hangups in gender specific groups. \nWhen: Fridays at 7:00 PM\nWhere: Sandals Church Anaheim Patio\nWho: Ages 18+ \n*Bring your dinner at 6:30 PM and hang out before groups start\n*No childcare provided \n 
URL:https://sandalschurch.com/event/open-share-groups-2/2028-08-25/
LOCATION:Anaheim\, 622 N Gilbert St\, Anaheim\, CA\, 92801\, United States
CATEGORIES:Groups
END:VEVENT
BEGIN:VEVENT
DTSTART;TZID=America/Los_Angeles:20280827T083000
DTEND;TZID=America/Los_Angeles:20280827T083000
DTSTAMP:20260423T091632
CREATED:20250902T224149Z
LAST-MODIFIED:20250902T224204Z
UID:10040350-1850977800-1850977800@sandalschurch.com
SUMMARY:Service
DESCRIPTION:Experience the richness of gathering as a community. It’s a time of depth\, growth\, learning\, and true connection. Through meaningful teachings\, singing\, and shared stories\, we find understanding and inspiration that can reach something deeper within us.
URL:https://sandalschurch.com/event/anah-sun-830am-service/2028-08-27/
LOCATION:Anaheim\, 622 N Gilbert St\, Anaheim\, CA\, 92801\, United States
CATEGORIES:Service
ATTACH;FMTTYPE=image/jpeg:https://sandalschurch.com/wp-content/uploads/2024/10/20230305-WC-SERVICE-JRH-22-scaled.jpg
END:VEVENT
BEGIN:VEVENT
DTSTART;TZID=America/Los_Angeles:20280827T094500
DTEND;TZID=America/Los_Angeles:20280827T094500
DTSTAMP:20260423T091632
CREATED:20250902T224652Z
LAST-MODIFIED:20250902T224707Z
UID:10040610-1850982300-1850982300@sandalschurch.com
SUMMARY:Service
DESCRIPTION:Experience the richness of gathering as a community. It’s a time of depth\, growth\, learning\, and true connection. Through meaningful teachings\, singing\, and shared stories\, we find understanding and inspiration that can reach something deeper within us.
URL:https://sandalschurch.com/event/anah-sun-945am-service/2028-08-27/
LOCATION:Anaheim\, 622 N Gilbert St\, Anaheim\, CA\, 92801\, United States
CATEGORIES:Service
ATTACH;FMTTYPE=image/jpeg:https://sandalschurch.com/wp-content/uploads/2024/10/20230305-WC-SERVICE-JRH-22-scaled.jpg
END:VEVENT
BEGIN:VEVENT
DTSTART;TZID=America/Los_Angeles:20280827T111500
DTEND;TZID=America/Los_Angeles:20280827T111500
DTSTAMP:20260423T091632
CREATED:20241017T185701Z
LAST-MODIFIED:20250109T172417Z
UID:10025020-1850987700-1850987700@sandalschurch.com
SUMMARY:Service
DESCRIPTION:Experience the richness of gathering as a community. It’s a time of depth\, growth\, learning\, and true connection. Through meaningful teachings\, singing\, and shared stories\, we find understanding and inspiration that can reach something deeper within us.
URL:https://sandalschurch.com/event/anah-sun-1115am-service/2028-08-27/
LOCATION:Anaheim\, 622 N Gilbert St\, Anaheim\, CA\, 92801\, United States
CATEGORIES:Service
ATTACH;FMTTYPE=image/jpeg:https://sandalschurch.com/wp-content/uploads/2024/10/20230305-WC-SERVICE-JRH-22-scaled.jpg
END:VEVENT
BEGIN:VEVENT
DTSTART;TZID=America/Los_Angeles:20280829T190000
DTEND;TZID=America/Los_Angeles:20280829T210000
DTSTAMP:20260423T091632
CREATED:20250108T212739Z
LAST-MODIFIED:20250318T203825Z
UID:10024209-1851188400-1851195600@sandalschurch.com
SUMMARY:YOUNG ADULTS
DESCRIPTION:Young Adult Small Groups for ages 18-30ish \n7:00 PM in Building 1
URL:https://sandalschurch.com/event/young-adults/2028-08-29/
LOCATION:Anaheim\, 622 N Gilbert St\, Anaheim\, CA\, 92801\, United States
CATEGORIES:Groups
END:VEVENT
BEGIN:VEVENT
DTSTART;TZID=America/Los_Angeles:20280830T183000
DTEND;TZID=America/Los_Angeles:20280830T210000
DTSTAMP:20260423T091632
CREATED:20250108T211302Z
LAST-MODIFIED:20250622T050519Z
UID:10023949-1851273000-1851282000@sandalschurch.com
SUMMARY:SANDALS CHURCH YOUTH
DESCRIPTION:Wednesday night service and small groups for students and teens\, Grades 6-12th\, at 6:30 PM.
URL:https://sandalschurch.com/event/sandals-church-youth-2/2028-08-30/
LOCATION:Anaheim\, 622 N Gilbert St\, Anaheim\, CA\, 92801\, United States
CATEGORIES:Youth
END:VEVENT
BEGIN:VEVENT
DTSTART;TZID=America/Los_Angeles:20280901T190000
DTEND;TZID=America/Los_Angeles:20280901T203000
DTSTAMP:20260423T091632
CREATED:20251213T192934Z
LAST-MODIFIED:20251213T192935Z
UID:10043324-1851447600-1851453000@sandalschurch.com
SUMMARY:Open Share Groups
DESCRIPTION:This is a safe space to get REAL with yourself\, God and others as you work through your hurts\, habits and hangups in gender specific groups. \nWhen: Fridays at 7:00 PM\nWhere: Sandals Church Anaheim Patio\nWho: Ages 18+ \n*Bring your dinner at 6:30 PM and hang out before groups start\n*No childcare provided \n 
URL:https://sandalschurch.com/event/open-share-groups-2/2028-09-01/
LOCATION:Anaheim\, 622 N Gilbert St\, Anaheim\, CA\, 92801\, United States
CATEGORIES:Groups
END:VEVENT
BEGIN:VEVENT
DTSTART;TZID=America/Los_Angeles:20280903T083000
DTEND;TZID=America/Los_Angeles:20280903T083000
DTSTAMP:20260423T091632
CREATED:20250902T224149Z
LAST-MODIFIED:20250902T224204Z
UID:10040351-1851582600-1851582600@sandalschurch.com
SUMMARY:Service
DESCRIPTION:Experience the richness of gathering as a community. It’s a time of depth\, growth\, learning\, and true connection. Through meaningful teachings\, singing\, and shared stories\, we find understanding and inspiration that can reach something deeper within us.
URL:https://sandalschurch.com/event/anah-sun-830am-service/2028-09-03/
LOCATION:Anaheim\, 622 N Gilbert St\, Anaheim\, CA\, 92801\, United States
CATEGORIES:Service
ATTACH;FMTTYPE=image/jpeg:https://sandalschurch.com/wp-content/uploads/2024/10/20230305-WC-SERVICE-JRH-22-scaled.jpg
END:VEVENT
BEGIN:VEVENT
DTSTART;TZID=America/Los_Angeles:20280903T094500
DTEND;TZID=America/Los_Angeles:20280903T094500
DTSTAMP:20260423T091632
CREATED:20250902T224652Z
LAST-MODIFIED:20250902T224707Z
UID:10040611-1851587100-1851587100@sandalschurch.com
SUMMARY:Service
DESCRIPTION:Experience the richness of gathering as a community. It’s a time of depth\, growth\, learning\, and true connection. Through meaningful teachings\, singing\, and shared stories\, we find understanding and inspiration that can reach something deeper within us.
URL:https://sandalschurch.com/event/anah-sun-945am-service/2028-09-03/
LOCATION:Anaheim\, 622 N Gilbert St\, Anaheim\, CA\, 92801\, United States
CATEGORIES:Service
ATTACH;FMTTYPE=image/jpeg:https://sandalschurch.com/wp-content/uploads/2024/10/20230305-WC-SERVICE-JRH-22-scaled.jpg
END:VEVENT
BEGIN:VEVENT
DTSTART;TZID=America/Los_Angeles:20280903T111500
DTEND;TZID=America/Los_Angeles:20280903T111500
DTSTAMP:20260423T091632
CREATED:20241017T185701Z
LAST-MODIFIED:20250109T172417Z
UID:10025021-1851592500-1851592500@sandalschurch.com
SUMMARY:Service
DESCRIPTION:Experience the richness of gathering as a community. It’s a time of depth\, growth\, learning\, and true connection. Through meaningful teachings\, singing\, and shared stories\, we find understanding and inspiration that can reach something deeper within us.
URL:https://sandalschurch.com/event/anah-sun-1115am-service/2028-09-03/
LOCATION:Anaheim\, 622 N Gilbert St\, Anaheim\, CA\, 92801\, United States
CATEGORIES:Service
ATTACH;FMTTYPE=image/jpeg:https://sandalschurch.com/wp-content/uploads/2024/10/20230305-WC-SERVICE-JRH-22-scaled.jpg
END:VEVENT
BEGIN:VEVENT
DTSTART;TZID=America/Los_Angeles:20280905T190000
DTEND;TZID=America/Los_Angeles:20280905T210000
DTSTAMP:20260423T091632
CREATED:20250108T212739Z
LAST-MODIFIED:20250318T203825Z
UID:10024210-1851793200-1851800400@sandalschurch.com
SUMMARY:YOUNG ADULTS
DESCRIPTION:Young Adult Small Groups for ages 18-30ish \n7:00 PM in Building 1
URL:https://sandalschurch.com/event/young-adults/2028-09-05/
LOCATION:Anaheim\, 622 N Gilbert St\, Anaheim\, CA\, 92801\, United States
CATEGORIES:Groups
END:VEVENT
BEGIN:VEVENT
DTSTART;TZID=America/Los_Angeles:20280906T183000
DTEND;TZID=America/Los_Angeles:20280906T210000
DTSTAMP:20260423T091632
CREATED:20250108T211302Z
LAST-MODIFIED:20250622T050519Z
UID:10023950-1851877800-1851886800@sandalschurch.com
SUMMARY:SANDALS CHURCH YOUTH
DESCRIPTION:Wednesday night service and small groups for students and teens\, Grades 6-12th\, at 6:30 PM.
URL:https://sandalschurch.com/event/sandals-church-youth-2/2028-09-06/
LOCATION:Anaheim\, 622 N Gilbert St\, Anaheim\, CA\, 92801\, United States
CATEGORIES:Youth
END:VEVENT
BEGIN:VEVENT
DTSTART;TZID=America/Los_Angeles:20280908T190000
DTEND;TZID=America/Los_Angeles:20280908T203000
DTSTAMP:20260423T091632
CREATED:20251213T192934Z
LAST-MODIFIED:20251213T192935Z
UID:10043325-1852052400-1852057800@sandalschurch.com
SUMMARY:Open Share Groups
DESCRIPTION:This is a safe space to get REAL with yourself\, God and others as you work through your hurts\, habits and hangups in gender specific groups. \nWhen: Fridays at 7:00 PM\nWhere: Sandals Church Anaheim Patio\nWho: Ages 18+ \n*Bring your dinner at 6:30 PM and hang out before groups start\n*No childcare provided \n 
URL:https://sandalschurch.com/event/open-share-groups-2/2028-09-08/
LOCATION:Anaheim\, 622 N Gilbert St\, Anaheim\, CA\, 92801\, United States
CATEGORIES:Groups
END:VEVENT
BEGIN:VEVENT
DTSTART;TZID=America/Los_Angeles:20280910T083000
DTEND;TZID=America/Los_Angeles:20280910T083000
DTSTAMP:20260423T091632
CREATED:20250902T224149Z
LAST-MODIFIED:20250902T224204Z
UID:10040352-1852187400-1852187400@sandalschurch.com
SUMMARY:Service
DESCRIPTION:Experience the richness of gathering as a community. It’s a time of depth\, growth\, learning\, and true connection. Through meaningful teachings\, singing\, and shared stories\, we find understanding and inspiration that can reach something deeper within us.
URL:https://sandalschurch.com/event/anah-sun-830am-service/2028-09-10/
LOCATION:Anaheim\, 622 N Gilbert St\, Anaheim\, CA\, 92801\, United States
CATEGORIES:Service
ATTACH;FMTTYPE=image/jpeg:https://sandalschurch.com/wp-content/uploads/2024/10/20230305-WC-SERVICE-JRH-22-scaled.jpg
END:VEVENT
BEGIN:VEVENT
DTSTART;TZID=America/Los_Angeles:20280910T094500
DTEND;TZID=America/Los_Angeles:20280910T094500
DTSTAMP:20260423T091632
CREATED:20250902T224652Z
LAST-MODIFIED:20250902T224707Z
UID:10040612-1852191900-1852191900@sandalschurch.com
SUMMARY:Service
DESCRIPTION:Experience the richness of gathering as a community. It’s a time of depth\, growth\, learning\, and true connection. Through meaningful teachings\, singing\, and shared stories\, we find understanding and inspiration that can reach something deeper within us.
URL:https://sandalschurch.com/event/anah-sun-945am-service/2028-09-10/
LOCATION:Anaheim\, 622 N Gilbert St\, Anaheim\, CA\, 92801\, United States
CATEGORIES:Service
ATTACH;FMTTYPE=image/jpeg:https://sandalschurch.com/wp-content/uploads/2024/10/20230305-WC-SERVICE-JRH-22-scaled.jpg
END:VEVENT
END:VCALENDAR