BEGIN:VCALENDAR
VERSION:2.0
PRODID:-//Sandals Church - ECPv6.13.0//NONSGML v1.0//EN
CALSCALE:GREGORIAN
METHOD:PUBLISH
X-WR-CALNAME:Sandals Church
X-ORIGINAL-URL:https://sandalschurch.com
X-WR-CALDESC:Events for Sandals Church
REFRESH-INTERVAL;VALUE=DURATION:PT1H
X-Robots-Tag:noindex
X-PUBLISHED-TTL:PT1H
BEGIN:VTIMEZONE
TZID:America/Los_Angeles
BEGIN:DAYLIGHT
TZOFFSETFROM:-0800
TZOFFSETTO:-0700
TZNAME:PDT
DTSTART:20290311T100000
END:DAYLIGHT
BEGIN:STANDARD
TZOFFSETFROM:-0700
TZOFFSETTO:-0800
TZNAME:PST
DTSTART:20291104T090000
END:STANDARD
END:VTIMEZONE
BEGIN:VEVENT
DTSTART;TZID=America/Los_Angeles:20290513T111500
DTEND;TZID=America/Los_Angeles:20290513T111500
DTSTAMP:20260424T194456
CREATED:20241017T185701Z
LAST-MODIFIED:20250109T172417Z
UID:10025057-1873365300-1873365300@sandalschurch.com
SUMMARY:Service
DESCRIPTION:Experience the richness of gathering as a community. It’s a time of depth\, growth\, learning\, and true connection. Through meaningful teachings\, singing\, and shared stories\, we find understanding and inspiration that can reach something deeper within us.
URL:https://sandalschurch.com/event/anah-sun-1115am-service/2029-05-13/
LOCATION:Anaheim\, 622 N Gilbert St\, Anaheim\, CA\, 92801\, United States
CATEGORIES:Service
ATTACH;FMTTYPE=image/jpeg:https://sandalschurch.com/wp-content/uploads/2024/10/20230305-WC-SERVICE-JRH-22-scaled.jpg
END:VEVENT
BEGIN:VEVENT
DTSTART;TZID=America/Los_Angeles:20290515T190000
DTEND;TZID=America/Los_Angeles:20290515T210000
DTSTAMP:20260424T194456
CREATED:20250108T212739Z
LAST-MODIFIED:20250318T203825Z
UID:10024246-1873566000-1873573200@sandalschurch.com
SUMMARY:YOUNG ADULTS
DESCRIPTION:Young Adult Small Groups for ages 18-30ish \n7:00 PM in Building 1
URL:https://sandalschurch.com/event/young-adults/2029-05-15/
LOCATION:Anaheim\, 622 N Gilbert St\, Anaheim\, CA\, 92801\, United States
CATEGORIES:Groups
END:VEVENT
BEGIN:VEVENT
DTSTART;TZID=America/Los_Angeles:20290516T183000
DTEND;TZID=America/Los_Angeles:20290516T210000
DTSTAMP:20260424T194456
CREATED:20250108T211302Z
LAST-MODIFIED:20250622T050519Z
UID:10023986-1873650600-1873659600@sandalschurch.com
SUMMARY:SANDALS CHURCH YOUTH
DESCRIPTION:Wednesday night service and small groups for students and teens\, Grades 6-12th\, at 6:30 PM.
URL:https://sandalschurch.com/event/sandals-church-youth-2/2029-05-16/
LOCATION:Anaheim\, 622 N Gilbert St\, Anaheim\, CA\, 92801\, United States
CATEGORIES:Youth
END:VEVENT
BEGIN:VEVENT
DTSTART;TZID=America/Los_Angeles:20290518T190000
DTEND;TZID=America/Los_Angeles:20290518T203000
DTSTAMP:20260424T194456
CREATED:20251213T192934Z
LAST-MODIFIED:20251213T192935Z
UID:10043361-1873825200-1873830600@sandalschurch.com
SUMMARY:Open Share Groups
DESCRIPTION:This is a safe space to get REAL with yourself\, God and others as you work through your hurts\, habits and hangups in gender specific groups. \nWhen: Fridays at 7:00 PM\nWhere: Sandals Church Anaheim Patio\nWho: Ages 18+ \n*Bring your dinner at 6:30 PM and hang out before groups start\n*No childcare provided \n 
URL:https://sandalschurch.com/event/open-share-groups-2/2029-05-18/
LOCATION:Anaheim\, 622 N Gilbert St\, Anaheim\, CA\, 92801\, United States
CATEGORIES:Groups
END:VEVENT
BEGIN:VEVENT
DTSTART;TZID=America/Los_Angeles:20290520T083000
DTEND;TZID=America/Los_Angeles:20290520T083000
DTSTAMP:20260424T194456
CREATED:20250902T224149Z
LAST-MODIFIED:20250902T224204Z
UID:10040388-1873960200-1873960200@sandalschurch.com
SUMMARY:Service
DESCRIPTION:Experience the richness of gathering as a community. It’s a time of depth\, growth\, learning\, and true connection. Through meaningful teachings\, singing\, and shared stories\, we find understanding and inspiration that can reach something deeper within us.
URL:https://sandalschurch.com/event/anah-sun-830am-service/2029-05-20/
LOCATION:Anaheim\, 622 N Gilbert St\, Anaheim\, CA\, 92801\, United States
CATEGORIES:Service
ATTACH;FMTTYPE=image/jpeg:https://sandalschurch.com/wp-content/uploads/2024/10/20230305-WC-SERVICE-JRH-22-scaled.jpg
END:VEVENT
BEGIN:VEVENT
DTSTART;TZID=America/Los_Angeles:20290520T094500
DTEND;TZID=America/Los_Angeles:20290520T094500
DTSTAMP:20260424T194456
CREATED:20250902T224652Z
LAST-MODIFIED:20250902T224707Z
UID:10040648-1873964700-1873964700@sandalschurch.com
SUMMARY:Service
DESCRIPTION:Experience the richness of gathering as a community. It’s a time of depth\, growth\, learning\, and true connection. Through meaningful teachings\, singing\, and shared stories\, we find understanding and inspiration that can reach something deeper within us.
URL:https://sandalschurch.com/event/anah-sun-945am-service/2029-05-20/
LOCATION:Anaheim\, 622 N Gilbert St\, Anaheim\, CA\, 92801\, United States
CATEGORIES:Service
ATTACH;FMTTYPE=image/jpeg:https://sandalschurch.com/wp-content/uploads/2024/10/20230305-WC-SERVICE-JRH-22-scaled.jpg
END:VEVENT
BEGIN:VEVENT
DTSTART;TZID=America/Los_Angeles:20290520T111500
DTEND;TZID=America/Los_Angeles:20290520T111500
DTSTAMP:20260424T194456
CREATED:20241017T185701Z
LAST-MODIFIED:20250109T172417Z
UID:10025058-1873970100-1873970100@sandalschurch.com
SUMMARY:Service
DESCRIPTION:Experience the richness of gathering as a community. It’s a time of depth\, growth\, learning\, and true connection. Through meaningful teachings\, singing\, and shared stories\, we find understanding and inspiration that can reach something deeper within us.
URL:https://sandalschurch.com/event/anah-sun-1115am-service/2029-05-20/
LOCATION:Anaheim\, 622 N Gilbert St\, Anaheim\, CA\, 92801\, United States
CATEGORIES:Service
ATTACH;FMTTYPE=image/jpeg:https://sandalschurch.com/wp-content/uploads/2024/10/20230305-WC-SERVICE-JRH-22-scaled.jpg
END:VEVENT
BEGIN:VEVENT
DTSTART;TZID=America/Los_Angeles:20290522T190000
DTEND;TZID=America/Los_Angeles:20290522T210000
DTSTAMP:20260424T194456
CREATED:20250108T212739Z
LAST-MODIFIED:20250318T203825Z
UID:10024247-1874170800-1874178000@sandalschurch.com
SUMMARY:YOUNG ADULTS
DESCRIPTION:Young Adult Small Groups for ages 18-30ish \n7:00 PM in Building 1
URL:https://sandalschurch.com/event/young-adults/2029-05-22/
LOCATION:Anaheim\, 622 N Gilbert St\, Anaheim\, CA\, 92801\, United States
CATEGORIES:Groups
END:VEVENT
BEGIN:VEVENT
DTSTART;TZID=America/Los_Angeles:20290523T183000
DTEND;TZID=America/Los_Angeles:20290523T210000
DTSTAMP:20260424T194456
CREATED:20250108T211302Z
LAST-MODIFIED:20250622T050519Z
UID:10023987-1874255400-1874264400@sandalschurch.com
SUMMARY:SANDALS CHURCH YOUTH
DESCRIPTION:Wednesday night service and small groups for students and teens\, Grades 6-12th\, at 6:30 PM.
URL:https://sandalschurch.com/event/sandals-church-youth-2/2029-05-23/
LOCATION:Anaheim\, 622 N Gilbert St\, Anaheim\, CA\, 92801\, United States
CATEGORIES:Youth
END:VEVENT
BEGIN:VEVENT
DTSTART;TZID=America/Los_Angeles:20290525T190000
DTEND;TZID=America/Los_Angeles:20290525T203000
DTSTAMP:20260424T194456
CREATED:20251213T192934Z
LAST-MODIFIED:20251213T192935Z
UID:10043362-1874430000-1874435400@sandalschurch.com
SUMMARY:Open Share Groups
DESCRIPTION:This is a safe space to get REAL with yourself\, God and others as you work through your hurts\, habits and hangups in gender specific groups. \nWhen: Fridays at 7:00 PM\nWhere: Sandals Church Anaheim Patio\nWho: Ages 18+ \n*Bring your dinner at 6:30 PM and hang out before groups start\n*No childcare provided \n 
URL:https://sandalschurch.com/event/open-share-groups-2/2029-05-25/
LOCATION:Anaheim\, 622 N Gilbert St\, Anaheim\, CA\, 92801\, United States
CATEGORIES:Groups
END:VEVENT
BEGIN:VEVENT
DTSTART;TZID=America/Los_Angeles:20290527T083000
DTEND;TZID=America/Los_Angeles:20290527T083000
DTSTAMP:20260424T194456
CREATED:20250902T224149Z
LAST-MODIFIED:20250902T224204Z
UID:10040389-1874565000-1874565000@sandalschurch.com
SUMMARY:Service
DESCRIPTION:Experience the richness of gathering as a community. It’s a time of depth\, growth\, learning\, and true connection. Through meaningful teachings\, singing\, and shared stories\, we find understanding and inspiration that can reach something deeper within us.
URL:https://sandalschurch.com/event/anah-sun-830am-service/2029-05-27/
LOCATION:Anaheim\, 622 N Gilbert St\, Anaheim\, CA\, 92801\, United States
CATEGORIES:Service
ATTACH;FMTTYPE=image/jpeg:https://sandalschurch.com/wp-content/uploads/2024/10/20230305-WC-SERVICE-JRH-22-scaled.jpg
END:VEVENT
BEGIN:VEVENT
DTSTART;TZID=America/Los_Angeles:20290527T094500
DTEND;TZID=America/Los_Angeles:20290527T094500
DTSTAMP:20260424T194456
CREATED:20250902T224652Z
LAST-MODIFIED:20250902T224707Z
UID:10040649-1874569500-1874569500@sandalschurch.com
SUMMARY:Service
DESCRIPTION:Experience the richness of gathering as a community. It’s a time of depth\, growth\, learning\, and true connection. Through meaningful teachings\, singing\, and shared stories\, we find understanding and inspiration that can reach something deeper within us.
URL:https://sandalschurch.com/event/anah-sun-945am-service/2029-05-27/
LOCATION:Anaheim\, 622 N Gilbert St\, Anaheim\, CA\, 92801\, United States
CATEGORIES:Service
ATTACH;FMTTYPE=image/jpeg:https://sandalschurch.com/wp-content/uploads/2024/10/20230305-WC-SERVICE-JRH-22-scaled.jpg
END:VEVENT
BEGIN:VEVENT
DTSTART;TZID=America/Los_Angeles:20290527T111500
DTEND;TZID=America/Los_Angeles:20290527T111500
DTSTAMP:20260424T194456
CREATED:20241017T185701Z
LAST-MODIFIED:20250109T172417Z
UID:10025059-1874574900-1874574900@sandalschurch.com
SUMMARY:Service
DESCRIPTION:Experience the richness of gathering as a community. It’s a time of depth\, growth\, learning\, and true connection. Through meaningful teachings\, singing\, and shared stories\, we find understanding and inspiration that can reach something deeper within us.
URL:https://sandalschurch.com/event/anah-sun-1115am-service/2029-05-27/
LOCATION:Anaheim\, 622 N Gilbert St\, Anaheim\, CA\, 92801\, United States
CATEGORIES:Service
ATTACH;FMTTYPE=image/jpeg:https://sandalschurch.com/wp-content/uploads/2024/10/20230305-WC-SERVICE-JRH-22-scaled.jpg
END:VEVENT
BEGIN:VEVENT
DTSTART;TZID=America/Los_Angeles:20290529T190000
DTEND;TZID=America/Los_Angeles:20290529T210000
DTSTAMP:20260424T194456
CREATED:20250108T212739Z
LAST-MODIFIED:20250318T203825Z
UID:10024248-1874775600-1874782800@sandalschurch.com
SUMMARY:YOUNG ADULTS
DESCRIPTION:Young Adult Small Groups for ages 18-30ish \n7:00 PM in Building 1
URL:https://sandalschurch.com/event/young-adults/2029-05-29/
LOCATION:Anaheim\, 622 N Gilbert St\, Anaheim\, CA\, 92801\, United States
CATEGORIES:Groups
END:VEVENT
BEGIN:VEVENT
DTSTART;TZID=America/Los_Angeles:20290530T183000
DTEND;TZID=America/Los_Angeles:20290530T210000
DTSTAMP:20260424T194456
CREATED:20250108T211302Z
LAST-MODIFIED:20250622T050519Z
UID:10023988-1874860200-1874869200@sandalschurch.com
SUMMARY:SANDALS CHURCH YOUTH
DESCRIPTION:Wednesday night service and small groups for students and teens\, Grades 6-12th\, at 6:30 PM.
URL:https://sandalschurch.com/event/sandals-church-youth-2/2029-05-30/
LOCATION:Anaheim\, 622 N Gilbert St\, Anaheim\, CA\, 92801\, United States
CATEGORIES:Youth
END:VEVENT
BEGIN:VEVENT
DTSTART;TZID=America/Los_Angeles:20290601T190000
DTEND;TZID=America/Los_Angeles:20290601T203000
DTSTAMP:20260424T194456
CREATED:20251213T192934Z
LAST-MODIFIED:20251213T192935Z
UID:10043363-1875034800-1875040200@sandalschurch.com
SUMMARY:Open Share Groups
DESCRIPTION:This is a safe space to get REAL with yourself\, God and others as you work through your hurts\, habits and hangups in gender specific groups. \nWhen: Fridays at 7:00 PM\nWhere: Sandals Church Anaheim Patio\nWho: Ages 18+ \n*Bring your dinner at 6:30 PM and hang out before groups start\n*No childcare provided \n 
URL:https://sandalschurch.com/event/open-share-groups-2/2029-06-01/
LOCATION:Anaheim\, 622 N Gilbert St\, Anaheim\, CA\, 92801\, United States
CATEGORIES:Groups
END:VEVENT
BEGIN:VEVENT
DTSTART;TZID=America/Los_Angeles:20290603T083000
DTEND;TZID=America/Los_Angeles:20290603T083000
DTSTAMP:20260424T194456
CREATED:20250902T224149Z
LAST-MODIFIED:20250902T224204Z
UID:10040390-1875169800-1875169800@sandalschurch.com
SUMMARY:Service
DESCRIPTION:Experience the richness of gathering as a community. It’s a time of depth\, growth\, learning\, and true connection. Through meaningful teachings\, singing\, and shared stories\, we find understanding and inspiration that can reach something deeper within us.
URL:https://sandalschurch.com/event/anah-sun-830am-service/2029-06-03/
LOCATION:Anaheim\, 622 N Gilbert St\, Anaheim\, CA\, 92801\, United States
CATEGORIES:Service
ATTACH;FMTTYPE=image/jpeg:https://sandalschurch.com/wp-content/uploads/2024/10/20230305-WC-SERVICE-JRH-22-scaled.jpg
END:VEVENT
BEGIN:VEVENT
DTSTART;TZID=America/Los_Angeles:20290603T094500
DTEND;TZID=America/Los_Angeles:20290603T094500
DTSTAMP:20260424T194456
CREATED:20250902T224652Z
LAST-MODIFIED:20250902T224707Z
UID:10040650-1875174300-1875174300@sandalschurch.com
SUMMARY:Service
DESCRIPTION:Experience the richness of gathering as a community. It’s a time of depth\, growth\, learning\, and true connection. Through meaningful teachings\, singing\, and shared stories\, we find understanding and inspiration that can reach something deeper within us.
URL:https://sandalschurch.com/event/anah-sun-945am-service/2029-06-03/
LOCATION:Anaheim\, 622 N Gilbert St\, Anaheim\, CA\, 92801\, United States
CATEGORIES:Service
ATTACH;FMTTYPE=image/jpeg:https://sandalschurch.com/wp-content/uploads/2024/10/20230305-WC-SERVICE-JRH-22-scaled.jpg
END:VEVENT
BEGIN:VEVENT
DTSTART;TZID=America/Los_Angeles:20290603T111500
DTEND;TZID=America/Los_Angeles:20290603T111500
DTSTAMP:20260424T194456
CREATED:20241017T185701Z
LAST-MODIFIED:20250109T172417Z
UID:10025060-1875179700-1875179700@sandalschurch.com
SUMMARY:Service
DESCRIPTION:Experience the richness of gathering as a community. It’s a time of depth\, growth\, learning\, and true connection. Through meaningful teachings\, singing\, and shared stories\, we find understanding and inspiration that can reach something deeper within us.
URL:https://sandalschurch.com/event/anah-sun-1115am-service/2029-06-03/
LOCATION:Anaheim\, 622 N Gilbert St\, Anaheim\, CA\, 92801\, United States
CATEGORIES:Service
ATTACH;FMTTYPE=image/jpeg:https://sandalschurch.com/wp-content/uploads/2024/10/20230305-WC-SERVICE-JRH-22-scaled.jpg
END:VEVENT
BEGIN:VEVENT
DTSTART;TZID=America/Los_Angeles:20290605T190000
DTEND;TZID=America/Los_Angeles:20290605T210000
DTSTAMP:20260424T194456
CREATED:20250108T212739Z
LAST-MODIFIED:20250318T203825Z
UID:10024249-1875380400-1875387600@sandalschurch.com
SUMMARY:YOUNG ADULTS
DESCRIPTION:Young Adult Small Groups for ages 18-30ish \n7:00 PM in Building 1
URL:https://sandalschurch.com/event/young-adults/2029-06-05/
LOCATION:Anaheim\, 622 N Gilbert St\, Anaheim\, CA\, 92801\, United States
CATEGORIES:Groups
END:VEVENT
BEGIN:VEVENT
DTSTART;TZID=America/Los_Angeles:20290606T183000
DTEND;TZID=America/Los_Angeles:20290606T210000
DTSTAMP:20260424T194456
CREATED:20250108T211302Z
LAST-MODIFIED:20250622T050519Z
UID:10023989-1875465000-1875474000@sandalschurch.com
SUMMARY:SANDALS CHURCH YOUTH
DESCRIPTION:Wednesday night service and small groups for students and teens\, Grades 6-12th\, at 6:30 PM.
URL:https://sandalschurch.com/event/sandals-church-youth-2/2029-06-06/
LOCATION:Anaheim\, 622 N Gilbert St\, Anaheim\, CA\, 92801\, United States
CATEGORIES:Youth
END:VEVENT
BEGIN:VEVENT
DTSTART;TZID=America/Los_Angeles:20290608T190000
DTEND;TZID=America/Los_Angeles:20290608T203000
DTSTAMP:20260424T194456
CREATED:20251213T192934Z
LAST-MODIFIED:20251213T192935Z
UID:10043364-1875639600-1875645000@sandalschurch.com
SUMMARY:Open Share Groups
DESCRIPTION:This is a safe space to get REAL with yourself\, God and others as you work through your hurts\, habits and hangups in gender specific groups. \nWhen: Fridays at 7:00 PM\nWhere: Sandals Church Anaheim Patio\nWho: Ages 18+ \n*Bring your dinner at 6:30 PM and hang out before groups start\n*No childcare provided \n 
URL:https://sandalschurch.com/event/open-share-groups-2/2029-06-08/
LOCATION:Anaheim\, 622 N Gilbert St\, Anaheim\, CA\, 92801\, United States
CATEGORIES:Groups
END:VEVENT
BEGIN:VEVENT
DTSTART;TZID=America/Los_Angeles:20290610T083000
DTEND;TZID=America/Los_Angeles:20290610T083000
DTSTAMP:20260424T194456
CREATED:20250902T224149Z
LAST-MODIFIED:20250902T224204Z
UID:10040391-1875774600-1875774600@sandalschurch.com
SUMMARY:Service
DESCRIPTION:Experience the richness of gathering as a community. It’s a time of depth\, growth\, learning\, and true connection. Through meaningful teachings\, singing\, and shared stories\, we find understanding and inspiration that can reach something deeper within us.
URL:https://sandalschurch.com/event/anah-sun-830am-service/2029-06-10/
LOCATION:Anaheim\, 622 N Gilbert St\, Anaheim\, CA\, 92801\, United States
CATEGORIES:Service
ATTACH;FMTTYPE=image/jpeg:https://sandalschurch.com/wp-content/uploads/2024/10/20230305-WC-SERVICE-JRH-22-scaled.jpg
END:VEVENT
BEGIN:VEVENT
DTSTART;TZID=America/Los_Angeles:20290610T094500
DTEND;TZID=America/Los_Angeles:20290610T094500
DTSTAMP:20260424T194456
CREATED:20250902T224652Z
LAST-MODIFIED:20250902T224707Z
UID:10040651-1875779100-1875779100@sandalschurch.com
SUMMARY:Service
DESCRIPTION:Experience the richness of gathering as a community. It’s a time of depth\, growth\, learning\, and true connection. Through meaningful teachings\, singing\, and shared stories\, we find understanding and inspiration that can reach something deeper within us.
URL:https://sandalschurch.com/event/anah-sun-945am-service/2029-06-10/
LOCATION:Anaheim\, 622 N Gilbert St\, Anaheim\, CA\, 92801\, United States
CATEGORIES:Service
ATTACH;FMTTYPE=image/jpeg:https://sandalschurch.com/wp-content/uploads/2024/10/20230305-WC-SERVICE-JRH-22-scaled.jpg
END:VEVENT
BEGIN:VEVENT
DTSTART;TZID=America/Los_Angeles:20290610T111500
DTEND;TZID=America/Los_Angeles:20290610T111500
DTSTAMP:20260424T194456
CREATED:20241017T185701Z
LAST-MODIFIED:20250109T172417Z
UID:10025061-1875784500-1875784500@sandalschurch.com
SUMMARY:Service
DESCRIPTION:Experience the richness of gathering as a community. It’s a time of depth\, growth\, learning\, and true connection. Through meaningful teachings\, singing\, and shared stories\, we find understanding and inspiration that can reach something deeper within us.
URL:https://sandalschurch.com/event/anah-sun-1115am-service/2029-06-10/
LOCATION:Anaheim\, 622 N Gilbert St\, Anaheim\, CA\, 92801\, United States
CATEGORIES:Service
ATTACH;FMTTYPE=image/jpeg:https://sandalschurch.com/wp-content/uploads/2024/10/20230305-WC-SERVICE-JRH-22-scaled.jpg
END:VEVENT
BEGIN:VEVENT
DTSTART;TZID=America/Los_Angeles:20290612T190000
DTEND;TZID=America/Los_Angeles:20290612T210000
DTSTAMP:20260424T194456
CREATED:20250108T212739Z
LAST-MODIFIED:20250318T203825Z
UID:10024250-1875985200-1875992400@sandalschurch.com
SUMMARY:YOUNG ADULTS
DESCRIPTION:Young Adult Small Groups for ages 18-30ish \n7:00 PM in Building 1
URL:https://sandalschurch.com/event/young-adults/2029-06-12/
LOCATION:Anaheim\, 622 N Gilbert St\, Anaheim\, CA\, 92801\, United States
CATEGORIES:Groups
END:VEVENT
BEGIN:VEVENT
DTSTART;TZID=America/Los_Angeles:20290613T183000
DTEND;TZID=America/Los_Angeles:20290613T210000
DTSTAMP:20260424T194456
CREATED:20250108T211302Z
LAST-MODIFIED:20250622T050519Z
UID:10023990-1876069800-1876078800@sandalschurch.com
SUMMARY:SANDALS CHURCH YOUTH
DESCRIPTION:Wednesday night service and small groups for students and teens\, Grades 6-12th\, at 6:30 PM.
URL:https://sandalschurch.com/event/sandals-church-youth-2/2029-06-13/
LOCATION:Anaheim\, 622 N Gilbert St\, Anaheim\, CA\, 92801\, United States
CATEGORIES:Youth
END:VEVENT
BEGIN:VEVENT
DTSTART;TZID=America/Los_Angeles:20290615T190000
DTEND;TZID=America/Los_Angeles:20290615T203000
DTSTAMP:20260424T194456
CREATED:20251213T192934Z
LAST-MODIFIED:20251213T192935Z
UID:10043365-1876244400-1876249800@sandalschurch.com
SUMMARY:Open Share Groups
DESCRIPTION:This is a safe space to get REAL with yourself\, God and others as you work through your hurts\, habits and hangups in gender specific groups. \nWhen: Fridays at 7:00 PM\nWhere: Sandals Church Anaheim Patio\nWho: Ages 18+ \n*Bring your dinner at 6:30 PM and hang out before groups start\n*No childcare provided \n 
URL:https://sandalschurch.com/event/open-share-groups-2/2029-06-15/
LOCATION:Anaheim\, 622 N Gilbert St\, Anaheim\, CA\, 92801\, United States
CATEGORIES:Groups
END:VEVENT
BEGIN:VEVENT
DTSTART;TZID=America/Los_Angeles:20290617T083000
DTEND;TZID=America/Los_Angeles:20290617T083000
DTSTAMP:20260424T194456
CREATED:20250902T224149Z
LAST-MODIFIED:20250902T224204Z
UID:10040392-1876379400-1876379400@sandalschurch.com
SUMMARY:Service
DESCRIPTION:Experience the richness of gathering as a community. It’s a time of depth\, growth\, learning\, and true connection. Through meaningful teachings\, singing\, and shared stories\, we find understanding and inspiration that can reach something deeper within us.
URL:https://sandalschurch.com/event/anah-sun-830am-service/2029-06-17/
LOCATION:Anaheim\, 622 N Gilbert St\, Anaheim\, CA\, 92801\, United States
CATEGORIES:Service
ATTACH;FMTTYPE=image/jpeg:https://sandalschurch.com/wp-content/uploads/2024/10/20230305-WC-SERVICE-JRH-22-scaled.jpg
END:VEVENT
BEGIN:VEVENT
DTSTART;TZID=America/Los_Angeles:20290617T094500
DTEND;TZID=America/Los_Angeles:20290617T094500
DTSTAMP:20260424T194456
CREATED:20250902T224652Z
LAST-MODIFIED:20250902T224707Z
UID:10040652-1876383900-1876383900@sandalschurch.com
SUMMARY:Service
DESCRIPTION:Experience the richness of gathering as a community. It’s a time of depth\, growth\, learning\, and true connection. Through meaningful teachings\, singing\, and shared stories\, we find understanding and inspiration that can reach something deeper within us.
URL:https://sandalschurch.com/event/anah-sun-945am-service/2029-06-17/
LOCATION:Anaheim\, 622 N Gilbert St\, Anaheim\, CA\, 92801\, United States
CATEGORIES:Service
ATTACH;FMTTYPE=image/jpeg:https://sandalschurch.com/wp-content/uploads/2024/10/20230305-WC-SERVICE-JRH-22-scaled.jpg
END:VEVENT
END:VCALENDAR