BEGIN:VCALENDAR
VERSION:2.0
PRODID:-//Sandals Church - ECPv6.13.0//NONSGML v1.0//EN
CALSCALE:GREGORIAN
METHOD:PUBLISH
X-WR-CALNAME:Sandals Church
X-ORIGINAL-URL:https://sandalschurch.com
X-WR-CALDESC:Events for Sandals Church
REFRESH-INTERVAL;VALUE=DURATION:PT1H
X-Robots-Tag:noindex
X-PUBLISHED-TTL:PT1H
BEGIN:VTIMEZONE
TZID:America/Los_Angeles
BEGIN:DAYLIGHT
TZOFFSETFROM:-0800
TZOFFSETTO:-0700
TZNAME:PDT
DTSTART:20290311T100000
END:DAYLIGHT
BEGIN:STANDARD
TZOFFSETFROM:-0700
TZOFFSETTO:-0800
TZNAME:PST
DTSTART:20291104T090000
END:STANDARD
END:VTIMEZONE
BEGIN:VEVENT
DTSTART;TZID=America/Los_Angeles:20291016T190000
DTEND;TZID=America/Los_Angeles:20291016T210000
DTSTAMP:20260425T201339
CREATED:20250108T212739Z
LAST-MODIFIED:20250318T203825Z
UID:10024268-1886871600-1886878800@sandalschurch.com
SUMMARY:YOUNG ADULTS
DESCRIPTION:Young Adult Small Groups for ages 18-30ish \n7:00 PM in Building 1
URL:https://sandalschurch.com/event/young-adults/2029-10-16/
LOCATION:Anaheim\, 622 N Gilbert St\, Anaheim\, CA\, 92801\, United States
CATEGORIES:Groups
END:VEVENT
BEGIN:VEVENT
DTSTART;TZID=America/Los_Angeles:20291017T183000
DTEND;TZID=America/Los_Angeles:20291017T210000
DTSTAMP:20260425T201339
CREATED:20250108T211302Z
LAST-MODIFIED:20250622T050519Z
UID:10024008-1886956200-1886965200@sandalschurch.com
SUMMARY:SANDALS CHURCH YOUTH
DESCRIPTION:Wednesday night service and small groups for students and teens\, Grades 6-12th\, at 6:30 PM.
URL:https://sandalschurch.com/event/sandals-church-youth-2/2029-10-17/
LOCATION:Anaheim\, 622 N Gilbert St\, Anaheim\, CA\, 92801\, United States
CATEGORIES:Youth
END:VEVENT
BEGIN:VEVENT
DTSTART;TZID=America/Los_Angeles:20291019T190000
DTEND;TZID=America/Los_Angeles:20291019T203000
DTSTAMP:20260425T201339
CREATED:20251213T192934Z
LAST-MODIFIED:20251213T192935Z
UID:10043383-1887130800-1887136200@sandalschurch.com
SUMMARY:Open Share Groups
DESCRIPTION:This is a safe space to get REAL with yourself\, God and others as you work through your hurts\, habits and hangups in gender specific groups. \nWhen: Fridays at 7:00 PM\nWhere: Sandals Church Anaheim Patio\nWho: Ages 18+ \n*Bring your dinner at 6:30 PM and hang out before groups start\n*No childcare provided \n 
URL:https://sandalschurch.com/event/open-share-groups-2/2029-10-19/
LOCATION:Anaheim\, 622 N Gilbert St\, Anaheim\, CA\, 92801\, United States
CATEGORIES:Groups
END:VEVENT
BEGIN:VEVENT
DTSTART;TZID=America/Los_Angeles:20291021T083000
DTEND;TZID=America/Los_Angeles:20291021T083000
DTSTAMP:20260425T201339
CREATED:20250902T224149Z
LAST-MODIFIED:20250902T224204Z
UID:10040410-1887265800-1887265800@sandalschurch.com
SUMMARY:Service
DESCRIPTION:Experience the richness of gathering as a community. It’s a time of depth\, growth\, learning\, and true connection. Through meaningful teachings\, singing\, and shared stories\, we find understanding and inspiration that can reach something deeper within us.
URL:https://sandalschurch.com/event/anah-sun-830am-service/2029-10-21/
LOCATION:Anaheim\, 622 N Gilbert St\, Anaheim\, CA\, 92801\, United States
CATEGORIES:Service
ATTACH;FMTTYPE=image/jpeg:https://sandalschurch.com/wp-content/uploads/2024/10/20230305-WC-SERVICE-JRH-22-scaled.jpg
END:VEVENT
BEGIN:VEVENT
DTSTART;TZID=America/Los_Angeles:20291021T094500
DTEND;TZID=America/Los_Angeles:20291021T094500
DTSTAMP:20260425T201339
CREATED:20250902T224652Z
LAST-MODIFIED:20250902T224707Z
UID:10040670-1887270300-1887270300@sandalschurch.com
SUMMARY:Service
DESCRIPTION:Experience the richness of gathering as a community. It’s a time of depth\, growth\, learning\, and true connection. Through meaningful teachings\, singing\, and shared stories\, we find understanding and inspiration that can reach something deeper within us.
URL:https://sandalschurch.com/event/anah-sun-945am-service/2029-10-21/
LOCATION:Anaheim\, 622 N Gilbert St\, Anaheim\, CA\, 92801\, United States
CATEGORIES:Service
ATTACH;FMTTYPE=image/jpeg:https://sandalschurch.com/wp-content/uploads/2024/10/20230305-WC-SERVICE-JRH-22-scaled.jpg
END:VEVENT
BEGIN:VEVENT
DTSTART;TZID=America/Los_Angeles:20291021T111500
DTEND;TZID=America/Los_Angeles:20291021T111500
DTSTAMP:20260425T201339
CREATED:20241017T185701Z
LAST-MODIFIED:20250109T172417Z
UID:10025080-1887275700-1887275700@sandalschurch.com
SUMMARY:Service
DESCRIPTION:Experience the richness of gathering as a community. It’s a time of depth\, growth\, learning\, and true connection. Through meaningful teachings\, singing\, and shared stories\, we find understanding and inspiration that can reach something deeper within us.
URL:https://sandalschurch.com/event/anah-sun-1115am-service/2029-10-21/
LOCATION:Anaheim\, 622 N Gilbert St\, Anaheim\, CA\, 92801\, United States
CATEGORIES:Service
ATTACH;FMTTYPE=image/jpeg:https://sandalschurch.com/wp-content/uploads/2024/10/20230305-WC-SERVICE-JRH-22-scaled.jpg
END:VEVENT
BEGIN:VEVENT
DTSTART;TZID=America/Los_Angeles:20291023T190000
DTEND;TZID=America/Los_Angeles:20291023T210000
DTSTAMP:20260425T201339
CREATED:20250108T212739Z
LAST-MODIFIED:20250318T203825Z
UID:10024269-1887476400-1887483600@sandalschurch.com
SUMMARY:YOUNG ADULTS
DESCRIPTION:Young Adult Small Groups for ages 18-30ish \n7:00 PM in Building 1
URL:https://sandalschurch.com/event/young-adults/2029-10-23/
LOCATION:Anaheim\, 622 N Gilbert St\, Anaheim\, CA\, 92801\, United States
CATEGORIES:Groups
END:VEVENT
BEGIN:VEVENT
DTSTART;TZID=America/Los_Angeles:20291024T183000
DTEND;TZID=America/Los_Angeles:20291024T210000
DTSTAMP:20260425T201339
CREATED:20250108T211302Z
LAST-MODIFIED:20250622T050519Z
UID:10024009-1887561000-1887570000@sandalschurch.com
SUMMARY:SANDALS CHURCH YOUTH
DESCRIPTION:Wednesday night service and small groups for students and teens\, Grades 6-12th\, at 6:30 PM.
URL:https://sandalschurch.com/event/sandals-church-youth-2/2029-10-24/
LOCATION:Anaheim\, 622 N Gilbert St\, Anaheim\, CA\, 92801\, United States
CATEGORIES:Youth
END:VEVENT
BEGIN:VEVENT
DTSTART;TZID=America/Los_Angeles:20291026T190000
DTEND;TZID=America/Los_Angeles:20291026T203000
DTSTAMP:20260425T201339
CREATED:20251213T192934Z
LAST-MODIFIED:20251213T192935Z
UID:10043384-1887735600-1887741000@sandalschurch.com
SUMMARY:Open Share Groups
DESCRIPTION:This is a safe space to get REAL with yourself\, God and others as you work through your hurts\, habits and hangups in gender specific groups. \nWhen: Fridays at 7:00 PM\nWhere: Sandals Church Anaheim Patio\nWho: Ages 18+ \n*Bring your dinner at 6:30 PM and hang out before groups start\n*No childcare provided \n 
URL:https://sandalschurch.com/event/open-share-groups-2/2029-10-26/
LOCATION:Anaheim\, 622 N Gilbert St\, Anaheim\, CA\, 92801\, United States
CATEGORIES:Groups
END:VEVENT
BEGIN:VEVENT
DTSTART;TZID=America/Los_Angeles:20291028T083000
DTEND;TZID=America/Los_Angeles:20291028T083000
DTSTAMP:20260425T201339
CREATED:20250902T224149Z
LAST-MODIFIED:20250902T224204Z
UID:10040411-1887870600-1887870600@sandalschurch.com
SUMMARY:Service
DESCRIPTION:Experience the richness of gathering as a community. It’s a time of depth\, growth\, learning\, and true connection. Through meaningful teachings\, singing\, and shared stories\, we find understanding and inspiration that can reach something deeper within us.
URL:https://sandalschurch.com/event/anah-sun-830am-service/2029-10-28/
LOCATION:Anaheim\, 622 N Gilbert St\, Anaheim\, CA\, 92801\, United States
CATEGORIES:Service
ATTACH;FMTTYPE=image/jpeg:https://sandalschurch.com/wp-content/uploads/2024/10/20230305-WC-SERVICE-JRH-22-scaled.jpg
END:VEVENT
BEGIN:VEVENT
DTSTART;TZID=America/Los_Angeles:20291028T094500
DTEND;TZID=America/Los_Angeles:20291028T094500
DTSTAMP:20260425T201339
CREATED:20250902T224652Z
LAST-MODIFIED:20250902T224707Z
UID:10040671-1887875100-1887875100@sandalschurch.com
SUMMARY:Service
DESCRIPTION:Experience the richness of gathering as a community. It’s a time of depth\, growth\, learning\, and true connection. Through meaningful teachings\, singing\, and shared stories\, we find understanding and inspiration that can reach something deeper within us.
URL:https://sandalschurch.com/event/anah-sun-945am-service/2029-10-28/
LOCATION:Anaheim\, 622 N Gilbert St\, Anaheim\, CA\, 92801\, United States
CATEGORIES:Service
ATTACH;FMTTYPE=image/jpeg:https://sandalschurch.com/wp-content/uploads/2024/10/20230305-WC-SERVICE-JRH-22-scaled.jpg
END:VEVENT
BEGIN:VEVENT
DTSTART;TZID=America/Los_Angeles:20291028T111500
DTEND;TZID=America/Los_Angeles:20291028T111500
DTSTAMP:20260425T201339
CREATED:20241017T185701Z
LAST-MODIFIED:20250109T172417Z
UID:10025081-1887880500-1887880500@sandalschurch.com
SUMMARY:Service
DESCRIPTION:Experience the richness of gathering as a community. It’s a time of depth\, growth\, learning\, and true connection. Through meaningful teachings\, singing\, and shared stories\, we find understanding and inspiration that can reach something deeper within us.
URL:https://sandalschurch.com/event/anah-sun-1115am-service/2029-10-28/
LOCATION:Anaheim\, 622 N Gilbert St\, Anaheim\, CA\, 92801\, United States
CATEGORIES:Service
ATTACH;FMTTYPE=image/jpeg:https://sandalschurch.com/wp-content/uploads/2024/10/20230305-WC-SERVICE-JRH-22-scaled.jpg
END:VEVENT
BEGIN:VEVENT
DTSTART;TZID=America/Los_Angeles:20291030T190000
DTEND;TZID=America/Los_Angeles:20291030T210000
DTSTAMP:20260425T201339
CREATED:20250108T212739Z
LAST-MODIFIED:20250318T203825Z
UID:10024270-1888081200-1888088400@sandalschurch.com
SUMMARY:YOUNG ADULTS
DESCRIPTION:Young Adult Small Groups for ages 18-30ish \n7:00 PM in Building 1
URL:https://sandalschurch.com/event/young-adults/2029-10-30/
LOCATION:Anaheim\, 622 N Gilbert St\, Anaheim\, CA\, 92801\, United States
CATEGORIES:Groups
END:VEVENT
BEGIN:VEVENT
DTSTART;TZID=America/Los_Angeles:20291031T183000
DTEND;TZID=America/Los_Angeles:20291031T210000
DTSTAMP:20260425T201339
CREATED:20250108T211302Z
LAST-MODIFIED:20250622T050519Z
UID:10024010-1888165800-1888174800@sandalschurch.com
SUMMARY:SANDALS CHURCH YOUTH
DESCRIPTION:Wednesday night service and small groups for students and teens\, Grades 6-12th\, at 6:30 PM.
URL:https://sandalschurch.com/event/sandals-church-youth-2/2029-10-31/
LOCATION:Anaheim\, 622 N Gilbert St\, Anaheim\, CA\, 92801\, United States
CATEGORIES:Youth
END:VEVENT
BEGIN:VEVENT
DTSTART;TZID=America/Los_Angeles:20291102T190000
DTEND;TZID=America/Los_Angeles:20291102T203000
DTSTAMP:20260425T201339
CREATED:20251213T192934Z
LAST-MODIFIED:20251213T192935Z
UID:10043385-1888340400-1888345800@sandalschurch.com
SUMMARY:Open Share Groups
DESCRIPTION:This is a safe space to get REAL with yourself\, God and others as you work through your hurts\, habits and hangups in gender specific groups. \nWhen: Fridays at 7:00 PM\nWhere: Sandals Church Anaheim Patio\nWho: Ages 18+ \n*Bring your dinner at 6:30 PM and hang out before groups start\n*No childcare provided \n 
URL:https://sandalschurch.com/event/open-share-groups-2/2029-11-02/
LOCATION:Anaheim\, 622 N Gilbert St\, Anaheim\, CA\, 92801\, United States
CATEGORIES:Groups
END:VEVENT
BEGIN:VEVENT
DTSTART;TZID=America/Los_Angeles:20291104T083000
DTEND;TZID=America/Los_Angeles:20291104T083000
DTSTAMP:20260425T201339
CREATED:20250902T224149Z
LAST-MODIFIED:20250902T224204Z
UID:10040412-1888475400-1888475400@sandalschurch.com
SUMMARY:Service
DESCRIPTION:Experience the richness of gathering as a community. It’s a time of depth\, growth\, learning\, and true connection. Through meaningful teachings\, singing\, and shared stories\, we find understanding and inspiration that can reach something deeper within us.
URL:https://sandalschurch.com/event/anah-sun-830am-service/2029-11-04/
LOCATION:Anaheim\, 622 N Gilbert St\, Anaheim\, CA\, 92801\, United States
CATEGORIES:Service
ATTACH;FMTTYPE=image/jpeg:https://sandalschurch.com/wp-content/uploads/2024/10/20230305-WC-SERVICE-JRH-22-scaled.jpg
END:VEVENT
BEGIN:VEVENT
DTSTART;TZID=America/Los_Angeles:20291104T094500
DTEND;TZID=America/Los_Angeles:20291104T094500
DTSTAMP:20260425T201339
CREATED:20250902T224652Z
LAST-MODIFIED:20250902T224707Z
UID:10040672-1888479900-1888479900@sandalschurch.com
SUMMARY:Service
DESCRIPTION:Experience the richness of gathering as a community. It’s a time of depth\, growth\, learning\, and true connection. Through meaningful teachings\, singing\, and shared stories\, we find understanding and inspiration that can reach something deeper within us.
URL:https://sandalschurch.com/event/anah-sun-945am-service/2029-11-04/
LOCATION:Anaheim\, 622 N Gilbert St\, Anaheim\, CA\, 92801\, United States
CATEGORIES:Service
ATTACH;FMTTYPE=image/jpeg:https://sandalschurch.com/wp-content/uploads/2024/10/20230305-WC-SERVICE-JRH-22-scaled.jpg
END:VEVENT
BEGIN:VEVENT
DTSTART;TZID=America/Los_Angeles:20291104T111500
DTEND;TZID=America/Los_Angeles:20291104T111500
DTSTAMP:20260425T201339
CREATED:20241017T185701Z
LAST-MODIFIED:20250109T172417Z
UID:10025082-1888485300-1888485300@sandalschurch.com
SUMMARY:Service
DESCRIPTION:Experience the richness of gathering as a community. It’s a time of depth\, growth\, learning\, and true connection. Through meaningful teachings\, singing\, and shared stories\, we find understanding and inspiration that can reach something deeper within us.
URL:https://sandalschurch.com/event/anah-sun-1115am-service/2029-11-04/
LOCATION:Anaheim\, 622 N Gilbert St\, Anaheim\, CA\, 92801\, United States
CATEGORIES:Service
ATTACH;FMTTYPE=image/jpeg:https://sandalschurch.com/wp-content/uploads/2024/10/20230305-WC-SERVICE-JRH-22-scaled.jpg
END:VEVENT
BEGIN:VEVENT
DTSTART;TZID=America/Los_Angeles:20291106T190000
DTEND;TZID=America/Los_Angeles:20291106T210000
DTSTAMP:20260425T201339
CREATED:20250108T212739Z
LAST-MODIFIED:20250318T203825Z
UID:10024271-1888686000-1888693200@sandalschurch.com
SUMMARY:YOUNG ADULTS
DESCRIPTION:Young Adult Small Groups for ages 18-30ish \n7:00 PM in Building 1
URL:https://sandalschurch.com/event/young-adults/2029-11-06/
LOCATION:Anaheim\, 622 N Gilbert St\, Anaheim\, CA\, 92801\, United States
CATEGORIES:Groups
END:VEVENT
BEGIN:VEVENT
DTSTART;TZID=America/Los_Angeles:20291107T183000
DTEND;TZID=America/Los_Angeles:20291107T210000
DTSTAMP:20260425T201339
CREATED:20250108T211302Z
LAST-MODIFIED:20250622T050519Z
UID:10024011-1888770600-1888779600@sandalschurch.com
SUMMARY:SANDALS CHURCH YOUTH
DESCRIPTION:Wednesday night service and small groups for students and teens\, Grades 6-12th\, at 6:30 PM.
URL:https://sandalschurch.com/event/sandals-church-youth-2/2029-11-07/
LOCATION:Anaheim\, 622 N Gilbert St\, Anaheim\, CA\, 92801\, United States
CATEGORIES:Youth
END:VEVENT
BEGIN:VEVENT
DTSTART;TZID=America/Los_Angeles:20291109T190000
DTEND;TZID=America/Los_Angeles:20291109T203000
DTSTAMP:20260425T201339
CREATED:20251213T192934Z
LAST-MODIFIED:20251213T192935Z
UID:10043386-1888945200-1888950600@sandalschurch.com
SUMMARY:Open Share Groups
DESCRIPTION:This is a safe space to get REAL with yourself\, God and others as you work through your hurts\, habits and hangups in gender specific groups. \nWhen: Fridays at 7:00 PM\nWhere: Sandals Church Anaheim Patio\nWho: Ages 18+ \n*Bring your dinner at 6:30 PM and hang out before groups start\n*No childcare provided \n 
URL:https://sandalschurch.com/event/open-share-groups-2/2029-11-09/
LOCATION:Anaheim\, 622 N Gilbert St\, Anaheim\, CA\, 92801\, United States
CATEGORIES:Groups
END:VEVENT
BEGIN:VEVENT
DTSTART;TZID=America/Los_Angeles:20291111T083000
DTEND;TZID=America/Los_Angeles:20291111T083000
DTSTAMP:20260425T201339
CREATED:20250902T224149Z
LAST-MODIFIED:20250902T224204Z
UID:10040413-1889080200-1889080200@sandalschurch.com
SUMMARY:Service
DESCRIPTION:Experience the richness of gathering as a community. It’s a time of depth\, growth\, learning\, and true connection. Through meaningful teachings\, singing\, and shared stories\, we find understanding and inspiration that can reach something deeper within us.
URL:https://sandalschurch.com/event/anah-sun-830am-service/2029-11-11/
LOCATION:Anaheim\, 622 N Gilbert St\, Anaheim\, CA\, 92801\, United States
CATEGORIES:Service
ATTACH;FMTTYPE=image/jpeg:https://sandalschurch.com/wp-content/uploads/2024/10/20230305-WC-SERVICE-JRH-22-scaled.jpg
END:VEVENT
BEGIN:VEVENT
DTSTART;TZID=America/Los_Angeles:20291111T094500
DTEND;TZID=America/Los_Angeles:20291111T094500
DTSTAMP:20260425T201339
CREATED:20250902T224652Z
LAST-MODIFIED:20250902T224707Z
UID:10040673-1889084700-1889084700@sandalschurch.com
SUMMARY:Service
DESCRIPTION:Experience the richness of gathering as a community. It’s a time of depth\, growth\, learning\, and true connection. Through meaningful teachings\, singing\, and shared stories\, we find understanding and inspiration that can reach something deeper within us.
URL:https://sandalschurch.com/event/anah-sun-945am-service/2029-11-11/
LOCATION:Anaheim\, 622 N Gilbert St\, Anaheim\, CA\, 92801\, United States
CATEGORIES:Service
ATTACH;FMTTYPE=image/jpeg:https://sandalschurch.com/wp-content/uploads/2024/10/20230305-WC-SERVICE-JRH-22-scaled.jpg
END:VEVENT
BEGIN:VEVENT
DTSTART;TZID=America/Los_Angeles:20291111T111500
DTEND;TZID=America/Los_Angeles:20291111T111500
DTSTAMP:20260425T201339
CREATED:20241017T185701Z
LAST-MODIFIED:20250109T172417Z
UID:10025083-1889090100-1889090100@sandalschurch.com
SUMMARY:Service
DESCRIPTION:Experience the richness of gathering as a community. It’s a time of depth\, growth\, learning\, and true connection. Through meaningful teachings\, singing\, and shared stories\, we find understanding and inspiration that can reach something deeper within us.
URL:https://sandalschurch.com/event/anah-sun-1115am-service/2029-11-11/
LOCATION:Anaheim\, 622 N Gilbert St\, Anaheim\, CA\, 92801\, United States
CATEGORIES:Service
ATTACH;FMTTYPE=image/jpeg:https://sandalschurch.com/wp-content/uploads/2024/10/20230305-WC-SERVICE-JRH-22-scaled.jpg
END:VEVENT
BEGIN:VEVENT
DTSTART;TZID=America/Los_Angeles:20291113T190000
DTEND;TZID=America/Los_Angeles:20291113T210000
DTSTAMP:20260425T201339
CREATED:20250108T212739Z
LAST-MODIFIED:20250318T203825Z
UID:10024272-1889290800-1889298000@sandalschurch.com
SUMMARY:YOUNG ADULTS
DESCRIPTION:Young Adult Small Groups for ages 18-30ish \n7:00 PM in Building 1
URL:https://sandalschurch.com/event/young-adults/2029-11-13/
LOCATION:Anaheim\, 622 N Gilbert St\, Anaheim\, CA\, 92801\, United States
CATEGORIES:Groups
END:VEVENT
BEGIN:VEVENT
DTSTART;TZID=America/Los_Angeles:20291114T183000
DTEND;TZID=America/Los_Angeles:20291114T210000
DTSTAMP:20260425T201339
CREATED:20250108T211302Z
LAST-MODIFIED:20250622T050519Z
UID:10024012-1889375400-1889384400@sandalschurch.com
SUMMARY:SANDALS CHURCH YOUTH
DESCRIPTION:Wednesday night service and small groups for students and teens\, Grades 6-12th\, at 6:30 PM.
URL:https://sandalschurch.com/event/sandals-church-youth-2/2029-11-14/
LOCATION:Anaheim\, 622 N Gilbert St\, Anaheim\, CA\, 92801\, United States
CATEGORIES:Youth
END:VEVENT
BEGIN:VEVENT
DTSTART;TZID=America/Los_Angeles:20291116T190000
DTEND;TZID=America/Los_Angeles:20291116T203000
DTSTAMP:20260425T201339
CREATED:20251213T192934Z
LAST-MODIFIED:20251213T192935Z
UID:10043387-1889550000-1889555400@sandalschurch.com
SUMMARY:Open Share Groups
DESCRIPTION:This is a safe space to get REAL with yourself\, God and others as you work through your hurts\, habits and hangups in gender specific groups. \nWhen: Fridays at 7:00 PM\nWhere: Sandals Church Anaheim Patio\nWho: Ages 18+ \n*Bring your dinner at 6:30 PM and hang out before groups start\n*No childcare provided \n 
URL:https://sandalschurch.com/event/open-share-groups-2/2029-11-16/
LOCATION:Anaheim\, 622 N Gilbert St\, Anaheim\, CA\, 92801\, United States
CATEGORIES:Groups
END:VEVENT
BEGIN:VEVENT
DTSTART;TZID=America/Los_Angeles:20291118T083000
DTEND;TZID=America/Los_Angeles:20291118T083000
DTSTAMP:20260425T201339
CREATED:20250902T224149Z
LAST-MODIFIED:20250902T224204Z
UID:10040414-1889685000-1889685000@sandalschurch.com
SUMMARY:Service
DESCRIPTION:Experience the richness of gathering as a community. It’s a time of depth\, growth\, learning\, and true connection. Through meaningful teachings\, singing\, and shared stories\, we find understanding and inspiration that can reach something deeper within us.
URL:https://sandalschurch.com/event/anah-sun-830am-service/2029-11-18/
LOCATION:Anaheim\, 622 N Gilbert St\, Anaheim\, CA\, 92801\, United States
CATEGORIES:Service
ATTACH;FMTTYPE=image/jpeg:https://sandalschurch.com/wp-content/uploads/2024/10/20230305-WC-SERVICE-JRH-22-scaled.jpg
END:VEVENT
BEGIN:VEVENT
DTSTART;TZID=America/Los_Angeles:20291118T094500
DTEND;TZID=America/Los_Angeles:20291118T094500
DTSTAMP:20260425T201339
CREATED:20250902T224652Z
LAST-MODIFIED:20250902T224707Z
UID:10040674-1889689500-1889689500@sandalschurch.com
SUMMARY:Service
DESCRIPTION:Experience the richness of gathering as a community. It’s a time of depth\, growth\, learning\, and true connection. Through meaningful teachings\, singing\, and shared stories\, we find understanding and inspiration that can reach something deeper within us.
URL:https://sandalschurch.com/event/anah-sun-945am-service/2029-11-18/
LOCATION:Anaheim\, 622 N Gilbert St\, Anaheim\, CA\, 92801\, United States
CATEGORIES:Service
ATTACH;FMTTYPE=image/jpeg:https://sandalschurch.com/wp-content/uploads/2024/10/20230305-WC-SERVICE-JRH-22-scaled.jpg
END:VEVENT
BEGIN:VEVENT
DTSTART;TZID=America/Los_Angeles:20291118T111500
DTEND;TZID=America/Los_Angeles:20291118T111500
DTSTAMP:20260425T201339
CREATED:20241017T185701Z
LAST-MODIFIED:20250109T172417Z
UID:10025084-1889694900-1889694900@sandalschurch.com
SUMMARY:Service
DESCRIPTION:Experience the richness of gathering as a community. It’s a time of depth\, growth\, learning\, and true connection. Through meaningful teachings\, singing\, and shared stories\, we find understanding and inspiration that can reach something deeper within us.
URL:https://sandalschurch.com/event/anah-sun-1115am-service/2029-11-18/
LOCATION:Anaheim\, 622 N Gilbert St\, Anaheim\, CA\, 92801\, United States
CATEGORIES:Service
ATTACH;FMTTYPE=image/jpeg:https://sandalschurch.com/wp-content/uploads/2024/10/20230305-WC-SERVICE-JRH-22-scaled.jpg
END:VEVENT
END:VCALENDAR